Workbook
Name D11NR_D: #REF!
Name D11NR_F: #REF!
Name D11SR_D: #REF!
Name D11SR_F: #REF!
Name D13_D: #REF!
Name D13_F: #REF!
Name D14_D: #REF!
Name D14_F: #REF!
Name D17_D: #REF!
Name D1NR_D: #REF!
Name D1NR_F: #REF!
Name D1SR_D: #REF!
Name D1SR_F: #REF!
Name D5NR_D: #REF!
Name D5NR_F: #REF!
Name D5SR_D: #REF!
Name D5SR_F: #REF!
Name D7_D: #REF!
Name D7_F: #REF!
Name D8CR_D: #REF!
Name D8CR_F: #REF!
Name D8ER_D: #REF!
Name D8ER_F: #REF!
Name D8WR_D: #REF!
Name D8WR_F: #REF!
Name D9CR_D: #REF!
Name D9CR_F: #REF!
Name D9ER_D: #REF!
Name D9ER_F: #REF!
Name D9WR_D: #REF!
Name D9WR_F: #REF!
Name Districts: #REF!
Name Divisions: #REF!
Name Flotillas: #REF!
Name OtherDist7: #REF!

Sheet ALL_AUX
C3: ALL AUXILIARY | K3: AUXWATCH
C6: =CONCATENATE(Date_Control!C3," ",Date_Control!C6) -> October 2026 | K6: EXECUTIVE SUMMARY
C8: Bar tops in past years denote full year values
C9: Darker bars denote year to date values
C11: For each year to date, all work in AUXDATA II
C12: =CONCATENATE("is shown if performed before the first day of ",Date_Control!$C$3) -> is shown if performed before the first day of October
C13: and approved.
C15: =CONCATENATE("Membership numbers are as of the first day of ", Date_Control!$C$3) -> Membership numbers are as of the first day of October
C16: for each reported year.
C18: =CONCATENATE("Facility numbers are as of the first day of ", Date_Control!$C$1) -> Facility numbers are as of the first day of
C19: for the current year, and End-of-Year for previous years.
C26: ALL AUXILIARY
C30: RECREATIONAL
C32: BOATING
C34: SAFETY
C49: ALL AUXILIARY
C53: RESPONSE
C55: &
C57: PREVENTION
C72: ALL AUXILIARY
C76: MISSION
C78: SUPPORT
... C124: FACILITIES
A200: v2.3

Sheet 013 NE-NR
C3: =Data_Membership!C$2 -> NORTHEAST DISTRICT - NORTHERN REGION | E3: 13 | K3: AUXWATCH
C6: =CONCATENATE(Date_Control!C3," ",Date_Control!C6) -> October 2026 | K6: EXECUTIVE SUMMARY
C9: Bar tops in past years denote full year values
C10: Darker bars denote year to date values
C12: For each year to date, all work in AUXDATA II
C13: =CONCATENATE("is shown if performed before the first day of ",Date_Control!$C$3) -> is shown if performed before the first day of October
C14: and approved.
C16: =CONCATENATE("Membership numbers are as of the first day of ", Date_Control!$C$1) -> Membership numbers are as of the first day of
C17: for each reported year.
C19: =CONCATENATE("Facility numbers are as of the first day of ", Date_Control!$C$1) -> Facility numbers are as of the first day of
C20: for the current year, and End-of-Year for previous years.
C26: =Data_Membership!C$2 -> NORTHEAST DISTRICT - NORTHERN REGION
C30: RECREATIONAL
C32: BOATING
C34: SAFETY
C49: =Data_Membership!C$2 -> NORTHEAST DISTRICT - NORTHERN REGION
C53: RESPONSE
C55: &
C57: PREVENTION
C72: =Data_Membership!C$2 -> NORTHEAST DISTRICT - NORTHERN REGION
C76: MISSION
C78: SUPPORT
C95: =Data_Membership!C$2 -> NORTHEAST DISTRICT - NORTHERN REGION
C99: COAST GUARD
C101: AUGMENTATION
C118: =Data_Membership!C$2 -> NORTHEAST DISTRICT - NORTHERN REGION
C122: OPERATIONAL
C124: FACILITIES

Sheet 014 NE-SR
C3: =Data_Membership!C$3 -> NORTHEAST DISTRICT - SOUTHERN REGION | K3: AUXWATCH
C6: =CONCATENATE(Date_Control!C3," ",Date_Control!C6) -> October 2026 | K6: EXECUTIVE SUMMARY
C9: Bar tops in past years denote full year values
C10: Darker bars denote year to date values
C12: For each year to date, all work in AUXDATA II
C13: =CONCATENATE("is shown if performed before the first day of ",Date_Control!$C$3) -> is shown if performed before the first day of October
C14: and approved.
C16: =CONCATENATE("Membership numbers areas of the first day of ", Date_Control!$C$1) -> Membership numbers areas of the first day of
C17: for each reported year.
C19: =CONCATENATE("Facility numbers are as of the first day of ", Date_Control!$C$1) -> Facility numbers are as of the first day of
C20: for the current year, and End-of-Year for previous years.
C26: =Data_Membership!C$3 -> NORTHEAST DISTRICT - SOUTHERN REGION
C30: RECREATIONAL
C32: BOATING
C34: SAFETY
C49: =Data_Membership!C$3 -> NORTHEAST DISTRICT - SOUTHERN REGION
C53: RESPONSE
C55: &
C57: PREVENTION
C72: =Data_Membership!C$3 -> NORTHEAST DISTRICT - SOUTHERN REGION
C76: MISSION
C78: SUPPORT
C95: =Data_Membership!C$3 -> NORTHEAST DISTRICT - SOUTHERN REGION
C99: COAST GUARD
C101: AUGMENTATION
C118: =Data_Membership!C$3 -> NORTHEAST DISTRICT - SOUTHERN REGION
C122: OPERATIONAL
C124: FACILITIES

Sheet 053 E-NR
C3: =Data_Membership!C$4 -> EAST DISTRICT - NORTHERN REGION | K3: AUXWATCH
C6: =CONCATENATE(Date_Control!C3," ",Date_Control!C6) -> October 2026 | K6: EXECUTIVE SUMMARY
C9: Bar tops in past years denote full year values
C10: Darker bars denote year to date values
C12: For each year to date, all work in AUXDATA II
C13: =CONCATENATE("is shown if performed before the first day of ",Date_Control!$C$3) -> is shown if performed before the first day of October
C14: and approved.
C16: =CONCATENATE("Membership numbers areas of the first day of ", Date_Control!$C$1) -> Membership numbers areas of the first day of
C17: for each reported year.
C19: =CONCATENATE("Facility numbers are as of the first day of ", Date_Control!$C$1) -> Facility numbers are as of the first day of
C20: for the current year, and End-of-Year for previous years.
C26: =Data_Membership!C$4 -> EAST DISTRICT - NORTHERN REGION
C30: RECREATIONAL
C32: BOATING
C34: SAFETY
C49: =Data_Membership!C$4 -> EAST DISTRICT - NORTHERN REGION
C53: RESPONSE
C55: &
C57: PREVENTION
C72: =Data_Membership!C$4 -> EAST DISTRICT - NORTHERN REGION
C76: MISSION
C78: SUPPORT
C95: =Data_Membership!C$4 -> EAST DISTRICT - NORTHERN REGION
C99: COAST GUARD
C101: AUGMENTATION
C120: =Data_Membership!C$4 -> EAST DISTRICT - NORTHERN REGION
C124: OPERATIONAL
C126: FACILITIES

Sheet 054 E-SR
C3: =Data_Membership!C$5 -> EAST DISTRICT - SOUTHERN REGION | K3: AUXWATCH
C6: =CONCATENATE(Date_Control!C3," ",Date_Control!C6) -> October 2026 | K6: EXECUTIVE SUMMARY
C9: Bar tops in past years denote full year values
C10: Darker bars denote year to date values
C12: For each year to date, all work in AUXDATA II
C13: =CONCATENATE("is shown if performed before the first day of ",Date_Control!$C$3) -> is shown if performed before the first day of October
C14: and approved.
C16: =CONCATENATE("Membership numbers areas of the first day of ", Date_Control!$C$3) -> Membership numbers areas of the first day of October
C17: for each reported year.
C19: =CONCATENATE("Facility numbers are as of the first day of ", Date_Control!$C$1) -> Facility numbers are as of the first day of
C20: for the current year, and End-of-Year for previous years.
C26: =Data_Membership!C$5 -> EAST DISTRICT - SOUTHERN REGION
C30: RECREATIONAL
C32: BOATING
C34: SAFETY
C49: =Data_Membership!C$5 -> EAST DISTRICT - SOUTHERN REGION
C53: RESPONSE
C55: &
C57: PREVENTION
C72: =Data_Membership!C$5 -> EAST DISTRICT - SOUTHERN REGION
C76: MISSION
C78: SUPPORT
C95: =Data_Membership!C$5 -> EAST DISTRICT - SOUTHERN REGION
C99: COAST GUARD
C101: AUGMENTATION
C118: =Data_Membership!C$5 -> EAST DISTRICT - SOUTHERN REGION
C122: OPERATIONAL
C124: FACILITIES

Sheet 070 SE
C3: =Data_Membership!C$6 -> SOUTHEAST DISTRICT | K3: AUXWATCH
C6: =CONCATENATE(Date_Control!C3," ",Date_Control!C6) -> October 2026 | K6: EXECUTIVE SUMMARY
C9: Darker bars denote year to date values
C10: Bar tops in past years denote full year values
C12: For each year to date, all work in AUXDATA II
C13: =CONCATENATE("is shown if performed before the first day of ",Date_Control!$C$3) -> is shown if performed before the first day of October
C14: and approved.
C16: =CONCATENATE("Membership numbers areas of the first day of ", Date_Control!$C$1) -> Membership numbers areas of the first day of
C17: for each reported year.
C19: =CONCATENATE("Facility numbers are as of the first day of ", Date_Control!$C$1) -> Facility numbers are as of the first day of
C20: for the current year, and End-of-Year for previous years.
C26: =Data_Membership!C$6 -> SOUTHEAST DISTRICT
C30: RECREATIONAL
C32: BOATING
C34: SAFETY
C49: =Data_Membership!C$6 -> SOUTHEAST DISTRICT
C53: RESPONSE
C55: &
C57: PREVENTION
C72: =Data_Membership!C$6 -> SOUTHEAST DISTRICT
C76: MISSION
C78: SUPPORT
C95: =Data_Membership!C$6 -> SOUTHEAST DISTRICT
C99: COAST GUARD
C101: AUGMENTATION
C118: =Data_Membership!C$6 -> SOUTHEAST DISTRICT
C122: OPERATIONAL
C124: FACILITIES

Sheet 081 H-CR
C3: =Data_Membership!C$7 -> HEARTLAND DISTRICT - COASTAL REGION | K3: AUXWATCH
C6: =CONCATENATE(Date_Control!C3," ",Date_Control!C6) -> October 2026 | K6: EXECUTIVE SUMMARY
C9: Bar tops in past years denote full year values
C10: Darker bars denote year to date values
C12: For each year to date, all work in AUXDATA II
C13: =CONCATENATE("is shown if performed before the first day of ",Date_Control!$C$3) -> is shown if performed before the first day of October
C14: and approved.
C16: =CONCATENATE("Membership numbers areas of the first day of ", Date_Control!$C$1) -> Membership numbers areas of the first day of
C17: for each reported year.
C19: =CONCATENATE("Facility numbers are as of the first day of ", Date_Control!$C$1) -> Facility numbers are as of the first day of
C20: for the current year, and End-of-Year for previous years.
C26: =Data_Membership!C$7 -> HEARTLAND DISTRICT - COASTAL REGION
C30: RECREATIONAL
C32: BOATING
C34: SAFETY
C49: =Data_Membership!C$7 -> HEARTLAND DISTRICT - COASTAL REGION
C53: RESPONSE
C55: &
C57: PREVENTION
C72: =Data_Membership!C$7 -> HEARTLAND DISTRICT - COASTAL REGION
C76: MISSION
C78: SUPPORT
C95: =Data_Membership!C$7 -> HEARTLAND DISTRICT - COASTAL REGION
C99: COAST GUARD
C101: AUGMENTATION
C118: =Data_Membership!C$7 -> HEARTLAND DISTRICT - COASTAL REGION
C122: OPERATIONAL
C124: FACILITIES

Sheet 082 H-ER
C3: =Data_Membership!C$8 -> HEARTLAND DISTRICT - EASTERN REGION | K3: AUXWATCH
C6: =CONCATENATE(Date_Control!C3," ",Date_Control!C6) -> October 2026 | K6: EXECUTIVE SUMMARY
C9: Bar tops in past years denote full year values
C10: Darker bars denote year to date values
C12: For each year to date, all work in AUXDATA II
C13: =CONCATENATE("is shown if performed before the first day of ",Date_Control!$C$3) -> is shown if performed before the first day of October
C14: and approved.
C16: =CONCATENATE("Membership numbers areas of the first day of ", Date_Control!$C$1) -> Membership numbers areas of the first day of
C17: for each reported year.
C19: =CONCATENATE("Facility numbers are as of the first day of ", Date_Control!$C$1) -> Facility numbers are as of the first day of
C20: for the current year, and End-of-Year for previous years.
C26: =Data_Membership!C$8 -> HEARTLAND DISTRICT - EASTERN REGION
C30: RECREATIONAL
C32: BOATING
C34: SAFETY
C49: =Data_Membership!C$8 -> HEARTLAND DISTRICT - EASTERN REGION
C53: RESPONSE
C55: &
C57: PREVENTION
C72: =Data_Membership!C$8 -> HEARTLAND DISTRICT - EASTERN REGION
C76: MISSION
C78: SUPPORT
C97: =Data_Membership!C$8 -> HEARTLAND DISTRICT - EASTERN REGION
C101: COAST GUARD
C103: AUGMENTATION
C122: =Data_Membership!C$8 -> HEARTLAND DISTRICT - EASTERN REGION
C126: OPERATIONAL
C128: FACILITIES

Sheet 085 H-WR
C3: =Data_Membership!C$9 -> HEARTLAND DISTRICT - WESTERN REGION | K3: AUXWATCH
C6: =CONCATENATE(Date_Control!C3," ",Date_Control!C6) -> October 2026 | K6: EXECUTIVE SUMMARY
C9: Bar tops in past years denote full year values
C10: Darker bars denote year to date values
C12: For each year to date, all work in AUXDATA II
C13: =CONCATENATE("is shown if performed before the first day of ",Date_Control!$C$3) -> is shown if performed before the first day of October
C14: and approved.
C16: =CONCATENATE("Membership numbers areas of the first day of ", Date_Control!$C$1) -> Membership numbers areas of the first day of
C17: for each reported year.
C19: =CONCATENATE("Facility numbers are as of the first day of ", Date_Control!$C$1) -> Facility numbers are as of the first day of
C20: for the current year, and End-of-Year for previous years.
C26: =Data_Membership!C$9 -> HEARTLAND DISTRICT - WESTERN REGION
C30: RECREATIONAL
C32: BOATING
C34: SAFETY
C49: =Data_Membership!C$9 -> HEARTLAND DISTRICT - WESTERN REGION
C53: RESPONSE
C55: &
C57: PREVENTION
C72: =Data_Membership!C$9 -> HEARTLAND DISTRICT - WESTERN REGION
C76: MISSION
C78: SUPPORT
C95: =Data_Membership!C$9 -> HEARTLAND DISTRICT - WESTERN REGION
C99: COAST GUARD
C101: AUGMENTATION
C118: =Data_Membership!C$9 -> HEARTLAND DISTRICT - WESTERN REGION
C122: OPERATIONAL
C124: FACILITIES

Sheet 091 GL-CR
C3: =Data_Membership!C$10 -> GREAT LAKES DISTRICT - CENTRAL REGION | K3: AUXWATCH
C6: =CONCATENATE(Date_Control!C3," ",Date_Control!C6) -> October 2026 | K6: EXECUTIVE SUMMARY
C9: Bar tops in past years denote full year values
C10: Darker bars denote year to date values
C12: For each year to date, all work in AUXDATA II
C13: =CONCATENATE("is shown if performed before the first day of ",Date_Control!$C$3) -> is shown if performed before the first day of October
C14: and approved.
C16: =CONCATENATE("Membership numbers areas of the first day of ", Date_Control!$C$1) -> Membership numbers areas of the first day of
C17: for each reported year.
C19: =CONCATENATE("Facility numbers are as of the first day of ", Date_Control!$C$1) -> Facility numbers are as of the first day of
C20: for the current year, and End-of-Year for previous years.
C26: =Data_Membership!C$10 -> GREAT LAKES DISTRICT - CENTRAL REGION
C30: RECREATIONAL
C32: BOATING
C34: SAFETY
C49: =Data_Membership!C$10 -> GREAT LAKES DISTRICT - CENTRAL REGION
C53: RESPONSE
C55: &
C57: PREVENTION
C72: =Data_Membership!C$10 -> GREAT LAKES DISTRICT - CENTRAL REGION
C76: MISSION
C78: SUPPORT
C95: =Data_Membership!C$10 -> GREAT LAKES DISTRICT - CENTRAL REGION
C99: COAST GUARD
C101: AUGMENTATION
C118: =Data_Membership!C$10 -> GREAT LAKES DISTRICT - CENTRAL REGION
C122: OPERATIONAL
C124: FACILITIES

Sheet 092 GL-ER
C3: =Data_Membership!C$11 -> GREAT LAKES DISTRICT - EASTERN REGION | K3: AUXWATCH
C6: =CONCATENATE(Date_Control!C3," ",Date_Control!C6) -> October 2026 | K6: EXECUTIVE SUMMARY
C9: Bar tops in past years denote full year values
C10: Darker bars denote year to date values
C12: For each year to date, all work in AUXDATA II
C13: =CONCATENATE("is shown if performed before the first day of ",Date_Control!$C$3) -> is shown if performed before the first day of October
C14: and approved.
C16: =CONCATENATE("Membership numbers areas of the first day of ", Date_Control!$C$1) -> Membership numbers areas of the first day of
C17: for each reported year.
C19: =CONCATENATE("Facility numbers are as of the first day of ", Date_Control!$C$1) -> Facility numbers are as of the first day of
C20: for the current year, and End-of-Year for previous years.
C26: =Data_Membership!C$11 -> GREAT LAKES DISTRICT - EASTERN REGION
C30: RECREATIONAL
C32: BOATING
C34: SAFETY
C49: =Data_Membership!C$11 -> GREAT LAKES DISTRICT - EASTERN REGION
C53: RESPONSE
C55: &
C57: PREVENTION
C72: =Data_Membership!C$11 -> GREAT LAKES DISTRICT - EASTERN REGION
C76: MISSION
C78: SUPPORT
C95: =Data_Membership!C$11 -> GREAT LAKES DISTRICT - EASTERN REGION
C99: COAST GUARD
C101: AUGMENTATION
C118: =Data_Membership!C$11 -> GREAT LAKES DISTRICT - EASTERN REGION
C122: OPERATIONAL
C124: FACILITIES

Sheet 095 GL-WR
C3: =Data_Membership!C$12 -> GREAT LAKES DISTRICT - WESTERN REGION | K3: AUXWATCH
C6: =CONCATENATE(Date_Control!C3," ",Date_Control!C6) -> October 2026 | K6: EXECUTIVE SUMMARY
C9: Bar tops in past years denote full year values
C10: Darker bars denote year to date values
C12: For each year to date, all work in AUXDATA II
C13: =CONCATENATE("is shown if performed before the first day of ",Date_Control!$C$3) -> is shown if performed before the first day of October
C14: and approved.
C16: =CONCATENATE("Membership numbers areas of the first day of ", Date_Control!$C$1) -> Membership numbers areas of the first day of
C17: for each reported year.
C19: =CONCATENATE("Facility numbers are as of the first day of ", Date_Control!$C$1) -> Facility numbers are as of the first day of
C20: for the current year, and End-of-Year for previous years.
C26: =Data_Membership!C$12 -> GREAT LAKES DISTRICT - WESTERN REGION
C30: RECREATIONAL
C32: BOATING
C34: SAFETY
C49: =Data_Membership!C$12 -> GREAT LAKES DISTRICT - WESTERN REGION
C53: RESPONSE
C55: &
C57: PREVENTION
C72: =Data_Membership!C$12 -> GREAT LAKES DISTRICT - WESTERN REGION
C76: MISSION
C78: SUPPORT
C95: =Data_Membership!C$12 -> GREAT LAKES DISTRICT - WESTERN REGION
C99: COAST GUARD
C101: AUGMENTATION
C118: =Data_Membership!C$12 -> GREAT LAKES DISTRICT - WESTERN REGION
C122: OPERATIONAL
C124: FACILITIES

Sheet 113 SW-NR
C3: =Data_Membership!C$13 -> SOUTHWEST DISTRICT - NORTHERN REGION | K3: AUXWATCH
C6: =CONCATENATE(Date_Control!C3," ",Date_Control!C6) -> October 2026 | K6: EXECUTIVE SUMMARY
C9: Bar tops in past years denote full year values
C10: Darker bars denote year to date values
C12: For each year to date, all work in AUXDATA II
C13: =CONCATENATE("is shown if performed before the first day of ",Date_Control!$C$3) -> is shown if performed before the first day of October
C14: and approved.
C16: =CONCATENATE("Membership numbers areas of the first day of ", Date_Control!$C$1) -> Membership numbers areas of the first day of
C17: for each reported year.
C19: =CONCATENATE("Facility numbers are as of the first day of ", Date_Control!$C$1) -> Facility numbers are as of the first day of
C20: for the current year, and End-of-Year for previous years.
C26: =Data_Membership!C$13 -> SOUTHWEST DISTRICT - NORTHERN REGION
C30: RECREATIONAL
C32: BOATING
C34: SAFETY
C49: =Data_Membership!C$13 -> SOUTHWEST DISTRICT - NORTHERN REGION
C53: RESPONSE
C55: &
C57: PREVENTION
C72: =Data_Membership!C$13 -> SOUTHWEST DISTRICT - NORTHERN REGION
C76: MISSION
C78: SUPPORT
C95: =Data_Membership!C$13 -> SOUTHWEST DISTRICT - NORTHERN REGION
C99: COAST GUARD
C101: AUGMENTATION
C120: =Data_Membership!C$13 -> SOUTHWEST DISTRICT - NORTHERN REGION
C124: OPERATIONAL
C126: FACILITIES

Sheet 114 SW-SR
C3: =Data_Membership!C$14 -> SOUTHWEST DISTRICT - SOUTHERN REGION | K3: AUXWATCH
C6: =CONCATENATE(Date_Control!C3," ",Date_Control!C6) -> October 2026 | K6: EXECUTIVE SUMMARY
C9: Bar tops in past years denote full year values
C10: Darker bars denote year to date values
C12: For each year to date, all work in AUXDATA II
C13: =CONCATENATE("is shown if performed before the first day of ",Date_Control!$C$3) -> is shown if performed before the first day of October
C14: and approved.
C16: =CONCATENATE("Membership numbers areas of the first day of ", Date_Control!$C$3) -> Membership numbers areas of the first day of October
C17: for each reported year.
C19: =CONCATENATE("Facility numbers are as of the first day of ", Date_Control!$C$1) -> Facility numbers are as of the first day of
C20: for the current year, and End-of-Year for previous years.
C26: =Data_Membership!C$14 -> SOUTHWEST DISTRICT - SOUTHERN REGION
C30: RECREATIONAL
C32: BOATING
C34: SAFETY
C49: =Data_Membership!C$14 -> SOUTHWEST DISTRICT - SOUTHERN REGION
C53: RESPONSE
C55: &
C57: PREVENTION
C72: =Data_Membership!C$14 -> SOUTHWEST DISTRICT - SOUTHERN REGION
C76: MISSION
C78: SUPPORT
C95: =Data_Membership!C$14 -> SOUTHWEST DISTRICT - SOUTHERN REGION
C99: COAST GUARD
C101: AUGMENTATION
C118: =Data_Membership!C$14 -> SOUTHWEST DISTRICT - SOUTHERN REGION
C122: OPERATIONAL
C124: FACILITIES

Sheet 130 NW
C3: =Data_Membership!C$15 -> NORTHWEST DISTRICT | K3: AUXWATCH
C6: =CONCATENATE(Date_Control!C3," ",Date_Control!C6) -> October 2026 | K6: EXECUTIVE SUMMARY
C9: Bar tops in past years denote full year values
C10: Darker bars denote year to date values
C12: For each year to date, all work in AUXDATA II
C13: =CONCATENATE("is shown if performed before the first day of ",Date_Control!$C$3) -> is shown if performed before the first day of October
C14: and approved.
C16: =CONCATENATE("Membership numbers areas of the first day of ", Date_Control!$C$1) -> Membership numbers areas of the first day of
C17: for each reported year.
C19: =CONCATENATE("Facility numbers are as of the first day of ", Date_Control!$C$1) -> Facility numbers are as of the first day of
C20: for the current year, and End-of-Year for previous years.
C26: =Data_Membership!C$15 -> NORTHWEST DISTRICT
C30: RECREATIONAL
C32: BOATING
C34: SAFETY
C49: =Data_Membership!C$15 -> NORTHWEST DISTRICT
C53: RESPONSE
C55: &
C57: PREVENTION
C72: =Data_Membership!C$15 -> NORTHWEST DISTRICT
C76: MISSION
C78: SUPPORT
C95: =Data_Membership!C$15 -> NORTHWEST DISTRICT
C99: COAST GUARD
C101: AUGMENTATION
C118: =Data_Membership!C$15 -> NORTHWEST DISTRICT
C122: OPERATIONAL
C124: FACILITIES

Sheet 140 O
C3: =Data_Membership!C$16 -> OCEANIA DISTRICT | K3: AUXWATCH
C6: =CONCATENATE(Date_Control!C3," ",Date_Control!C6) -> October 2026 | K6: EXECUTIVE SUMMARY
C9: Bar tops in past years denote full year values
C10: Darker bars denote year to date values
C12: For each year to date, all work in AUXDATA II
C13: =CONCATENATE("is shown if performed before the first day of ",Date_Control!$C$3) -> is shown if performed before the first day of October
C14: and approved.
C16: =CONCATENATE("Membership numbers areas of the first day of ", Date_Control!$C$1) -> Membership numbers areas of the first day of
C17: for each reported year.
C19: =CONCATENATE("Facility numbers are as of the first day of ", Date_Control!$C$1) -> Facility numbers are as of the first day of
C20: for the current year, and End-of-Year for previous years.
C26: =Data_Membership!C$16 -> OCEANIA DISTRICT
C30: RECREATIONAL
C32: BOATING
C34: SAFETY
C49: =Data_Membership!C$16 -> OCEANIA DISTRICT
C53: RESPONSE
C55: &
C57: PREVENTION
C72: =Data_Membership!C$16 -> OCEANIA DISTRICT
C76: MISSION
C78: SUPPORT
C95: =Data_Membership!C$16 -> OCEANIA DISTRICT
C99: COAST GUARD
C101: AUGMENTATION
C118: =Data_Membership!C$16 -> OCEANIA DISTRICT
C122: OPERATIONAL
C124: FACILITIES

Sheet 170 A
A1: `
C3: =Data_Membership!C$17 -> ARCTIC DISTRICT | K3: AUXWATCH
C6: =CONCATENATE(Date_Control!C3," ",Date_Control!C6) -> October 2026 | K6: EXECUTIVE SUMMARY
C9: Bar tops in past years denote full year values
C10: Darker bars denote year to date values
C12: For each year to date, all work in AUXDATA II
C13: =CONCATENATE("is shown if performed before the first day of ",Date_Control!$C$3) -> is shown if performed before the first day of October
C14: and approved.
C16: =CONCATENATE("Membership numbers areas of the first day of ", Date_Control!$C$1) -> Membership numbers areas of the first day of
C17: for each reported year.
C19: =CONCATENATE("Facility numbers are as of the first day of ", Date_Control!$C$1) -> Facility numbers are as of the first day of
C20: for the current year, and End-of-Year for previous years.
C26: =Data_Membership!C$17 -> ARCTIC DISTRICT
C30: RECREATIONAL
C32: BOATING
C34: SAFETY
C49: =Data_Membership!C$17 -> ARCTIC DISTRICT
C53: RESPONSE
C55: &
C57: PREVENTION
C72: =Data_Membership!C$17 -> ARCTIC DISTRICT
C76: MISSION
C78: SUPPORT
C95: =Data_Membership!C$17 -> ARCTIC DISTRICT
C99: COAST GUARD
C101: AUGMENTATION
C118: =Data_Membership!C$17 -> ARCTIC DISTRICT
C122: OPERATIONAL
C124: FACILITIES

Sheet Data_Boat
B1: Unit # | C1: District | D1: 2021 | E1: 2022 | F1: 2023 | G1: 2024 | H1: 2025 | I1: 2026 | K1: Unit # | L1: District | M1: 2021 | N1: 2022 | O1: 2023 | P1: 2024 | Q1: 2025 | R1: 2026
B2: 013 | C2: FIRST NORTHERN | D2: 1926.2 | E2: 1946.83 | F2: 2114.1 | G2: 2049.65 | H2: 1694.07 | I2: 2047.27 | K2: 013 | L2: FIRST NORTHERN | M2: 1832.6 | N2: 1882.99 | O2: 1945.7 | P2: 1883.9 | Q2: 1694.07 | R2: 2047.27 | T2: =MAX(D2:I2)*$V$2+1 -> 2136.241 | V2: 1.01
B3: 014 | C3: FIRST SOUTHERN | D3: 3371.11 | E3: 3490.91 | F3: 3560.71 | G3: 3098.33 | H3: 2115.65 | I3: 2176.86 | K3: 014 | L3: FIRST SOUTHERN | M3: 3283.91 | N3: 3362.66 | O3: 3549.71 | P3: 2979.49 | Q3: 2115.65 | R3: 2176.86 | T3: =MAX(D3:I3)*$V$2+1 -> 3597.3171
B4: 053 | C4: FIFTH NORTHERN | D4: 1563.75 | E4: 1674.3 | F4: 1604.24 | G4: 1595.62 | H4: 1461.21 | I4: 1121.26 | K4: 053 | L4: FIFTH NORTHERN | M4: 1419.5 | N4: 1577.85 | O4: 1457.04 | P4: 1483.17 | Q4: 1370.37 | R4: 1121.26 | T4: =MAX(D4:I4)*$V$2+1 -> 1692.043
B5: 054 | C5: FIFTH SOUTHERN | D5: 4246.53 | E5: 4428.85 | F5: 3813.41 | G5: 3722.86 | H5: 2970.63 | I5: 2314.52 | K5: 054 | L5: FIFTH SOUTHERN | M5: 4012.65 | N5: 4058.9 | O5: 3314.38 | P5: 3339.98 | Q5: 2941.29 | R5: 2314.52 | T5: =MAX(D5:I5)*$V$2+1 -> 4474.1385
B6: 070 | C6: SEVENTH | D6: 4844.61 | E6: 4158.61 | F6: 4508.31 | G6: 4558.43 | H6: 4046.06 | I6: 3699.55 | K6: 070 | L6: SEVENTH | M6: 4309.33 | N6: 3308.44 | O6: 3529.32 | P6: 3781.86 | Q6: 3441.38 | R6: 3699.55 | T6: =MAX(D6:I6)*$V$2+1 -> 4894.0561
B7: 081 | C7: EIGHTH COASTAL | D7: 1634.38 | E7: 1591.66 | F7: 1641.45 | G7: 1298.79 | H7: 1271.76 | I7: 1262.74 | K7: 081 | L7: EIGHTH COASTAL | M7: 1321.8 | N7: 1215.32 | O7: 1315.52 | P7: 1016.71 | Q7: 1090.26 | R7: 1262.74 | T7: =MAX(D7:I7)*$V$2+1 -> 1658.8645
B8: 082 | C8: EIGHTH EASTERN | D8: 1285.47 | E8: 1239.48 | F8: 1367.6 | G8: 1317.73 | H8: 1538.34 | I8: 1151.14 | K8: 082 | L8: EIGHTH EASTERN | M8: 1187.52 | N8: 1067.67 | O8: 1198.49 | P8: 1089.42 | Q8: 1181.25 | R8: 1151.14 | T8: =MAX(D8:I8)*$V$2+1 -> 1554.7234
B9: 085 | C9: EIGHTH WESTERN RIVERS | D9: 1312.17 | E9: 1112.73 | F9: 1217.33 | G9: 1186.37 | H9: 1043.07 | I9: 1143.81 | K9: 085 | L9: EIGHTH WESTERN RIVERS | M9: 1255.49 | N9: 1050.54 | O9: 1183.91 | P9: 1141.56 | Q9: 1017.09 | R9: 1143.81 | T9: =MAX(D9:I9)*$V$2+1 -> 1326.2917
B10: 091 | C10: NINTH CENTRAL | D10: 1121.1 | E10: 866.25 | F10: 1004.36 | G10: 1134.59 | H10: 1058.19 | I10: 792.06 | K10: 091 | L10: NINTH CENTRAL | M10: 1116.09 | N10: 866.25 | O10: 985.36 | P10: 1122.09 | Q10: 1058.19 | R10: 792.06 | T10: =MAX(D10:I10)*$V$2+1 -> 1146.9359
B11: 092 | C11: NINTH EASTERN | D11: 757.72 | E11: 747.03 | F11: 695.06 | G11: 939.63 | H11: 759.78 | I11: 799.27 | K11: 092 | L11: NINTH EASTERN | M11: 757.72 | N11: 747.03 | O11: 692.3 | P11: 935.3 | Q11: 759.78 | R11: 799.27 | T11: =MAX(D11:I11)*$V$2+1 -> 950.0263
B12: 095 | C12: NINTH WESTERN | D12: 2089.92 | E12: 2384.5 | F12: 2717.72 | G12: 2522.86 | H12: 1953.43 | I12: 1882.99 | K12: 095 | L12: NINTH WESTERN | M12: 2085.41 | N12: 2366.54 | O12: 2672.85 | P12: 2490.19 | Q12: 1953.43 | R12: 1882.99 | T12: =MAX(D12:I12)*$V$2+1 -> 2745.8972
B13: 113 | C13: ELEVEN NORTH | D13: 2998.26 | E13: 2295.18 | F13: 2191.87 | G13: 1720.86 | H13: 1578.81 | I13: 1343.12 | K13: 113 | L13: ELEVEN NORTH | M13: 2725.27 | N13: 1993.56 | O13: 1845.52 | P13: 1394.6 | Q13: 1296.16 | R13: 1343.12 | T13: =MAX(D13:I13)*$V$2+1 -> 3029.2426
B14: 114 | C14: ELEVEN SOUTH | D14: 768.85 | E14: 1365.99 | F14: 1387.63 | G14: 1490.27 | H14: 968.28 | I14: 834.47 | K14: 114 | L14: ELEVEN SOUTH | M14: 739.35 | N14: 1133.89 | O14: 1200.34 | P14: 1252.83 | Q14: 859.56 | R14: 834.47 | T14: =MAX(D14:I14)*$V$2+1 -> 1506.1727
... B17: 170 | C17: SEVENTEENTH | D17: 111.32 | E17: 223.15 | F17: 169.63 | G17: 105.95 | H17: 177.37 | I17: 74.89 | K17: 170 | L17: SEVENTEENTH | M17: 111.32 | N17: 210.15 | O17: 169.63 | P17: 99.45 | Q17: 177.37 | R17: 74.89 | T17: =MAX(D17:I17)*$V$2+1 -> 226.3815
D18: 29614.79 | E18: 29427.03 | F18: 30100.45 | G18: 28586.28 | H18: 24453.54 | I18: 22138.04 | M18: 27541.62 | N18: 26528.32 | O18: 26857.2 | P18: 25640.96 | Q18: 22718.49 | R18: 22138.04 | T18: =MAX(D18:I18)*$V$2+1 -> 30402.455

Sheet Data_Visits
B1: Unit # | C1: District | D1: 2021 | E1: 2022 | F1: 2023 | G1: 2024 | H1: 2025 | I1: 2026 | K1: Unit # | L1: District | M1: 2021 | N1: 2022 | O1: 2023 | P1: 2024 | Q1: 2025 | R1: 2026
B2: 013 | C2: FIRST NORTHERN | D2: 1004 | E2: 1723 | F2: 2151 | G2: 2077 | H2: 1604 | I2: 1315 | K2: 013 | L2: FIRST NORTHERN | M2: 779 | N2: 1429 | O2: 1700 | P2: 1784 | Q2: 1353 | R2: 1315 | T2: =MAX(D2:I2)*$V$2+1 -> 2173.51 | V2: 1.01
B3: 014 | C3: FIRST SOUTHERN | D3: 12756 | E3: 13976 | F3: 11874 | G3: 12291 | H3: 12768 | I3: 8456 | K3: 014 | L3: FIRST SOUTHERN | M3: 10294 | N3: 12008 | O3: 9953 | P3: 10252 | Q3: 10531 | R3: 8456 | T3: =MAX(D3:I3)*$V$2+1 -> 14116.76
B4: 053 | C4: FIFTH NORTHERN | D4: 2959 | E4: 3669 | F4: 3562 | G4: 4288 | H4: 5685 | I4: 3753 | K4: 053 | L4: FIFTH NORTHERN | M4: 2398 | N4: 2903 | O4: 3010 | P4: 3377 | Q4: 4527 | R4: 3753 | T4: =MAX(D4:I4)*$V$2+1 -> 5742.85
B5: 054 | C5: FIFTH SOUTHERN | D5: 4924 | E5: 5882 | F5: 6327 | G5: 4969 | H5: 5066 | I5: 3312 | K5: 054 | L5: FIFTH SOUTHERN | M5: 3680 | N5: 4702 | O5: 4907 | P5: 4196 | Q5: 4233 | R5: 3312 | T5: =MAX(D5:I5)*$V$2+1 -> 6391.27
B6: 070 | C6: SEVENTH | D6: 17604 | E6: 17109 | F6: 16273 | G6: 16678 | H6: 14874 | I6: 10282 | K6: 070 | L6: SEVENTH | M6: 13282 | N6: 13445 | O6: 12856 | P6: 12758 | Q6: 11685 | R6: 10282 | T6: =MAX(D6:I6)*$V$2+1 -> 17781.04
B7: 081 | C7: EIGHTH COASTAL | D7: 3530 | E7: 3406 | F7: 4400 | G7: 4427 | H7: 4786 | I7: 3662 | K7: 081 | L7: EIGHTH COASTAL | M7: 2856 | N7: 2524 | O7: 3645 | P7: 3246 | Q7: 3907 | R7: 3662 | T7: =MAX(D7:I7)*$V$2+1 -> 4834.86
B8: 082 | C8: EIGHTH EASTERN | D8: 1970 | E8: 2705 | F8: 5671 | G8: 7202 | H8: 7370 | I8: 4373 | K8: 082 | L8: EIGHTH EASTERN | M8: 1556 | N8: 2072 | O8: 4324 | P8: 6100 | Q8: 6232 | R8: 4373 | T8: =MAX(D8:I8)*$V$2+1 -> 7444.7
B9: 085 | C9: EIGHTH WESTERN RIVERS | D9: 1000 | E9: 1691 | F9: 2261 | G9: 2637 | H9: 2599 | I9: 1457 | K9: 085 | L9: EIGHTH WESTERN RIVERS | M9: 695 | N9: 1404 | O9: 1805 | P9: 1842 | Q9: 2274 | R9: 1457 | T9: =MAX(D9:I9)*$V$2+1 -> 2664.37
B10: 091 | C10: NINTH CENTRAL | D10: 1852 | E10: 1501 | F10: 1772 | G10: 2120 | H10: 1877 | I10: 1403 | K10: 091 | L10: NINTH CENTRAL | M10: 1652 | N10: 1317 | O10: 1423 | P10: 1816 | Q10: 1641 | R10: 1403 | T10: =MAX(D10:I10)*$V$2+1 -> 2142.2
B11: 092 | C11: NINTH EASTERN | D11: 300 | E11: 498 | F11: 463 | G11: 490 | H11: 704 | I11: 1021 | K11: 092 | L11: NINTH EASTERN | M11: 258 | N11: 475 | O11: 459 | P11: 447 | Q11: 594 | R11: 1021 | T11: =MAX(D11:I11)*$V$2+1 -> 1032.21
B12: 095 | C12: NINTH WESTERN | D12: 1490 | E12: 1624 | F12: 2360 | G12: 2822 | H12: 2581 | I12: 1564 | K12: 095 | L12: NINTH WESTERN | M12: 1251 | N12: 1411 | O12: 2071 | P12: 2345 | Q12: 2204 | R12: 1564 | T12: =MAX(D12:I12)*$V$2+1 -> 2851.22
B13: 113 | C13: ELEVEN NORTH | D13: 1406 | E13: 2278 | F13: 2881 | G13: 2665 | H13: 2451 | I13: 1648 | K13: 113 | L13: ELEVEN NORTH | M13: 1117 | N13: 1903 | O13: 2352 | P13: 2151 | Q13: 2052 | R13: 1648 | T13: =MAX(D13:I13)*$V$2+1 -> 2910.81
B14: 114 | C14: ELEVEN SOUTH | D14: 1126 | E14: 2275 | F14: 2858 | G14: 5281 | H14: 5494 | I14: 4077 | K14: 114 | L14: ELEVEN SOUTH | M14: 767 | N14: 1816 | O14: 2175 | P14: 3282 | Q14: 4168 | R14: 4077 | T14: =MAX(D14:I14)*$V$2+1 -> 5549.94
... B17: 170 | C17: SEVENTEENTH | D17: 779 | E17: 532 | F17: 462 | G17: 504 | H17: 667 | I17: 241 | K17: 170 | L17: SEVENTEENTH | M17: 689 | N17: 492 | O17: 368 | P17: 422 | Q17: 556 | R17: 241 | T17: =MAX(D17:I17)*$V$2+1 -> 787.79
D18: 57063 | E18: 64068 | F18: 69903 | G18: 74144 | H18: 73096 | I18: 48520 | M18: 44504 | N18: 52152 | O18: 56829 | P18: 58612 | Q18: 59805 | R18: 48520 | T18: =MAX(D18:I18)*$V$2+1 -> 74886.44

Sheet Data_VSC_Boat
B1: Unit # | C1: District | D1: 2021 | E1: 2022 | F1: 2023 | G1: 2024 | H1: 2025 | I1: 2026 | K1: Unit # | L1: District | M1: 2021 | N1: 2022 | O1: 2023 | P1: 2024 | Q1: 2025 | R1: 2026
B2: 013 | C2: FIRST NORTHERN | D2: 2656 | E2: 3194 | F2: 2730 | G2: 2890 | H2: 2878 | I2: 2562 | K2: 013 | L2: FIRST NORTHERN | M2: 2471 | N2: 3094 | O2: 2614 | P2: 2795 | Q2: 2812 | R2: 2562 | T2: =MAX(D2:I2)*$V$2+1 -> 3226.94 | V2: 1.01
B3: 014 | C3: FIRST SOUTHERN | D3: 4208 | E3: 4510 | F3: 4851 | G3: 5145 | H3: 5771 | I3: 3993 | K3: 014 | L3: FIRST SOUTHERN | M3: 3908 | N3: 4193 | O3: 4626 | P3: 4970 | Q3: 5674 | R3: 3993 | T3: =MAX(D3:I3)*$V$2+1 -> 5829.71
B4: 053 | C4: FIFTH NORTHERN | D4: 4615 | E4: 4886 | F4: 5291 | G4: 4238 | H4: 4312 | I4: 3649 | K4: 053 | L4: FIFTH NORTHERN | M4: 4433 | N4: 4756 | O4: 5172 | P4: 4179 | Q4: 4236 | R4: 3649 | T4: =MAX(D4:I4)*$V$2+1 -> 5344.91
B5: 054 | C5: FIFTH SOUTHERN | D5: 5211 | E5: 5136 | F5: 5059 | G5: 4910 | H5: 4410 | I5: 3972 | K5: 054 | L5: FIFTH SOUTHERN | M5: 4984 | N5: 4933 | O5: 4876 | P5: 4728 | Q5: 4246 | R5: 3972 | T5: =MAX(D5:I5)*$V$2+1 -> 5264.11
B6: 070 | C6: SEVENTH | D6: 10037 | E6: 11502 | F6: 12886 | G6: 12346 | H6: 11895 | I6: 9972 | K6: 070 | L6: SEVENTH | M6: 8932 | N6: 10523 | O6: 11891 | P6: 11545 | Q6: 11063 | R6: 9972 | T6: =MAX(D6:I6)*$V$2+1 -> 13015.86
B7: 081 | C7: EIGHTH COASTAL | D7: 3028 | E7: 2703 | F7: 2747 | G7: 2986 | H7: 3111 | I7: 2591 | K7: 081 | L7: EIGHTH COASTAL | M7: 2772 | N7: 2462 | O7: 2564 | P7: 2724 | Q7: 2929 | R7: 2591 | T7: =MAX(D7:I7)*$V$2+1 -> 3143.11
B8: 082 | C8: EIGHTH EASTERN | D8: 2597 | E8: 2338 | F8: 2705 | G8: 2833 | H8: 2261 | I8: 1504 | K8: 082 | L8: EIGHTH EASTERN | M8: 2357 | N8: 2042 | O8: 2383 | P8: 2581 | Q8: 2149 | R8: 1504 | T8: =MAX(D8:I8)*$V$2+1 -> 2862.33
B9: 085 | C9: EIGHTH WESTERN RIVERS | D9: 1497 | E9: 1992 | F9: 1682 | G9: 1562 | H9: 1441 | I9: 1061 | K9: 085 | L9: EIGHTH WESTERN RIVERS | M9: 1360 | N9: 1850 | O9: 1585 | P9: 1452 | Q9: 1380 | R9: 1061 | T9: =MAX(D9:I9)*$V$2+1 -> 2012.92
B10: 091 | C10: NINTH CENTRAL | D10: 2182 | E10: 2552 | F10: 1914 | G10: 2237 | H10: 2247 | I10: 2057 | K10: 091 | L10: NINTH CENTRAL | M10: 2022 | N10: 2488 | O10: 1866 | P10: 2140 | Q10: 2127 | R10: 2057 | T10: =MAX(D10:I10)*$V$2+1 -> 2578.52
B11: 092 | C11: NINTH EASTERN | D11: 1192 | E11: 1358 | F11: 1443 | G11: 1383 | H11: 1293 | I11: 1027 | K11: 092 | L11: NINTH EASTERN | M11: 1104 | N11: 1326 | O11: 1410 | P11: 1358 | Q11: 1266 | R11: 1027 | T11: =MAX(D11:I11)*$V$2+1 -> 1458.43
B12: 095 | C12: NINTH WESTERN | D12: 2466 | E12: 2448 | F12: 2948 | G12: 3034 | H12: 2555 | I12: 2421 | K12: 095 | L12: NINTH WESTERN | M12: 2404 | N12: 2374 | O12: 2867 | P12: 2923 | Q12: 2526 | R12: 2421 | T12: =MAX(D12:I12)*$V$2+1 -> 3065.34
B13: 113 | C13: ELEVEN NORTH | D13: 1085 | E13: 1823 | F13: 1728 | G13: 2142 | H13: 2255 | I13: 1283 | K13: 113 | L13: ELEVEN NORTH | M13: 963 | N13: 1678 | O13: 1656 | P13: 1899 | Q13: 2161 | R13: 1283 | T13: =MAX(D13:I13)*$V$2+1 -> 2278.55
B14: 114 | C14: ELEVEN SOUTH | D14: 2121 | E14: 1811 | F14: 2631 | G14: 2861 | H14: 3167 | I14: 2242 | K14: 114 | L14: ELEVEN SOUTH | M14: 1891 | N14: 1514 | O14: 2166 | P14: 2606 | Q14: 2712 | R14: 2242 | T14: =MAX(D14:I14)*$V$2+1 -> 3199.67
... B17: 170 | C17: SEVENTEENTH | D17: 355 | E17: 294 | F17: 267 | G17: 248 | H17: 245 | I17: 118 | K17: 170 | L17: SEVENTEENTH | M17: 308 | N17: 255 | O17: 229 | P17: 222 | Q17: 236 | R17: 118 | T17: =MAX(D17:I17)*$V$2+1 -> 359.55
D18: 45684 | E18: 49315 | F18: 52206 | G18: 52025 | H18: 50814 | I18: 40733 | M18: 42009 | N18: 45993 | O18: 49039 | P18: 49114 | Q18: 48266 | R18: 40733 | T18: =MAX(D18:I18)*$V$2+1 -> 52729.06

Sheet Data_VSC_Paddlecraft
B1: Unit # | C1: District | D1: 2021 | E1: 2022 | F1: 2023 | G1: 2024 | H1: 2025 | I1: 2026 | K1: Unit # | L1: District | M1: 2021 | N1: 2022 | O1: 2023 | P1: 2024 | Q1: 2025 | R1: 2026
B2: 013 | C2: FIRST NORTHERN | D2: 469 | E2: 744 | F2: 810 | G2: 837 | H2: 884 | I2: 578 | K2: 013 | L2: FIRST NORTHERN | M2: 411 | N2: 713 | O2: 780 | P2: 790 | Q2: 818 | R2: 578 | T2: =MAX(D2:I2)*$V$2+1 -> 893.84 | V2: 1.01
B3: 014 | C3: FIRST SOUTHERN | D3: 3751 | E3: 4102 | F3: 4795 | G3: 4443 | H3: 4437 | I3: 3380 | K3: 014 | L3: FIRST SOUTHERN | M3: 3557 | N3: 3979 | O3: 4607 | P3: 4172 | Q3: 4228 | R3: 3380 | T3: =MAX(D3:I3)*$V$2+1 -> 4843.95
B4: 053 | C4: FIFTH NORTHERN | D4: 328 | E4: 843 | F4: 858 | G4: 1051 | H4: 1182 | I4: 876 | K4: 053 | L4: FIFTH NORTHERN | M4: 302 | N4: 781 | O4: 772 | P4: 913 | Q4: 1141 | R4: 876 | T4: =MAX(D4:I4)*$V$2+1 -> 1194.82
B5: 054 | C5: FIFTH SOUTHERN | D5: 1498 | E5: 1708 | F5: 2294 | G5: 2440 | H5: 1633 | I5: 1513 | K5: 054 | L5: FIFTH SOUTHERN | M5: 1313 | N5: 1596 | O5: 2211 | P5: 2350 | Q5: 1517 | R5: 1513 | T5: =MAX(D5:I5)*$V$2+1 -> 2465.4
B6: 070 | C6: SEVENTH | D6: 5278 | E6: 6994 | F6: 7298 | G6: 6533 | H6: 7255 | I6: 5301 | K6: 070 | L6: SEVENTH | M6: 4361 | N6: 6482 | O6: 6776 | P6: 5775 | Q6: 6880 | R6: 5301 | T6: =MAX(D6:I6)*$V$2+1 -> 7371.98
B7: 081 | C7: EIGHTH COASTAL | D7: 1100 | E7: 803 | F7: 1005 | G7: 723 | H7: 873 | I7: 870 | K7: 081 | L7: EIGHTH COASTAL | M7: 929 | N7: 738 | O7: 930 | P7: 666 | Q7: 857 | R7: 870 | T7: =MAX(D7:I7)*$V$2+1 -> 1112
B8: 082 | C8: EIGHTH EASTERN | D8: 1021 | E8: 1451 | F8: 2394 | G8: 4495 | H8: 6785 | I8: 1003 | K8: 082 | L8: EIGHTH EASTERN | M8: 933 | N8: 1320 | O8: 1686 | P8: 4252 | Q8: 6606 | R8: 1003 | T8: =MAX(D8:I8)*$V$2+1 -> 6853.85
B9: 085 | C9: EIGHTH WESTERN RIVERS | D9: 792 | E9: 1500 | F9: 929 | G9: 1073 | H9: 709 | I9: 867 | K9: 085 | L9: EIGHTH WESTERN RIVERS | M9: 742 | N9: 1445 | O9: 852 | P9: 975 | Q9: 583 | R9: 867 | T9: =MAX(D9:I9)*$V$2+1 -> 1516
B10: 091 | C10: NINTH CENTRAL | D10: 737 | E10: 1089 | F10: 1643 | G10: 1535 | H10: 1948 | I10: 1195 | K10: 091 | L10: NINTH CENTRAL | M10: 722 | N10: 1070 | O10: 1611 | P10: 1535 | Q10: 1944 | R10: 1195 | T10: =MAX(D10:I10)*$V$2+1 -> 1968.48
B11: 092 | C11: NINTH EASTERN | D11: 142 | E11: 202 | F11: 212 | G11: 227 | H11: 335 | I11: 349 | K11: 092 | L11: NINTH EASTERN | M11: 138 | N11: 194 | O11: 211 | P11: 215 | Q11: 314 | R11: 349 | T11: =MAX(D11:I11)*$V$2+1 -> 353.49
B12: 095 | C12: NINTH WESTERN | D12: 1151 | E12: 1430 | F12: 1621 | G12: 1929 | H12: 2484 | I12: 2055 | K12: 095 | L12: NINTH WESTERN | M12: 1100 | N12: 1426 | O12: 1575 | P12: 1912 | Q12: 2450 | R12: 2055 | T12: =MAX(D12:I12)*$V$2+1 -> 2509.84
B13: 113 | C13: ELEVEN NORTH | D13: 293 | E13: 349 | F13: 745 | G13: 424 | H13: 1318 | I13: 1328 | K13: 113 | L13: ELEVEN NORTH | M13: 291 | N13: 308 | O13: 707 | P13: 382 | Q13: 1094 | R13: 1328 | T13: =MAX(D13:I13)*$V$2+1 -> 1342.28
B14: 114 | C14: ELEVEN SOUTH | D14: 562 | E14: 1802 | F14: 1133 | G14: 1274 | H14: 982 | I14: 760 | K14: 114 | L14: ELEVEN SOUTH | M14: 477 | N14: 1225 | O14: 1072 | P14: 1194 | Q14: 851 | R14: 760 | T14: =MAX(D14:I14)*$V$2+1 -> 1821.02
... B17: 170 | C17: SEVENTEENTH | D17: 2 | E17: 23 | F17: 45 | G17: 27 | H17: 30 | I17: 21 | K17: 170 | L17: SEVENTEENTH | M17: 0 | N17: 18 | O17: 39 | P17: 15 | Q17: 26 | R17: 21 | T17: =MAX(D17:I17)*$V$2+1 -> 46.45
D18: 18438 | E18: 24152 | F18: 27328 | G18: 28486 | H18: 32363 | I18: 20534 | M18: 16543 | N18: 22399 | O18: 25354 | P18: 26588 | Q18: 30793 | R18: 20534 | T18: =MAX(D18:I18)*$V$2+1 -> 32687.63

Sheet Data_PE
B1: Unit # | C1: District | D1: 2021 | E1: 2022 | F1: 2023 | G1: 2024 | H1: 2025 | I1: 2026 | K1: Unit # | L1: District | M1: 2021 | N1: 2022 | O1: 2023 | P1: 2024 | Q1: 2025 | R1: 2026
B2: 013 | C2: FIRST NORTHERN | D2: 2044 | E2: 1920 | F2: 2009 | G2: 2011 | H2: 2285 | I2: 1915 | K2: 013 | L2: FIRST NORTHERN | M2: 1814 | N2: 1592 | O2: 1848 | P2: 1809 | Q2: 1945 | R2: 1915 | T2: =MAX(D2:I2)*$V$2+1 -> 2308.85 | V2: 1.01
B3: 014 | C3: FIRST SOUTHERN | D3: 1466 | E3: 2482 | F3: 2784 | G3: 3194 | H3: 4114 | I3: 3166 | K3: 014 | L3: FIRST SOUTHERN | M3: 1214 | N3: 2299 | O3: 2447 | P3: 2800 | Q3: 3789 | R3: 3166 | T3: =MAX(D3:I3)*$V$2+1 -> 4156.14
B4: 053 | C4: FIFTH NORTHERN | D4: 1269 | E4: 3059 | F4: 3404 | G4: 3477 | H4: 4079 | I4: 2429 | K4: 053 | L4: FIFTH NORTHERN | M4: 1190 | N4: 2864 | O4: 3280 | P4: 2866 | Q4: 3235 | R4: 2429 | T4: =MAX(D4:I4)*$V$2+1 -> 4120.79
B5: 054 | C5: FIFTH SOUTHERN | D5: 2999 | E5: 4952 | F5: 1815 | G5: 3345 | H5: 3108 | I5: 2852 | K5: 054 | L5: FIFTH SOUTHERN | M5: 2674 | N5: 4807 | O5: 1751 | P5: 3067 | Q5: 2936 | R5: 2852 | T5: =MAX(D5:I5)*$V$2+1 -> 5002.52
B6: 070 | C6: SEVENTH | D6: 5742 | E6: 6543 | F6: 8291 | G6: 9511 | H6: 8745 | I6: 6126 | K6: 070 | L6: SEVENTH | M6: 4439 | N6: 5559 | O6: 6793 | P6: 8128 | Q6: 7016 | R6: 6126 | T6: =MAX(D6:I6)*$V$2+1 -> 9607.11
B7: 081 | C7: EIGHTH COASTAL | D7: 746 | E7: 1220 | F7: 1402 | G7: 1591 | H7: 1660 | I7: 2841 | K7: 081 | L7: EIGHTH COASTAL | M7: 606 | N7: 1097 | O7: 1326 | P7: 1526 | Q7: 1468 | R7: 2841 | T7: =MAX(D7:I7)*$V$2+1 -> 2870.41
B8: 082 | C8: EIGHTH EASTERN | D8: 630 | E8: 1031 | F8: 668 | G8: 1222 | H8: 1767 | I8: 801 | K8: 082 | L8: EIGHTH EASTERN | M8: 562 | N8: 909 | O8: 650 | P8: 989 | Q8: 1727 | R8: 801 | T8: =MAX(D8:I8)*$V$2+1 -> 1785.67
B9: 085 | C9: EIGHTH WESTERN RIVERS | D9: 412 | E9: 1043 | F9: 998 | G9: 1612 | H9: 1238 | I9: 650 | K9: 085 | L9: EIGHTH WESTERN RIVERS | M9: 345 | N9: 970 | O9: 970 | P9: 1252 | Q9: 1230 | R9: 650 | T9: =MAX(D9:I9)*$V$2+1 -> 1629.12
B10: 091 | C10: NINTH CENTRAL | D10: 273 | E10: 511 | F10: 732 | G10: 864 | H10: 1094 | I10: 1160 | K10: 091 | L10: NINTH CENTRAL | M10: 240 | N10: 488 | O10: 702 | P10: 685 | Q10: 1081 | R10: 1160 | T10: =MAX(D10:I10)*$V$2+1 -> 1172.6
B11: 092 | C11: NINTH EASTERN | D11: 505 | E11: 679 | F11: 962 | G11: 1687 | H11: 2049 | I11: 685 | K11: 092 | L11: NINTH EASTERN | M11: 442 | N11: 623 | O11: 921 | P11: 1590 | Q11: 2024 | R11: 685 | T11: =MAX(D11:I11)*$V$2+1 -> 2070.49
B12: 095 | C12: NINTH WESTERN | D12: 874 | E12: 1068 | F12: 1578 | G12: 733 | H12: 1329 | I12: 609 | K12: 095 | L12: NINTH WESTERN | M12: 794 | N12: 1038 | O12: 1498 | P12: 680 | Q12: 1310 | R12: 609 | T12: =MAX(D12:I12)*$V$2+1 -> 1594.78
B13: 113 | C13: ELEVEN NORTH | D13: 346 | E13: 479 | F13: 2562 | G13: 3571 | H13: 2486 | I13: 2077 | K13: 113 | L13: ELEVEN NORTH | M13: 202 | N13: 392 | O13: 2409 | P13: 3485 | Q13: 2403 | R13: 2077 | T13: =MAX(D13:I13)*$V$2+1 -> 3607.71
B14: 114 | C14: ELEVEN SOUTH | D14: 403 | E14: 770 | F14: 871 | G14: 872 | H14: 1070 | I14: 851 | K14: 114 | L14: ELEVEN SOUTH | M14: 323 | N14: 611 | O14: 743 | P14: 734 | Q14: 770 | R14: 851 | T14: =MAX(D14:I14)*$V$2+1 -> 1081.7
... B17: 170 | C17: SEVENTEENTH | D17: 141 | E17: 570 | F17: 1550 | G17: 1384 | H17: 327 | I17: 51 | K17: 170 | L17: SEVENTEENTH | M17: 118 | N17: 434 | O17: 1440 | P17: 1059 | Q17: 311 | R17: 51 | T17: =MAX(D17:I17)*$V$2+1 -> 1566.5
D18: 18439 | E18: 27237 | F18: 31173 | G18: 36709 | H18: 37255 | I18: 27177 | M18: 15481 | N18: 24431 | O18: 28165 | P18: 32101 | Q18: 32971 | R18: 27177 | T18: =MAX(D18:I18)*$V$2+1 -> 37628.55

Sheet Data_MT
B1: Unit # | C1: District | D1: 2021 | E1: 2022 | F1: 2023 | G1: 2024 | H1: 2025 | I1: 2026 | K1: Unit # | L1: District | M1: 2021 | N1: 2022 | O1: 2023 | P1: 2024 | Q1: 2025 | R1: 2026
B2: 013 | C2: FIRST NORTHERN | D2: 962.56 | E2: 1094.57 | F2: 1129.86 | G2: 1046.97 | H2: 1301.66 | I2: 797.14 | K2: 013 | L2: FIRST NORTHERN | M2: 774.22 | N2: 892.57 | O2: 965.76 | P2: 972.87 | Q2: 1061.38 | R2: 797.14 | T2: =MAX(D2:I2)*$V$2+1 -> 1315.6766 | V2: 1.01
B3: 014 | C3: FIRST SOUTHERN | D3: 2512.68 | E3: 2536.18 | F3: 2686.25 | G3: 2501.5 | H3: 2413.37 | I3: 1786.34 | K3: 014 | L3: FIRST SOUTHERN | M3: 1982.79 | N3: 2059.04 | O3: 2282.09 | P3: 2116.79 | Q3: 1965.56 | R3: 1786.34 | T3: =MAX(D3:I3)*$V$2+1 -> 2714.1125
B4: 053 | C4: FIFTH NORTHERN | D4: 1310.18 | E4: 1226.52 | F4: 1365.48 | G4: 1524.41 | H4: 2001.14 | I4: 1356.61 | K4: 053 | L4: FIFTH NORTHERN | M4: 1184.93 | N4: 1034.51 | O4: 1217.23 | P4: 1283.33 | Q4: 1708.56 | R4: 1356.61 | T4: =MAX(D4:I4)*$V$2+1 -> 2022.1514
B5: 054 | C5: FIFTH SOUTHERN | D5: 1914.11 | E5: 1920.31 | F5: 2099.69 | G5: 1857.56 | H5: 2262.37 | I5: 1127.61 | K5: 054 | L5: FIFTH SOUTHERN | M5: 1667.16 | N5: 1695.26 | O5: 1855.14 | P5: 1689.38 | Q5: 1968.69 | R5: 1127.61 | T5: =MAX(D5:I5)*$V$2+1 -> 2285.9937
B6: 070 | C6: SEVENTH | D6: 3859.34 | E6: 3469.44 | F6: 3906.78 | G6: 3915.34 | H6: 3722.08 | I6: 2817.54 | K6: 070 | L6: SEVENTH | M6: 3167.82 | N6: 2875.8 | O6: 3138.96 | P6: 3378.63 | Q6: 3079.95 | R6: 2817.54 | T6: =MAX(D6:I6)*$V$2+1 -> 3955.4934
B7: 081 | C7: EIGHTH COASTAL | D7: 1104.16 | E7: 1121.97 | F7: 1311.32 | G7: 1000.09 | H7: 945.46 | I7: 571.94 | K7: 081 | L7: EIGHTH COASTAL | M7: 1004.24 | N7: 977.79 | O7: 1041.77 | P7: 871.09 | Q7: 865.81 | R7: 571.94 | T7: =MAX(D7:I7)*$V$2+1 -> 1325.4332
B8: 082 | C8: EIGHTH EASTERN | D8: 806.65 | E8: 1050.02 | F8: 929.9 | G8: 1028.64 | H8: 1103.74 | I8: 602.08 | K8: 082 | L8: EIGHTH EASTERN | M8: 708.51 | N8: 976.52 | O8: 784.67 | P8: 874.84 | Q8: 937.16 | R8: 602.08 | T8: =MAX(D8:I8)*$V$2+1 -> 1115.7774
B9: 085 | C9: EIGHTH WESTERN RIVERS | D9: 1108.18 | E9: 1071.97 | F9: 1139.69 | G9: 1147.69 | H9: 1147.25 | I9: 780.3 | K9: 085 | L9: EIGHTH WESTERN RIVERS | M9: 808.43 | N9: 1010.52 | O9: 983.31 | P9: 941.56 | Q9: 986.67 | R9: 780.3 | T9: =MAX(D9:I9)*$V$2+1 -> 1160.1669
B10: 091 | C10: NINTH CENTRAL | D10: 949.23 | E10: 763.29 | F10: 707.42 | G10: 1186.09 | H10: 990.21 | I10: 657.42 | K10: 091 | L10: NINTH CENTRAL | M10: 873.23 | N10: 671.89 | O10: 648.87 | P10: 967.54 | Q10: 823.91 | R10: 657.42 | T10: =MAX(D10:I10)*$V$2+1 -> 1198.9509
B11: 092 | C11: NINTH EASTERN | D11: 598.79 | E11: 401.26 | F11: 352.99 | G11: 298.95 | H11: 382.82 | I11: 378.03 | K11: 092 | L11: NINTH EASTERN | M11: 508.29 | N11: 371.26 | O11: 333.04 | P11: 281.45 | Q11: 367.52 | R11: 378.03 | T11: =MAX(D11:I11)*$V$2+1 -> 605.7779
B12: 095 | C12: NINTH WESTERN | D12: 1701.55 | E12: 1008.92 | F12: 1354.19 | G12: 880.68 | H12: 1338.75 | I12: 985.94 | K12: 095 | L12: NINTH WESTERN | M12: 1417.1 | N12: 796.82 | O12: 1184.34 | P12: 775.18 | Q12: 1209.83 | R12: 985.94 | T12: =MAX(D12:I12)*$V$2+1 -> 1719.5655
B13: 113 | C13: ELEVEN NORTH | D13: 1047.56 | E13: 1172.16 | F13: 1318.34 | G13: 1338.65 | H13: 1253.55 | I13: 894.46 | K13: 113 | L13: ELEVEN NORTH | M13: 818.9 | N13: 1026.24 | O13: 1105.54 | P13: 1138.77 | Q13: 1029.1 | R13: 894.46 | T13: =MAX(D13:I13)*$V$2+1 -> 1353.0365
B14: 114 | C14: ELEVEN SOUTH | D14: 1104.29 | E14: 1091.92 | F14: 1460.45 | G14: 1598.54 | H14: 1551.97 | I14: 681.17 | K14: 114 | L14: ELEVEN SOUTH | M14: 857.89 | N14: 940.92 | O14: 1140.8 | P14: 1360.77 | Q14: 1399.55 | R14: 681.17 | T14: =MAX(D14:I14)*$V$2+1 -> 1615.5254
... B17: 170 | C17: SEVENTEENTH | D17: 244.44 | E17: 264.55 | F17: 252.77 | G17: 309.42 | H17: 347.5 | I17: 120.3 | K17: 170 | L17: SEVENTEENTH | M17: 168.37 | N17: 199.55 | O17: 188.8 | P17: 253.42 | Q17: 311.5 | R17: 120.3 | T17: =MAX(D17:I17)*$V$2+1 -> 351.975
D18: 20529.92 | E18: 19445.55 | F18: 21182.44 | G18: 20805.25 | H18: 21855.99 | I18: 14330.59 | M18: 16994.33 | N18: 16595.96 | O18: 17867.63 | P18: 17885.19 | Q18: 18661.16 | R18: 14330.59 | T18: =MAX(D18:I18)*$V$2+1 -> 22075.55

Sheet Data_Misc
B1: Unit # | C1: District | D1: 2021 | E1: 2022 | F1: 2023 | G1: 2024 | H1: 2025 | I1: 2026 | K1: Unit # | L1: District | M1: 2021 | N1: 2022 | O1: 2023 | P1: 2024 | Q1: 2025 | R1: 2026
A2: AuxAir | B2: 013 | C2: FIRST NORTHERN | D2: 105.08 | E2: 307.09 | F2: 185.66 | G2: 221.24 | H2: 16.95 | I2: 20 | K2: 013 | L2: FIRST NORTHERN | M2: 96.25 | N2: 222.19 | O2: 157.18 | P2: 149.14 | Q2: 14.95 | R2: 20 | T2: =MAX(D2:I2)*$V$2+1 -> 311.1609 | V2: 1.01
B3: 014 | C3: FIRST SOUTHERN | D3: 434.22 | E3: 677.05 | F3: 439.26 | G3: 634.72 | H3: 205.65 | I3: 228.05 | K3: 014 | L3: FIRST SOUTHERN | M3: 416.92 | N3: 532.75 | O3: 302.11 | P3: 454.37 | Q3: 177.55 | R3: 228.05 | T3: =MAX(D3:I3)*$V$2+1 -> 684.8205
B4: 053 | C4: FIFTH NORTHERN | D4: 0 | E4: 0 | F4: 0 | G4: 0 | H4: 72.5 | I4: 73.3 | K4: 053 | L4: FIFTH NORTHERN | M4: 0 | N4: 0 | O4: 0 | P4: 0 | Q4: 70.5 | R4: 73.3 | T4: =MAX(D4:I4)*$V$2+1 -> 75.033
B5: 054 | C5: FIFTH SOUTHERN | D5: 350.07 | E5: 264.11 | F5: 327.6 | G5: 335.44 | H5: 213.21 | I5: 144.36 | K5: 054 | L5: FIFTH SOUTHERN | M5: 316.92 | N5: 185.31 | O5: 243.73 | P5: 250.71 | Q5: 199.52 | R5: 144.36 | T5: =MAX(D5:I5)*$V$2+1 -> 354.5707
B6: 070 | C6: SEVENTH | D6: 1184.7 | E6: 1065.27 | F6: 1104.42 | G6: 843.47 | H6: 615.85 | I6: 567.23 | K6: 070 | L6: SEVENTH | M6: 981.78 | N6: 832.39 | O6: 980.08 | P6: 643.98 | Q6: 541.92 | R6: 567.23 | T6: =MAX(D6:I6)*$V$2+1 -> 1197.547
B7: 081 | C7: EIGHTH COASTAL | D7: 412.72 | E7: 242.24 | F7: 255.31 | G7: 222.21 | H7: 210.76 | I7: 128.24 | K7: 081 | L7: EIGHTH COASTAL | M7: 375.3 | N7: 198.34 | O7: 226.11 | P7: 160.78 | Q7: 168.3 | R7: 128.24 | T7: =MAX(D7:I7)*$V$2+1 -> 417.8472
B8: 082 | C8: EIGHTH EASTERN | D8: 6.3 | E8: 12.3 | F8: 12 | G8: 23.3 | H8: 23.88 | I8: 10.69 | K8: 082 | L8: EIGHTH EASTERN | M8: 6.3 | N8: 0 | O8: 12 | P8: 19.3 | Q8: 23.88 | R8: 10.69 | T8: =MAX(D8:I8)*$V$2+1 -> 25.1188
B9: 085 | C9: EIGHTH WESTERN RIVERS | D9: 75.8 | E9: 29.7 | F9: 46.4 | G9: 20.59 | H9: 65.55 | I9: 45.2 | K9: 085 | L9: EIGHTH WESTERN RIVERS | M9: 71.8 | N9: 19.7 | O9: 46.4 | P9: 20.59 | Q9: 65.55 | R9: 45.2 | T9: =MAX(D9:I9)*$V$2+1 -> 77.558
B10: 091 | C10: NINTH CENTRAL | D10: 646.12 | E10: 474.58 | F10: 454.83 | G10: 372.72 | H10: 266.13 | I10: 200.1 | K10: 091 | L10: NINTH CENTRAL | M10: 646.12 | N10: 408.13 | O10: 434.49 | P10: 344.32 | Q10: 248.28 | R10: 200.1 | T10: =MAX(D10:I10)*$V$2+1 -> 653.5812
B11: 092 | C11: NINTH EASTERN | D11: 263.18 | E11: 91.37 | F11: 203.68 | G11: 251.56 | H11: 213.79 | I11: 123.72 | K11: 092 | L11: NINTH EASTERN | M11: 257.18 | N11: 70.89 | O11: 201.88 | P11: 221.02 | Q11: 213.79 | R11: 123.72 | T11: =MAX(D11:I11)*$V$2+1 -> 266.8118
B12: 095 | C12: NINTH WESTERN | D12: 156.2 | E12: 134.08 | F12: 77.4 | G12: 142.61 | H12: 110.25 | I12: 51.76 | K12: 095 | L12: NINTH WESTERN | M12: 152.2 | N12: 112.58 | O12: 71.4 | P12: 123.11 | Q12: 110.25 | R12: 51.76 | T12: =MAX(D12:I12)*$V$2+1 -> 158.762
B13: 113 | C13: ELEVEN NORTH | D13: 193.16 | E13: 187.46 | F13: 201.81 | G13: 283.74 | H13: 314.42 | I13: 170.93 | K13: 113 | L13: ELEVEN NORTH | M13: 189.42 | N13: 155.84 | O13: 173.49 | P13: 233.5 | Q13: 293.44 | R13: 170.93 | T13: =MAX(D13:I13)*$V$2+1 -> 318.5642
B14: 114 | C14: ELEVEN SOUTH | D14: 0 | E14: 0 | F14: 0 | G14: 0 | H14: 0 | I14: 0 | K14: 114 | L14: ELEVEN SOUTH | M14: 0 | N14: 0 | O14: 0 | P14: 0 | Q14: 0 | R14: 0 | T14: =MAX(D14:I14)*$V$2+1 -> 1
... B17: 170 | C17: SEVENTEENTH | D17: 0 | E17: 0 | F17: 0 | G17: 0 | H17: 0 | I17: 0 | K17: 170 | L17: SEVENTEENTH | M17: 0 | N17: 0 | O17: 0 | P17: 0 | Q17: 0 | R17: 0 | T17: =MAX(D17:I17)*$V$2+1 -> 1
D18: 4223.68 | E18: 3767.05 | F18: 3570.5 | G18: 3621.6 | H18: 2510.74 | I18: 1831.68 | M18: 3852.52 | N18: 2972.02 | O18: 3058.8 | P18: 2816.42 | Q18: 2306.33 | R18: 1831.68 | T18: =MAX(D18:I18)*$V$2+1 -> 4266.9168
B21: Unit # | C21: District | D21: 2021 | E21: 2022 | F21: 2023 | G21: 2024 | H21: 2025 | I21: 2026 | K21: Unit # | L21: District | M21: 2021 | N21: 2022 | O21: 2023 | P21: 2024 | Q21: 2025 | R21: 2026
A22: Navaids | B22: 013 | C22: FIRST NORTHERN | D22: 663 | E22: 586 | F22: 566 | G22: 573 | H22: 784 | I22: 472 | K22: 013 | L22: FIRST NORTHERN | M22: 589 | N22: 493 | O22: 529 | P22: 542 | Q22: 758 | R22: 472 | T22: =MAX(D22:I22)*$V$2+1 -> 792.84
B23: 014 | C23: FIRST SOUTHERN | D23: 894 | E23: 763 | F23: 916 | G23: 1034 | H23: 720 | I23: 717 | K23: 014 | L23: FIRST SOUTHERN | M23: 880 | N23: 728 | O23: 898 | P23: 982 | Q23: 678 | R23: 717 | T23: =MAX(D23:I23)*$V$2+1 -> 1045.34
B24: 053 | C24: FIFTH NORTHERN | D24: 137 | E24: 181 | F24: 186 | G24: 119 | H24: 178 | I24: 140 | K24: 053 | L24: FIFTH NORTHERN | M24: 114 | N24: 166 | O24: 177 | P24: 119 | Q24: 178 | R24: 140 | T24: =MAX(D24:I24)*$V$2+1 -> 188.86
B25: 054 | C25: FIFTH SOUTHERN | D25: 1040 | E25: 991 | F25: 527 | G25: 598 | H25: 392 | I25: 425 | K25: 054 | L25: FIFTH SOUTHERN | M25: 986 | N25: 565 | O25: 478 | P25: 459 | Q25: 354 | R25: 425 | T25: =MAX(D25:I25)*$V$2+1 -> 1051.4
B26: 070 | C26: SEVENTH | D26: 1005 | E26: 383 | F26: 439 | G26: 932 | H26: 369 | I26: 1311 | K26: 070 | L26: SEVENTH | M26: 992 | N26: 300 | O26: 321 | P26: 637 | Q26: 268 | R26: 1311 | T26: =MAX(D26:I26)*$V$2+1 -> 1325.11
B27: 081 | C27: EIGHTH COASTAL | D27: 246 | E27: 516 | F27: 561 | G27: 226 | H27: 76 | I27: 238 | K27: 081 | L27: EIGHTH COASTAL | M27: 214 | N27: 422 | O27: 551 | P27: 211 | Q27: 63 | R27: 238 | T27: =MAX(D27:I27)*$V$2+1 -> 567.61
B28: 082 | C28: EIGHTH EASTERN | D28: 234 | E28: 497 | F28: 818 | G28: 1296 | H28: 1097 | I28: 961 | K28: 082 | L28: EIGHTH EASTERN | M28: 172 | N28: 440 | O28: 768 | P28: 1079 | Q28: 1035 | R28: 961 | T28: =MAX(D28:I28)*$V$2+1 -> 1309.96
B29: 085 | C29: EIGHTH WESTERN RIVERS | D29: 145 | E29: 173 | F29: 213 | G29: 114 | H29: 110 | I29: 66 | K29: 085 | L29: EIGHTH WESTERN RIVERS | M29: 136 | N29: 155 | O29: 195 | P29: 99 | Q29: 75 | R29: 66 | T29: =MAX(D29:I29)*$V$2+1 -> 216.13
B30: 091 | C30: NINTH CENTRAL | D30: 423 | E30: 451 | F30: 224 | G30: 260 | H30: 55 | I30: 116 | K30: 091 | L30: NINTH CENTRAL | M30: 393 | N30: 451 | O30: 224 | P30: 260 | Q30: 55 | R30: 116 | T30: =MAX(D30:I30)*$V$2+1 -> 456.51
B31: 092 | C31: NINTH EASTERN | D31: 71 | E31: 114 | F31: 447 | G31: 331 | H31: 48 | I31: 103 | K31: 092 | L31: NINTH EASTERN | M31: 58 | N31: 109 | O31: 438 | P31: 331 | Q31: 48 | R31: 103 | T31: =MAX(D31:I31)*$V$2+1 -> 452.47
B32: 095 | C32: NINTH WESTERN | D32: 350 | E32: 247 | F32: 264 | G32: 320 | H32: 213 | I32: 385 | K32: 095 | L32: NINTH WESTERN | M32: 328 | N32: 243 | O32: 254 | P32: 254 | Q32: 212 | R32: 385 | T32: =MAX(D32:I32)*$V$2+1 -> 389.85
B33: 113 | C33: ELEVEN NORTH | D33: 760 | E33: 495 | F33: 625 | G33: 624 | H33: 636 | I33: 482 | K33: 113 | L33: ELEVEN NORTH | M33: 750 | N33: 457 | O33: 575 | P33: 583 | Q33: 606 | R33: 482 | T33: =MAX(D33:I33)*$V$2+1 -> 768.6
B34: 114 | C34: ELEVEN SOUTH | D34: 263 | E34: 327 | F34: 514 | G34: 842 | H34: 789 | I34: 596 | K34: 114 | L34: ELEVEN SOUTH | M34: 222 | N34: 305 | O34: 449 | P34: 607 | Q34: 770 | R34: 596 | T34: =MAX(D34:I34)*$V$2+1 -> 851.42
... B37: 170 | C37: SEVENTEENTH | D37: 0 | E37: 3 | F37: 0 | G37: 37 | H37: 1 | I37: 0 | K37: 170 | L37: SEVENTEENTH | M37: 0 | N37: 0 | O37: 0 | P37: 37 | Q37: 1 | R37: 0 | T37: =MAX(D37:I37)*$V$2+1 -> 38.37
D38: 6416 | E38: 5916 | F38: 6542 | G38: 7560 | H38: 5701 | I38: 6147 | M38: 5957 | N38: 4943 | O38: 5958 | P38: 6342 | Q38: 5265 | R38: 6147 | T38: =MAX(D38:I38)*$V$2+1 -> 7636.6
B41: Unit # | C41: District | D41: 2021 | E41: 2022 | F41: 2023 | G41: 2024 | H41: 2025 | I41: 2026 | K41: Unit # | L41: District | M41: 2021 | N41: 2022 | O41: 2023 | P41: 2024 | Q41: 2025 | R41: 2026
A42: Marine Safety | B42: 013 | C42: FIRST NORTHERN | D42: 1104.26 | E42: 885.94 | F42: 1100.82 | G42: 1881.77 | H42: 1877.33 | I42: 1126.43 | K42: 013 | L42: FIRST NORTHERN | M42: 689.79 | N42: 747.69 | O42: 895.42 | P42: 1559.42 | Q42: 1461.33 | R42: 1126.43 | T42: =MAX(D42:I42)*$V$2+1 -> 1901.5877
B43: 014 | C43: FIRST SOUTHERN | D43: 3635.05 | E43: 2067.55 | F43: 2987.16 | G43: 2476.43 | H43: 3304.1 | I43: 2001.5 | K43: 014 | L43: FIRST SOUTHERN | M43: 2812.15 | N43: 1752.9 | O43: 2573.63 | P43: 2170.85 | Q43: 2709.9 | R43: 2001.5 | T43: =MAX(D43:I43)*$V$2+1 -> 3672.4005
B44: 053 | C44: FIFTH NORTHERN | D44: 2563.73 | E44: 2635.57 | F44: 2897.14 | G44: 1808.1 | H44: 3072.36 | I44: 1841.01 | K44: 053 | L44: FIFTH NORTHERN | M44: 2246.88 | N44: 2246.18 | O44: 2354.6 | P44: 1391.83 | Q44: 1827.28 | R44: 1841.01 | T44: =MAX(D44:I44)*$V$2+1 -> 3104.0836
B45: 054 | C45: FIFTH SOUTHERN | D45: 5706.89 | E45: 4871.91 | F45: 3240.85 | G45: 3523.29 | H45: 2239.19 | I45: 1640.85 | K45: 054 | L45: FIFTH SOUTHERN | M45: 4928.29 | N45: 4375.31 | O45: 2774.7 | P45: 2838.18 | Q45: 1828.11 | R45: 1640.85 | T45: =MAX(D45:I45)*$V$2+1 -> 5764.9589
B46: 070 | C46: SEVENTH | D46: 10492.44 | E46: 13279.13 | F46: 10591.08 | G46: 9259.68 | H46: 6314.74 | I46: 3876.15 | K46: 070 | L46: SEVENTH | M46: 8306.56 | N46: 10966.96 | O46: 8421.59 | P46: 7739.16 | Q46: 5202.7 | R46: 3876.15 | T46: =MAX(D46:I46)*$V$2+1 -> 13412.921
B47: 081 | C47: EIGHTH COASTAL | D47: 5098 | E47: 5267.61 | F47: 6617.33 | G47: 4393.92 | H47: 3432.94 | I47: 1523.48 | K47: 081 | L47: EIGHTH COASTAL | M47: 4122.6 | N47: 3970.49 | O47: 5136.08 | P47: 3782.63 | Q47: 3132.52 | R47: 1523.48 | T47: =MAX(D47:I47)*$V$2+1 -> 6684.5033
B48: 082 | C48: EIGHTH EASTERN | D48: 1997.77 | E48: 2256.8 | F48: 2146.3 | G48: 2083.98 | H48: 2702.76 | I48: 1249.4 | K48: 082 | L48: EIGHTH EASTERN | M48: 1595.75 | N48: 1748.91 | O48: 1705.5 | P48: 1481.24 | Q48: 1591.51 | R48: 1249.4 | T48: =MAX(D48:I48)*$V$2+1 -> 2730.7876
B49: 085 | C49: EIGHTH WESTERN RIVERS | D49: 6320.91 | E49: 2245.78 | F49: 3213.43 | G49: 2533.71 | H49: 2407.21 | I49: 1285.66 | K49: 085 | L49: EIGHTH WESTERN RIVERS | M49: 5907.38 | N49: 1971.93 | O49: 2752.25 | P49: 1955.49 | Q49: 1736.29 | R49: 1285.66 | T49: =MAX(D49:I49)*$V$2+1 -> 6385.1191
B50: 091 | C50: NINTH CENTRAL | D50: 1543.26 | E50: 1592.18 | F50: 1261.01 | G50: 1418.63 | H50: 1178.24 | I50: 897.59 | K50: 091 | L50: NINTH CENTRAL | M50: 1111.16 | N50: 1325.83 | O50: 997.31 | P50: 1142.63 | Q50: 1025.59 | R50: 897.59 | T50: =MAX(D50:I50)*$V$2+1 -> 1609.1018
B51: 092 | C51: NINTH EASTERN | D51: 528.8 | E51: 742 | F51: 1043.86 | G51: 1180.05 | H51: 1150.25 | I51: 858.65 | K51: 092 | L51: NINTH EASTERN | M51: 403.8 | N51: 644.25 | O51: 821.1 | P51: 997.8 | Q51: 993.5 | R51: 858.65 | T51: =MAX(D51:I51)*$V$2+1 -> 1192.8505
B52: 095 | C52: NINTH WESTERN | D52: 1980.27 | E52: 2340.04 | F52: 1800.61 | G52: 2964.48 | H52: 2364.06 | I52: 1139.56 | K52: 095 | L52: NINTH WESTERN | M52: 1421.02 | N52: 1837.36 | O52: 1509.6 | P52: 2655.06 | Q52: 1853.48 | R52: 1139.56 | T52: =MAX(D52:I52)*$V$2+1 -> 2995.1248
B53: 113 | C53: ELEVEN NORTH | D53: 3306.23 | E53: 3803.57 | F53: 3546.77 | G53: 4190.08 | H53: 2656.07 | I53: 1126.01 | K53: 113 | L53: ELEVEN NORTH | M53: 2408.08 | N53: 3057.9 | O53: 2685.08 | P53: 3181.98 | Q53: 2135.47 | R53: 1126.01 | T53: =MAX(D53:I53)*$V$2+1 -> 4232.9808
B54: 114 | C54: ELEVEN SOUTH | D54: 2250.26 | E54: 2497.13 | F54: 2585.48 | G54: 3387.07 | H54: 2686 | I54: 1517.6 | K54: 114 | L54: ELEVEN SOUTH | M54: 1798.01 | N54: 1867.53 | O54: 2060.68 | P54: 2852.77 | Q54: 2193.1 | R54: 1517.6 | T54: =MAX(D54:I54)*$V$2+1 -> 3421.9407
... B57: 170 | C57: SEVENTEENTH | D57: 174.68 | E57: 184.7 | F57: 242.05 | G57: 496.8 | H57: 312.2 | I57: 77.3 | K57: 170 | L57: SEVENTEENTH | M57: 88.68 | N57: 157.7 | O57: 211.3 | P57: 420.15 | Q57: 180.2 | R57: 77.3 | T57: =MAX(D57:I57)*$V$2+1 -> 502.768
D58: 49430.71 | E58: 46668.68 | F58: 44995.39 | G58: 43718.59 | H58: 37045.85 | I58: 20975.43 | M58: 39654.24 | N58: 38222.36 | O58: 36104.7 | P58: 35854.29 | Q58: 29071.58 | R58: 20975.43 | T58: =MAX(D58:I58)*$V$2+1 -> 49926.017
B61: Unit # | C61: District | D61: 2021 | E61: 2022 | F61: 2023 | G61: 2024 | H61: 2025 | I61: 2026 | K61: Unit # | L61: District | M61: 2021 | N61: 2022 | O61: 2023 | P61: 2024 | Q61: 2025 | R61: 2026
A62: Public | B62: 013 | C62: FIRST NORTHERN | D62: 3732.63 | E62: 4136.49 | F62: 5048.98 | G62: 5851.14 | H62: 3791.32 | I62: 2449.15 | K62: 013 | L62: FIRST NORTHERN | M62: 3054.65 | N62: 3306.11 | O62: 4149.29 | P62: 5009.02 | Q62: 3347.71 | R62: 2449.15 | T62: =MAX(D62:I62)*$V$2+1 -> 5910.6514
B63: 014 | C63: FIRST SOUTHERN | D63: 6939.33 | E63: 6626.45 | F63: 7381.14 | G63: 9540.01 | H63: 6852.87 | I63: 5379.11 | K63: 014 | L63: FIRST SOUTHERN | M63: 5571.6 | N63: 5021.5 | O63: 5920.87 | P63: 7804.61 | Q63: 5668.43 | R63: 5379.11 | T63: =MAX(D63:I63)*$V$2+1 -> 9636.4101
A64: Affairs | B64: 053 | C64: FIFTH NORTHERN | D64: 4133.7 | E64: 5277.6 | F64: 4467.15 | G64: 5094.96 | H64: 5448.83 | I64: 3261.8 | K64: 053 | L64: FIFTH NORTHERN | M64: 3128.41 | N64: 4170.13 | O64: 3659.02 | P64: 3889.72 | Q64: 4232.8 | R64: 3261.8 | T64: =MAX(D64:I64)*$V$2+1 -> 5504.3183
B65: 054 | C65: FIFTH SOUTHERN | D65: 3715.9 | E65: 5863.42 | F65: 6478.8 | G65: 7518.86 | H65: 7497.87 | I65: 4914.73 | K65: 054 | L65: FIFTH SOUTHERN | M65: 2656.25 | N65: 4338.62 | O65: 5102.97 | P65: 6022.37 | Q65: 6152.27 | R65: 4914.73 | T65: =MAX(D65:I65)*$V$2+1 -> 7595.0486
B66: 070 | C66: SEVENTH | D66: 11947.45 | E66: 18839.42 | F66: 19230.98 | G66: 19760.13 | H66: 24103.33 | I66: 15452.86 | K66: 070 | L66: SEVENTH | M66: 8746.31 | N66: 15030.77 | O66: 15369.97 | P66: 15922.35 | Q66: 19044.17 | R66: 15452.86 | T66: =MAX(D66:I66)*$V$2+1 -> 24345.363
B67: 081 | C67: EIGHTH COASTAL | D67: 3088.79 | E67: 3593.04 | F67: 4957.92 | G67: 3967.81 | H67: 5295.71 | I67: 4737.54 | K67: 081 | L67: EIGHTH COASTAL | M67: 2379.54 | N67: 2744.88 | O67: 4196.17 | P67: 3117.31 | Q67: 4430.76 | R67: 4737.54 | T67: =MAX(D67:I67)*$V$2+1 -> 5349.6671
B68: 082 | C68: EIGHTH EASTERN | D68: 2762.06 | E68: 3800.61 | F68: 4042.93 | G68: 4670.25 | H68: 4451.85 | I68: 3923.13 | K68: 082 | L68: EIGHTH EASTERN | M68: 2119.56 | N68: 3394.81 | O68: 3585.43 | P68: 4101.72 | Q68: 3924.07 | R68: 3923.13 | T68: =MAX(D68:I68)*$V$2+1 -> 4717.9525
B69: 085 | C69: EIGHTH WESTERN RIVERS | D69: 3110.12 | E69: 4111.17 | F69: 4214.39 | G69: 3105.9 | H69: 2440.68 | I69: 2254.71 | K69: 085 | L69: EIGHTH WESTERN RIVERS | M69: 2332.37 | N69: 3545.62 | O69: 3709.36 | P69: 2656.3 | Q69: 2150.85 | R69: 2254.71 | T69: =MAX(D69:I69)*$V$2+1 -> 4257.5339
B70: 091 | C70: NINTH CENTRAL | D70: 3061.72 | E70: 2809.96 | F70: 2694.67 | G70: 2789.14 | H70: 3064.95 | I70: 2033.13 | K70: 091 | L70: NINTH CENTRAL | M70: 2380.72 | N70: 2262.7 | O70: 2293.62 | P70: 2520.97 | Q70: 2644.95 | R70: 2033.13 | T70: =MAX(D70:I70)*$V$2+1 -> 3096.5995
B71: 092 | C71: NINTH EASTERN | D71: 607.1 | E71: 1311.02 | F71: 1238.28 | G71: 1370.01 | H71: 1315.55 | I71: 1548.31 | K71: 092 | L71: NINTH EASTERN | M71: 459.9 | N71: 1138.67 | O71: 1056.03 | P71: 1279.11 | Q71: 1236.4 | R71: 1548.31 | T71: =MAX(D71:I71)*$V$2+1 -> 1564.7931
B72: 095 | C72: NINTH WESTERN | D72: 3887.1 | E72: 5808.41 | F72: 7230.06 | G72: 6804.68 | H72: 5610.35 | I72: 3864.81 | K72: 095 | L72: NINTH WESTERN | M72: 3057.34 | N72: 4787.11 | O72: 6019.56 | P72: 5318.93 | Q72: 4560.27 | R72: 3864.81 | T72: =MAX(D72:I72)*$V$2+1 -> 7303.3606
B73: 113 | C73: ELEVEN NORTH | D73: 2747.49 | E73: 4642.98 | F73: 6765.61 | G73: 5899.81 | H73: 6978.4 | I73: 2846.8 | K73: 113 | L73: ELEVEN NORTH | M73: 2310.9 | N73: 3933.73 | O73: 5403.11 | P73: 4439.86 | Q73: 5630.05 | R73: 2846.8 | T73: =MAX(D73:I73)*$V$2+1 -> 7049.184
B74: 114 | C74: ELEVEN SOUTH | D74: 2566.85 | E74: 4321.39 | F74: 11731.1 | G74: 9728.23 | H74: 6428.43 | I74: 4313.2 | K74: 114 | L74: ELEVEN SOUTH | M74: 1961.05 | N74: 3471.17 | O74: 8925.98 | P74: 8146.56 | Q74: 5140.26 | R74: 4313.2 | T74: =MAX(D74:I74)*$V$2+1 -> 11849.411
B75: 130 | C75: THIRTEENTH | D75: 4231.96 | E75: 8010.72 | F75: 5172.65 | G75: 4955.07 | H75: 3131.7 | I75: 2384.06 | K75: 130 | L75: THIRTEENTH | M75: 2582.86 | N75: 5575.52 | O75: 4518.86 | P75: 4147.97 | Q75: 2743.4 | R75: 2384.06 | T75: =MAX(D75:I75)*$V$2+1 -> 8091.8272
B76: 140 | C76: FOURTEENTH | D76: 398.6 | E76: 604.75 | F76: 1204.07 | G76: 950.25 | H76: 778.74 | I76: 509.25 | K76: 140 | L76: FOURTEENTH | M76: 309.1 | N76: 485.25 | O76: 1038.9 | P76: 757 | Q76: 617.99 | R76: 509.25 | T76: =MAX(D76:I76)*$V$2+1 -> 1217.1107
B77: 170 | C77: SEVENTEENTH | D77: 402.1 | E77: 789.2 | F77: 755.4 | G77: 906.48 | H77: 1041.1 | I77: 424.58 | K77: 170 | L77: SEVENTEENTH | M77: 284.6 | N77: 748.45 | O77: 665.4 | P77: 708.9 | Q77: 955.85 | R77: 424.58 | T77: =MAX(D77:I77)*$V$2+1 -> 1052.511
D78: 57332.9 | E78: 80546.63 | F78: 92614.13 | G78: 92912.73 | H78: 88231.68 | I78: 60297.17 | M78: 43335.16 | N78: 63955.04 | O78: 75614.54 | P78: 75842.7 | Q78: 72480.23 | R78: 60297.17 | T78: =MAX(D78:I78)*$V$2+1 -> 93842.857
B81: Unit # | C81: District | D81: 2021 | E81: 2022 | F81: 2023 | G81: 2024 | H81: 2025 | I81: 2026 | K81: Unit # | L81: District | M81: 2021 | N81: 2022 | O81: 2023 | P81: 2024 | Q81: 2025 | R81: 2026
B82: 013 | C82: FIRST NORTHERN | D82: 2100.2 | E82: 1893.7 | F82: 2218.05 | G82: 2423.58 | H82: 1742.6 | I82: 907.18 | K82: 013 | L82: FIRST NORTHERN | M82: 1690 | N82: 1644.1 | O82: 1762.97 | P82: 1842.75 | Q82: 1426.85 | R82: 907.18 | T82: =MAX(D82:I82)*$V$2+1 -> 2448.8158
A83: USCG | B83: 014 | C83: FIRST SOUTHERN | D83: 1344.5 | E83: 2798.17 | F83: 4606.36 | G83: 4701.77 | H83: 4083.41 | I83: 2718.8 | K83: 014 | L83: FIRST SOUTHERN | M83: 1200.75 | N83: 1984.66 | O83: 3642.75 | P83: 3648.98 | Q83: 3371.02 | R83: 2718.8 | T83: =MAX(D83:I83)*$V$2+1 -> 4749.7877
B84: 053 | C84: FIFTH NORTHERN | D84: 2903.42 | E84: 2926.75 | F84: 1373.75 | G84: 446.45 | H84: 650.25 | I84: 687.25 | K84: 053 | L84: FIFTH NORTHERN | M84: 2010.92 | N84: 2450.75 | O84: 1052.25 | P84: 372.75 | Q84: 462.5 | R84: 687.25 | T84: =MAX(D84:I84)*$V$2+1 -> 2957.0175
A85: Admin | B85: 054 | C85: FIFTH SOUTHERN | D85: 1430.9 | E85: 1993.4 | F85: 2148.65 | G85: 2001.55 | H85: 1828.08 | I85: 1099.25 | K85: 054 | L85: FIFTH SOUTHERN | M85: 1104.2 | N85: 1459.65 | O85: 1684.45 | P85: 1495.3 | Q85: 1676.08 | R85: 1099.25 | T85: =MAX(D85:I85)*$V$2+1 -> 2171.1365
B86: 070 | C86: SEVENTH | D86: 4966.49 | E86: 3785.32 | F86: 3901.9 | G86: 4149.55 | H86: 4553.8 | I86: 2024.6 | K86: 070 | L86: SEVENTH | M86: 3691 | N86: 3135.27 | O86: 2777.65 | P86: 3386.5 | Q86: 4071.55 | R86: 2024.6 | T86: =MAX(D86:I86)*$V$2+1 -> 5017.1549
A87: Support | B87: 081 | C87: EIGHTH COASTAL | D87: 449.5 | E87: 795 | F87: 704.43 | G87: 386.75 | H87: 791.13 | I87: 406.78 | K87: 081 | L87: EIGHTH COASTAL | M87: 394 | N87: 534.5 | O87: 310.18 | P87: 312.08 | Q87: 459.38 | R87: 406.78 | T87: =MAX(D87:I87)*$V$2+1 -> 803.95
B88: 082 | C88: EIGHTH EASTERN | D88: 1786.9 | E88: 1737.33 | F88: 1170.95 | G88: 1104.28 | H88: 1245.5 | I88: 957.5 | K88: 082 | L88: EIGHTH EASTERN | M88: 1433.7 | N88: 1356.83 | O88: 922 | P88: 874.38 | Q88: 976 | R88: 957.5 | T88: =MAX(D88:I88)*$V$2+1 -> 1805.769
B89: 085 | C89: EIGHTH WESTERN RIVERS | D89: 43 | E89: 4 | F89: 268.8 | G89: 78.5 | H89: 53 | I89: 39.5 | K89: 085 | L89: EIGHTH WESTERN RIVERS | M89: 43 | N89: 4 | O89: 259.5 | P89: 78.5 | Q89: 44 | R89: 39.5 | T89: =MAX(D89:I89)*$V$2+1 -> 272.488
B90: 091 | C90: NINTH CENTRAL | D90: 2 | E90: 340 | F90: 352.16 | G90: 420.08 | H90: 266.25 | I90: 69.2 | K90: 091 | L90: NINTH CENTRAL | M90: 2 | N90: 297.25 | O90: 262.16 | P90: 363.33 | Q90: 155.25 | R90: 69.2 | T90: =MAX(D90:I90)*$V$2+1 -> 425.2808
B91: 092 | C91: NINTH EASTERN | D91: 7 | E91: 2.5 | F91: 46.5 | G91: 27 | H91: 30 | I91: 2 | K91: 092 | L91: NINTH EASTERN | M91: 7 | N91: 2.5 | O91: 46.5 | P91: 19 | Q91: 25.25 | R91: 2 | T91: =MAX(D91:I91)*$V$2+1 -> 47.965
B92: 095 | C92: NINTH WESTERN | D92: 283 | E92: 339.84 | F92: 668.05 | G92: 522.55 | H92: 356.5 | I92: 370 | K92: 095 | L92: NINTH WESTERN | M92: 208 | N92: 339.84 | O92: 622.55 | P92: 399.95 | Q92: 251.5 | R92: 370 | T92: =MAX(D92:I92)*$V$2+1 -> 675.7305
B93: 113 | C93: ELEVEN NORTH | D93: 547.5 | E93: 844.7 | F93: 1360.85 | G93: 1271.7 | H93: 2156.38 | I93: 1616.71 | K93: 113 | L93: ELEVEN NORTH | M93: 376.5 | N93: 545.6 | O93: 966.75 | P93: 1005 | Q93: 1618.28 | R93: 1616.71 | T93: =MAX(D93:I93)*$V$2+1 -> 2178.9438
B94: 114 | C94: ELEVEN SOUTH | D94: 1914.05 | E94: 4115.58 | F94: 4955.91 | G94: 4091.97 | H94: 4002.8 | I94: 1712 | K94: 114 | L94: ELEVEN SOUTH | M94: 1229.5 | N94: 3400.08 | O94: 3587.11 | P94: 3378.12 | Q94: 3185.8 | R94: 1712 | T94: =MAX(D94:I94)*$V$2+1 -> 5006.4691
B95: 130 | C95: THIRTEENTH | D95: 330.75 | E95: 283.25 | F95: 1697.75 | G95: 819.5 | H95: 509.5 | I95: 459.25 | K95: 130 | L95: THIRTEENTH | M95: 257.25 | N95: 211 | O95: 1271 | P95: 750 | Q95: 389.25 | R95: 459.25 | T95: =MAX(D95:I95)*$V$2+1 -> 1715.7275
B96: 140 | C96: FOURTEENTH | D96: 166 | E96: 69.75 | F96: 0.75 | G96: 29 | H96: 99.5 | I96: 97.5 | K96: 140 | L96: FOURTEENTH | M96: 139.5 | N96: 69.75 | O96: 0.75 | P96: 5 | Q96: 0 | R96: 97.5 | T96: =MAX(D96:I96)*$V$2+1 -> 168.66
B97: 170 | C97: SEVENTEENTH | D97: 169.45 | E97: 61.85 | F97: 411.63 | G97: 283.65 | H97: 39.3 | I97: 0 | K97: 170 | L97: SEVENTEENTH | M97: 142.65 | N97: 47.45 | O97: 332.33 | P97: 226.65 | Q97: 32.5 | R97: 0 | T97: =MAX(D97:I97)*$V$2+1 -> 416.7463
D98: 18444.66 | E98: 21991.14 | F98: 25886.49 | G98: 22757.88 | H98: 22408 | I98: 13167.52 | M98: 13929.97 | N98: 17483.23 | O98: 19500.9 | P98: 18158.29 | Q98: 18145.21 | R98: 13167.52 | T98: =MAX(D98:I98)*$V$2+1 -> 26146.355
B101: Unit # | C101: District | D101: 2021 | E101: 2022 | F101: 2023 | G101: 2024 | H101: 2025 | I101: 2026 | K101: Unit # | L101: District | M101: 2021 | N101: 2022 | O101: 2023 | P101: 2024 | Q101: 2025 | R101: 2026
B102: 013 | C102: FIRST NORTHERN | D102: 5504.5 | E102: 9808.25 | F102: 8001.75 | G102: 9139.18 | H102: 8650.55 | I102: 5858.06 | K102: 013 | L102: FIRST NORTHERN | M102: 3827.25 | N102: 7902.75 | O102: 6378.5 | P102: 7253.45 | Q102: 6532.15 | R102: 5858.06 | T102: =MAX(D102:I102)*$V$2+1 -> 9907.3325
A103: USCG | B103: 014 | C103: FIRST SOUTHERN | D103: 11762.83 | E103: 5249.89 | F103: 3589.75 | G103: 3836.9 | H103: 4173 | I103: 3743.95 | K103: 014 | L103: FIRST SOUTHERN | M103: 8718.67 | N103: 4362.39 | O103: 2973.5 | P103: 3023.95 | Q103: 3300.5 | R103: 3743.95 | T103: =MAX(D103:I103)*$V$2+1 -> 11881.458
B104: 053 | C104: FIFTH NORTHERN | D104: 5635.52 | E104: 7398.34 | F104: 9140.52 | G104: 8346.18 | H104: 8011.14 | I104: 3697.94 | K104: 053 | L104: FIFTH NORTHERN | M104: 4338.62 | N104: 5625.89 | O104: 6845.54 | P104: 6646.67 | Q104: 6553.69 | R104: 3697.94 | T104: =MAX(D104:I104)*$V$2+1 -> 9232.9252
A105: Operations | B105: 054 | C105: FIFTH SOUTHERN | D105: 6723.71 | E105: 7821.74 | F105: 10598.56 | G105: 11326.73 | H105: 13826.63 | I105: 12305.5 | K105: 054 | L105: FIFTH SOUTHERN | M105: 5531.28 | N105: 6123.55 | O105: 8674.85 | P105: 8185.13 | Q105: 11900.97 | R105: 12305.5 | T105: =MAX(D105:I105)*$V$2+1 -> 13965.896
B106: 070 | C106: SEVENTH | D106: 13072.44 | E106: 15090.87 | F106: 15035.53 | G106: 14796.95 | H106: 16877.38 | I106: 11326.48 | K106: 070 | L106: SEVENTH | M106: 10348.6 | N106: 11195.8 | O106: 11294.8 | P106: 11173.18 | Q106: 12762.08 | R106: 11326.48 | T106: =MAX(D106:I106)*$V$2+1 -> 17047.154
A107: Support | B107: 081 | C107: EIGHTH COASTAL | D107: 4461.33 | E107: 5175.13 | F107: 3847.43 | G107: 4051.95 | H107: 2964.74 | I107: 2559.95 | K107: 081 | L107: EIGHTH COASTAL | M107: 3384.65 | N107: 4135.13 | O107: 3065.49 | P107: 3073.74 | Q107: 2124.54 | R107: 2559.95 | T107: =MAX(D107:I107)*$V$2+1 -> 5227.8813
B108: 082 | C108: EIGHTH EASTERN | D108: 632.1 | E108: 623.95 | F108: 507 | G108: 491 | H108: 640.25 | I108: 515 | K108: 082 | L108: EIGHTH EASTERN | M108: 502.85 | N108: 510.45 | O108: 420 | P108: 390.5 | Q108: 510.25 | R108: 515 | T108: =MAX(D108:I108)*$V$2+1 -> 647.6525
B109: 085 | C109: EIGHTH WESTERN RIVERS | D109: 882.3 | E109: 888.08 | F109: 404.95 | G109: 606.5 | H109: 1295.15 | I109: 461.45 | K109: 085 | L109: EIGHTH WESTERN RIVERS | M109: 822.3 | N109: 775.08 | O109: 387.79 | P109: 109 | Q109: 1015.15 | R109: 461.45 | T109: =MAX(D109:I109)*$V$2+1 -> 1309.1015
B110: 091 | C110: NINTH CENTRAL | D110: 5022.08 | E110: 7210.56 | F110: 3785.86 | G110: 1828.44 | H110: 3259.7 | I110: 2287.88 | K110: 091 | L110: NINTH CENTRAL | M110: 2997.62 | N110: 5734.1 | O110: 2910.9 | P110: 1499.95 | Q110: 2599.93 | R110: 2287.88 | T110: =MAX(D110:I110)*$V$2+1 -> 7283.6656
B111: 092 | C111: NINTH EASTERN | D111: 1505.35 | E111: 1296.75 | F111: 1224.3 | G111: 1550.31 | H111: 2483.8 | I111: 1382.26 | K111: 092 | L111: NINTH EASTERN | M111: 1155.95 | N111: 995.85 | O111: 1001.75 | P111: 1201.52 | Q111: 2010.17 | R111: 1382.26 | T111: =MAX(D111:I111)*$V$2+1 -> 2509.638
B112: 095 | C112: NINTH WESTERN | D112: 3546.79 | E112: 4030.9 | F112: 3306.87 | G112: 3279.94 | H112: 2961.43 | I112: 2350 | K112: 095 | L112: NINTH WESTERN | M112: 3039.54 | N112: 3376.65 | O112: 2740.12 | P112: 2770.44 | Q112: 2382.56 | R112: 2350 | T112: =MAX(D112:I112)*$V$2+1 -> 4072.209
B113: 113 | C113: ELEVEN NORTH | D113: 5817.89 | E113: 4364.69 | F113: 5806.07 | G113: 6814.85 | H113: 6893.68 | I113: 4126.7 | K113: 113 | L113: ELEVEN NORTH | M113: 4341.1 | N113: 3263.92 | O113: 4587.27 | P113: 5389.75 | Q113: 5217.62 | R113: 4126.7 | T113: =MAX(D113:I113)*$V$2+1 -> 6963.6168
B114: 114 | C114: ELEVEN SOUTH | D114: 3545.71 | E114: 3506.31 | F114: 3248.58 | G114: 3892.35 | H114: 4274.54 | I114: 2302.31 | K114: 114 | L114: ELEVEN SOUTH | M114: 2685.94 | N114: 2912.56 | O114: 2445.07 | P114: 2735.18 | Q114: 3418 | R114: 2302.31 | T114: =MAX(D114:I114)*$V$2+1 -> 4318.2854
B115: 130 | C115: THIRTEENTH | D115: 3117.6 | E115: 4906.1 | F115: 3694 | G115: 5159.16 | H115: 3926.5 | I115: 2703.25 | K115: 130 | L115: THIRTEENTH | M115: 2422.25 | N115: 3236.65 | O115: 2963.8 | P115: 4076.16 | Q115: 3117 | R115: 2703.25 | T115: =MAX(D115:I115)*$V$2+1 -> 5211.7516
B116: 140 | C116: FOURTEENTH | D116: 790.75 | E116: 825.25 | F116: 1237.56 | G116: 2386.29 | H116: 1247.25 | I116: 664.5 | K116: 140 | L116: FOURTEENTH | M116: 588.5 | N116: 576.75 | O116: 761.58 | P116: 1873.54 | Q116: 1000 | R116: 664.5 | T116: =MAX(D116:I116)*$V$2+1 -> 2411.1529
...

Sheet Data_Facilities
A1: AIRCRAFT FACILITIES | B1: Unit # | C1: District | D1: 2021 | E1: 2022 | F1: 2023 | G1: 2024 | H1: 2025 | I1: 2026
B2: 013 | C2: NORTHEAST NORTHERN | D2: 7 | E2: 8 | F2: 8 | G2: 5 | H2: 3 | I2: 4
B3: 014 | C3: NORTHEAST SOUTHERN | D3: 22 | E3: 18 | F3: 17 | G3: 14 | H3: 14 | I3: 10
B4: 053 | C4: EAST NORTHERN | D4: 2 | E4: 0 | F4: 0 | G4: 0 | H4: 1 | I4: 2
B5: 054 | C5: EAST SOUTHERN | D5: 9 | E5: 7 | F5: 8 | G5: 8 | H5: 6 | I5: 6
B6: 070 | C6: SOUTHEAST | D6: 32 | E6: 32 | F6: 33 | G6: 34 | H6: 29 | I6: 27
B7: 081 | C7: HEARTLAND COASTAL | D7: 10 | E7: 5 | F7: 5 | G7: 6 | H7: 9 | I7: 6
B8: 082 | C8: HEARTLAND EASTERN | D8: 4 | E8: 1 | F8: 2 | G8: 3 | H8: 0 | I8: 3
B9: 085 | C9: HEARTLAND WESTERN RIVERS | D9: 3 | E9: 9 | F9: 2 | G9: 6 | H9: 6 | I9: 4
B10: 091 | C10: GREAT LAKES CENTRAL | D10: 10 | E10: 11 | F10: 9 | G10: 9 | H10: 7 | I10: 10
B11: 092 | C11: GREAT LAKES EASTERN | D11: 8 | E11: 5 | F11: 7 | G11: 6 | H11: 5 | I11: 6
B12: 095 | C12: GREAT LAKES WESTERN | D12: 6 | E12: 6 | F12: 4 | G12: 4 | H12: 7 | I12: 5
B13: 113 | C13: SOUTHWEST NORTHERN | D13: 9 | E13: 6 | F13: 4 | G13: 5 | H13: 7 | I13: 6
... B17: 170 | C17: ARCTIC | D17: 0 | E17: 0 | F17: 0 | G17: 0 | H17: 0 | I17: 0
C18: ALL AUXILIARY | D18: 129 | E18: 114 | F18: 104 | G18: 105 | H18: 97 | I18: 92
A21: BOAT FACILITIES | B21: Unit # | C21: District | D21: 2021 | E21: 2022 | F21: 2023 | G21: 2024 | H21: 2025 | I21: 2026
B22: 013 | C22: NORTHEAST NORTHERN | D22: 69 | E22: 58 | F22: 54 | G22: 53 | H22: 61 | I22: 58
B23: 014 | C23: NORTHEAST SOUTHERN | D23: 90 | E23: 88 | F23: 80 | G23: 65 | H23: 65 | I23: 73
B24: 053 | C24: EAST NORTHERN | D24: 56 | E24: 52 | F24: 49 | G24: 44 | H24: 42 | I24: 39
B25: 054 | C25: EAST SOUTHERN | D25: 144 | E25: 118 | F25: 123 | G25: 111 | H25: 98 | I25: 100
B26: 070 | C26: SOUTHEAST | D26: 140 | E26: 114 | F26: 120 | G26: 116 | H26: 113 | I26: 108
B27: 081 | C27: HEARTLAND COASTAL | D27: 72 | E27: 57 | F27: 61 | G27: 53 | H27: 45 | I27: 47
B28: 082 | C28: HEARTLAND EASTERN | D28: 52 | E28: 48 | F28: 48 | G28: 42 | H28: 45 | I28: 42
B29: 085 | C29: HEARTLAND WESTERN RIVERS | D29: 49 | E29: 51 | F29: 49 | G29: 39 | H29: 35 | I29: 36
B30: 091 | C30: GREAT LAKES CENTRAL | D30: 39 | E30: 38 | F30: 39 | G30: 38 | H30: 38 | I30: 43
B31: 092 | C31: GREAT LAKES EASTERN | D31: 23 | E31: 19 | F31: 24 | G31: 25 | H31: 20 | I31: 27
B32: 095 | C32: GREAT LAKES WESTERN | D32: 40 | E32: 36 | F32: 27 | G32: 28 | H32: 23 | I32: 22
B33: 113 | C33: SOUTHWEST NORTHERN | D33: 54 | E33: 47 | F33: 45 | G33: 31 | H33: 28 | I33: 27
... B37: 170 | C37: ARCTIC | D37: 15 | E37: 9 | F37: 9 | G37: 5 | H37: 9 | I37: 7
C38: ALL AUXILIARY | D38: 932 | E38: 812 | F38: 807 | G38: 722 | H38: 696 | I38: 701
A41: RADIO FACILITIES | B41: Unit # | C41: District | D41: 2021 | E41: 2022 | F41: 2023 | G41: 2024 | H41: 2025 | I41: 2026
B42: 013 | C42: NORTHEAST NORTHERN | D42: 36 | E42: 29 | F42: 33 | G42: 33 | H42: 29 | I42: 30
B43: 014 | C43: NORTHEAST SOUTHERN | D43: 70 | E43: 54 | F43: 48 | G43: 39 | H43: 36 | I43: 40
B44: 053 | C44: EAST NORTHERN | D44: 102 | E44: 82 | F44: 82 | G44: 66 | H44: 35 | I44: 31
B45: 054 | C45: EAST SOUTHERN | D45: 66 | E45: 50 | F45: 36 | G45: 42 | H45: 38 | I45: 44
B46: 070 | C46: SOUTHEAST | D46: 163 | E46: 128 | F46: 137 | G46: 118 | H46: 126 | I46: 114
B47: 081 | C47: HEARTLAND COASTAL | D47: 23 | E47: 17 | F47: 17 | G47: 27 | H47: 23 | I47: 24
B48: 082 | C48: HEARTLAND EASTERN | D48: 21 | E48: 12 | F48: 21 | G48: 31 | H48: 33 | I48: 30
B49: 085 | C49: HEARTLAND WESTERN RIVERS | D49: 29 | E49: 33 | F49: 34 | G49: 20 | H49: 13 | I49: 9
B50: 091 | C50: GREAT LAKES CENTRAL | D50: 35 | E50: 31 | F50: 40 | G50: 30 | H50: 26 | I50: 29
B51: 092 | C51: GREAT LAKES EASTERN | D51: 11 | E51: 2 | F51: 2 | G51: 2 | H51: 3 | I51: 2
B52: 095 | C52: GREAT LAKES WESTERN | D52: 14 | E52: 8 | F52: 12 | G52: 12 | H52: 12 | I52: 11
B53: 113 | C53: SOUTHWEST NORTHERN | D53: 44 | E53: 34 | F53: 34 | G53: 29 | H53: 24 | I53: 31
... B57: 170 | C57: ARCTIC | D57: 3 | E57: 3 | F57: 3 | G57: 1 | H57: 2 | I57: 0
C58: ALL AUXILIARY | D58: 769 | E58: 606 | F58: 610 | G58: 523 | H58: 456 | I58: 460
A61: PWC FACILITIES | B61: Unit # | C61: District | D61: 2021 | E61: 2022 | F61: 2023 | G61: 2024 | H61: 2025 | I61: 2026
B62: 013 | C62: NORTHEAST NORTHERN | D62: 0 | E62: 0 | F62: 0 | G62: 0 | H62: 0 | I62: 0
B63: 014 | C63: NORTHEAST SOUTHERN | D63: 9 | E63: 7 | F63: 8 | G63: 6 | H63: 4 | I63: 3
B64: 053 | C64: EAST NORTHERN | D64: 0 | E64: 0 | F64: 0 | G64: 0 | H64: 0 | I64: 0
B65: 054 | C65: EAST SOUTHERN | D65: 18 | E65: 16 | F65: 7 | G65: 9 | H65: 8 | I65: 6
B66: 070 | C66: SOUTHEAST | D66: 12 | E66: 7 | F66: 4 | G66: 4 | H66: 3 | I66: 5
B67: 081 | C67: HEARTLAND COASTAL | D67: 2 | E67: 3 | F67: 4 | G67: 4 | H67: 6 | I67: 8
B68: 082 | C68: HEARTLAND EASTERN | D68: 2 | E68: 3 | F68: 2 | G68: 2 | H68: 2 | I68: 3
B69: 085 | C69: HEARTLAND WESTERN RIVERS | D69: 11 | E69: 8 | F69: 8 | G69: 8 | H69: 13 | I69: 14
B70: 091 | C70: GREAT LAKES CENTRAL | D70: 5 | E70: 5 | F70: 4 | G70: 4 | H70: 3 | I70: 1
B71: 092 | C71: GREAT LAKES EASTERN | D71: 8 | E71: 6 | F71: 6 | G71: 5 | H71: 5 | I71: 8
B72: 095 | C72: GREAT LAKES WESTERN | D72: 9 | E72: 8 | F72: 6 | G72: 5 | H72: 6 | I72: 5
B73: 113 | C73: SOUTHWEST NORTHERN | D73: 6 | E73: 7 | F73: 4 | G73: 2 | H73: 0 | I73: 0
... B77: 170 | C77: ARCTIC | D77: 0 | E77: 0 | F77: 0 | G77: 0 | H77: 0 | I77: 0
C78: ALL AUXILIARY | D78: 88 | E78: 77 | F78: 65 | G78: 59 | H78: 57 | I78: 62
A81: PADDLE FACILITIES | B81: Unit # | C81: District | D81: 2021 | E81: 2022 | F81: 2023 | G81: 2024 | H81: 2025 | I81: 2026
B82: 013 | C82: NORTHEAST NORTHERN | D82: 0 | E82: 3 | F82: 5 | G82: 6 | H82: 3 | I82: 3
B83: 014 | C83: NORTHEAST SOUTHERN | D83: 0 | E83: 0 | F83: 0 | G83: 0 | H83: 5 | I83: 3
B84: 053 | C84: EAST NORTHERN | D84: 2 | E84: 1 | F84: 2 | G84: 2 | H84: 2 | I84: 1
B85: 054 | C85: EAST SOUTHERN | D85: 26 | E85: 28 | F85: 24 | G85: 26 | H85: 23 | I85: 16
B86: 070 | C86: SOUTHEAST | D86: 1 | E86: 0 | F86: 8 | G86: 7 | H86: 4 | I86: 10
B87: 081 | C87: HEARTLAND COASTAL | D87: 11 | E87: 4 | F87: 3 | G87: 1 | H87: 0 | I87: 4
B88: 082 | C88: HEARTLAND EASTERN | D88: 0 | E88: 0 | F88: 0 | G88: 0 | H88: 0 | I88: 1
B89: 085 | C89: HEARTLAND WESTERN RIVERS | D89: 2 | E89: 3 | F89: 13 | G89: 18 | H89: 22 | I89: 24
B90: 091 | C90: GREAT LAKES CENTRAL | D90: 0 | E90: 0 | F90: 0 | G90: 0 | H90: 1 | I90: 0
B91: 092 | C91: GREAT LAKES EASTERN | D91: 14 | E91: 5 | F91: 7 | G91: 4 | H91: 4 | I91: 6
B92: 095 | C92: GREAT LAKES WESTERN | D92: 0 | E92: 0 | F92: 0 | G92: 1 | H92: 1 | I92: 0
B93: 113 | C93: SOUTHWEST NORTHERN | D93: 0 | E93: 0 | F93: 0 | G93: 0 | H93: 0 | I93: 8
... B97: 170 | C97: ARCTIC | D97: 0 | E97: 0 | F97: 0 | G97: 0 | H97: 6 | I97: 9
C98: ALL AUXILIARY | D98: 56 | E98: 44 | F98: 62 | G98: 65 | H98: 71 | I98: 88

Sheet Data_Newbs
B1: Unit # | C1: District | D1: 2021 | E1: 2022 | F1: 2023 | G1: 2024 | H1: 2025 | I1: 2026 | K1: Unit # | L1: District | M1: 2021 | N1: 2022 | O1: 2023 | P1: 2024 | Q1: 2025 | R1: 2026
B2: 013 | C2: NORTHEAST DISTRICT - NORTHERN REGION | D2: 132 | E2: 133 | F2: 127 | G2: 136 | H2: 122 | I2: 87 | K2: 013 | L2: NORTHEAST DISTRICT - NORTHERN REGION | M2: 96 | N2: 96 | O2: 101 | P2: 94 | Q2: 107 | R2: 87 | T2: =MAX(Data_Newbs!D2:'Data_Newbs'!I2, Data_Misc!D262:'Data_Misc'!I262)*Data_Newbs!$V$2+1 -> 138.36 | V2: 1.01
B3: 014 | C3: NORTHEAST DISTRICT - SOUTHERN REGION | D3: 148 | E3: 231 | F3: 252 | G3: 219 | H3: 189 | I3: 102 | K3: 014 | L3: NORTHEAST DISTRICT - SOUTHERN REGION | M3: 103 | N3: 166 | O3: 177 | P3: 157 | Q3: 140 | R3: 102 | T3: =MAX(Data_Newbs!D3:'Data_Newbs'!I3, Data_Misc!D263:'Data_Misc'!I263)*Data_Newbs!$V$2+1 -> 255.52
B4: 053 | C4: EAST DISTRICT - NORTHERN REGION | D4: 75 | E4: 79 | F4: 60 | G4: 101 | H4: 75 | I4: 67 | K4: 053 | L4: EAST DISTRICT - NORTHERN REGION | M4: 48 | N4: 52 | O4: 58 | P4: 85 | Q4: 49 | R4: 67 | T4: =MAX(Data_Newbs!D4:'Data_Newbs'!I4, Data_Misc!D264:'Data_Misc'!I264)*Data_Newbs!$V$2+1 -> 113.11
B5: 054 | C5: EAST DISTRICT - SOUTHERN REGION | D5: 177 | E5: 187 | F5: 220 | G5: 252 | H5: 183 | I5: 141 | K5: 054 | L5: EAST DISTRICT - SOUTHERN REGION | M5: 126 | N5: 128 | O5: 177 | P5: 208 | Q5: 135 | R5: 141 | T5: =MAX(Data_Newbs!D5:'Data_Newbs'!I5, Data_Misc!D265:'Data_Misc'!I265)*Data_Newbs!$V$2+1 -> 255.52
B6: 070 | C6: SOUTHEAST DISTRICT | D6: 381 | E6: 331 | F6: 419 | G6: 319 | H6: 299 | I6: 222 | K6: 070 | L6: SOUTHEAST DISTRICT | M6: 292 | N6: 235 | O6: 333 | P6: 245 | Q6: 254 | R6: 222 | T6: =MAX(Data_Newbs!D6:'Data_Newbs'!I6, Data_Misc!D266:'Data_Misc'!I266)*Data_Newbs!$V$2+1 -> 424.19
B7: 081 | C7: HEARTLAND DISTRICT - COASTAL REGION | D7: 133 | E7: 103 | F7: 112 | G7: 125 | H7: 123 | I7: 70 | K7: 081 | L7: HEARTLAND DISTRICT - COASTAL REGION | M7: 96 | N7: 75 | O7: 79 | P7: 91 | Q7: 95 | R7: 70 | T7: =MAX(Data_Newbs!D7:'Data_Newbs'!I7, Data_Misc!D267:'Data_Misc'!I267)*Data_Newbs!$V$2+1 -> 142.4
B8: 082 | C8: HEARTLAND DISTRICT - EASTERN REGION | D8: 74 | E8: 69 | F8: 150 | G8: 89 | H8: 67 | I8: 66 | K8: 082 | L8: HEARTLAND DISTRICT - EASTERN REGION | M8: 58 | N8: 64 | O8: 110 | P8: 57 | Q8: 67 | R8: 66 | T8: =MAX(Data_Newbs!D8:'Data_Newbs'!I8, Data_Misc!D268:'Data_Misc'!I268)*Data_Newbs!$V$2+1 -> 152.5
B9: 085 | C9: HEARTLAND DISTRICT - WESTERN REGION | D9: 33 | E9: 69 | F9: 74 | G9: 91 | H9: 71 | I9: 68 | K9: 085 | L9: HEARTLAND DISTRICT - WESTERN REGION | M9: 28 | N9: 51 | O9: 57 | P9: 70 | Q9: 71 | R9: 68 | T9: =MAX(Data_Newbs!D9:'Data_Newbs'!I9, Data_Misc!D269:'Data_Misc'!I269)*Data_Newbs!$V$2+1 -> 94.93
B10: 091 | C10: GREAT LAKES DISTRICT - CENTRAL REGION | D10: 46 | E10: 60 | F10: 61 | G10: 52 | H10: 62 | I10: 31 | K10: 091 | L10: GREAT LAKES DISTRICT - CENTRAL REGION | M10: 33 | N10: 41 | O10: 53 | P10: 44 | Q10: 51 | R10: 31 | T10: =MAX(Data_Newbs!D10:'Data_Newbs'!I10, Data_Misc!D270:'Data_Misc'!I270)*Data_Newbs!$V$2+1 -> 83.82
B11: 092 | C11: GREAT LAKES DISTRICT - EASTERN REGION | D11: 26 | E11: 22 | F11: 31 | G11: 26 | H11: 26 | I11: 26 | K11: 092 | L11: GREAT LAKES DISTRICT - EASTERN REGION | M11: 17 | N11: 13 | O11: 25 | P11: 13 | Q11: 17 | R11: 26 | T11: =MAX(Data_Newbs!D11:'Data_Newbs'!I11, Data_Misc!D271:'Data_Misc'!I271)*Data_Newbs!$V$2+1 -> 56.55
B12: 095 | C12: GREAT LAKES DISTRICT - WESTERN REGION | D12: 72 | E12: 54 | F12: 85 | G12: 71 | H12: 87 | I12: 39 | K12: 095 | L12: GREAT LAKES DISTRICT - WESTERN REGION | M12: 55 | N12: 47 | O12: 74 | P12: 59 | Q12: 67 | R12: 39 | T12: =MAX(Data_Newbs!D12:'Data_Newbs'!I12, Data_Misc!D272:'Data_Misc'!I272)*Data_Newbs!$V$2+1 -> 88.87
B13: 113 | C13: SOUTHWEST DISTRICT - NORTHERN REGION | D13: 79 | E13: 70 | F13: 70 | G13: 95 | H13: 81 | I13: 39 | K13: 113 | L13: SOUTHWEST DISTRICT - NORTHERN REGION | M13: 56 | N13: 59 | O13: 56 | P13: 63 | Q13: 61 | R13: 39 | T13: =MAX(Data_Newbs!D13:'Data_Newbs'!I13, Data_Misc!D273:'Data_Misc'!I273)*Data_Newbs!$V$2+1 -> 117.15
B14: 114 | C14: SOUTHWEST DISTRICT - SOUTHERN REGION | D14: 74 | E14: 89 | F14: 107 | G14: 104 | H14: 87 | I14: 44 | K14: 114 | L14: SOUTHWEST DISTRICT - SOUTHERN REGION | M14: 53 | N14: 58 | O14: 87 | P14: 80 | Q14: 69 | R14: 44 | T14: =MAX(Data_Newbs!D14:'Data_Newbs'!I14, Data_Misc!D274:'Data_Misc'!I274)*Data_Newbs!$V$2+1 -> 110.08
... B17: 170 | C17: ARCTIC DISTRICT | D17: 13 | E17: 11 | F17: 22 | G17: 20 | H17: 9 | I17: 8 | K17: 170 | L17: ARCTIC DISTRICT | M17: 13 | N17: 6 | O17: 19 | P17: 15 | Q17: 9 | R17: 8 | T17: =MAX(Data_Newbs!D17:'Data_Newbs'!I17, Data_Misc!D277:'Data_Misc'!I277)*Data_Newbs!$V$2+1 -> 33.32
D18: 1553 | E18: 1600 | F18: 1940 | G18: 1816 | H18: 1601 | I18: 1084 | M18: 1135 | N18: 1163 | O18: 1524 | P18: 1363 | Q18: 1285 | R18: 1084 | T18: =MAX(Data_Newbs!D18:'Data_Newbs'!I18, Data_Misc!D278:'Data_Misc'!I278)*Data_Newbs!$V$2+1 -> 1960.4

Sheet Data_Membership
B1: Unit # | C1: District | D1: 2021 | E1: 2022 | F1: 2023 | G1: 2024 | H1: 2025 | I1: 2026
B2: 013 | C2: NORTHEAST DISTRICT - NORTHERN REGION | D2: 1928 | E2: 1888 | F2: 1855 | G2: 1818 | H2: 1740 | I2: 1667 | K2: =MAX(D2:I2)*$M$2+1 -> 1948.28 | M2: 1.01
B3: 014 | C3: NORTHEAST DISTRICT - SOUTHERN REGION | D3: 2721 | E3: 2644 | F3: 2641 | G3: 2625 | H3: 2598 | I3: 2463 | K3: =MAX(D3:I3)*$M$2+1 -> 2749.21
B4: 053 | C4: EAST DISTRICT - NORTHERN REGION | D4: 1669 | E4: 1597 | F4: 1507 | G4: 1408 | H4: 1325 | I4: 1267 | K4: =MAX(D4:I4)*$M$2+1 -> 1686.69
B5: 054 | C5: EAST DISTRICT - SOUTHERN REGION | D5: 2179 | E5: 2102 | F5: 2089 | G5: 2135 | H5: 2042 | I5: 1902 | K5: =MAX(D5:I5)*$M$2+1 -> 2201.79 | M5: Membership
B6: 070 | C6: SOUTHEAST DISTRICT | D6: 4236 | E6: 4087 | F6: 4052 | G6: 3862 | H6: 3718 | I6: 3598 | K6: =MAX(D6:I6)*$M$2+1 -> 4279.36
B7: 081 | C7: HEARTLAND DISTRICT - COASTAL REGION | D7: 1303 | E7: 1245 | F7: 1196 | G7: 1210 | H7: 1161 | I7: 1148 | K7: =MAX(D7:I7)*$M$2+1 -> 1317.03
B8: 082 | C8: HEARTLAND DISTRICT - EASTERN REGION | D8: 967 | E8: 946 | F8: 963 | G8: 947 | H8: 914 | I8: 843 | K8: =MAX(D8:I8)*$M$2+1 -> 977.67
B9: 085 | C9: HEARTLAND DISTRICT - WESTERN REGION | D9: 913 | E9: 839 | F9: 855 | G9: 813 | H9: 805 | I9: 790 | K9: =MAX(D9:I9)*$M$2+1 -> 923.13
B10: 091 | C10: GREAT LAKES DISTRICT - CENTRAL REGION | D10: 792 | E10: 767 | F10: 718 | G10: 691 | H10: 686 | I10: 681 | K10: =MAX(D10:I10)*$M$2+1 -> 800.92
B11: 092 | C11: GREAT LAKES DISTRICT - EASTERN REGION | D11: 647 | E11: 568 | F11: 547 | G11: 514 | H11: 484 | I11: 473 | K11: =MAX(D11:I11)*$M$2+1 -> 654.47
B12: 095 | C12: GREAT LAKES DISTRICT - WESTERN REGION | D12: 878 | E12: 858 | F12: 822 | G12: 824 | H12: 832 | I12: 811 | K12: =MAX(D12:I12)*$M$2+1 -> 887.78
B13: 113 | C13: SOUTHWEST DISTRICT - NORTHERN REGION | D13: 1143 | E13: 1071 | F13: 998 | G13: 953 | H13: 950 | I13: 960 | K13: =MAX(D13:I13)*$M$2+1 -> 1155.43
B14: 114 | C14: SOUTHWEST DISTRICT - SOUTHERN REGION | D14: 1390 | E14: 1280 | F14: 1234 | G14: 1176 | H14: 1116 | I14: 1113 | K14: =MAX(D14:I14)*$M$2+1 -> 1404.9
B15: 130 | C15: NORTHWEST DISTRICT | D15: 904 | E15: 863 | F15: 859 | G15: 816 | H15: 785 | I15: 743 | K15: =MAX(D15:I15)*$M$2+1 -> 914.04
B16: 140 | C16: OCEANIA DISTRICT | D16: 378 | E16: 353 | F16: 353 | G16: 364 | H16: 400 | I16: 396 | K16: =MAX(D16:I16)*$M$2+1 -> 405
B17: 170 | C17: ARCTIC DISTRICT | D17: 270 | E17: 240 | F17: 232 | G17: 230 | H17: 226 | I17: 216 | K17: =MAX(D17:I17)*$M$2+1 -> 273.7
B18: 999 | C18: ALL AUXILIARY | D18: 22318 | E18: 21348 | F18: 20921 | G18: 20386 | H18: 19782 | I18: 19071 | K18: =MAX(D18:I18)*$M$2+1 -> 22542.18

Sheet Date_Control
C3: October | E3: Select a drop-down value for the month of this report
C6: 2026 | E6: Select a drop-down value for the latest year's data you need
B7: 1 yr ago | C7: =C6-1 -> 2025 | E7: Do not modify the other years in blue - they are derived
B8: 2 yrs ago | C8: =C6-2 -> 2024
B9: 3 yrs ago | C9: =C6-3 -> 2023
B10: 4 yrs ago | C10: =C6-4 -> 2022
B11: 5 yrs ago | C11: =C6-5 -> 2021
B101: 1900
B102: 2025
B103: 2026
B104: 2027
B105: 2028
B106: 2029
B107: 2030
B108: 2031
B109: 2032
B110: 2033
B111: 2034
