Workbook
Name D11NR_D: #REF!
Name D11NR_F: #REF!
Name D11SR_D: #REF!
Name D11SR_F: #REF!
Name D13_D: #REF!
Name D13_F: #REF!
Name D14_D: #REF!
Name D14_F: #REF!
Name D17_D: #REF!
Name D1NR_D: #REF!
Name D1NR_F: #REF!
Name D1SR_D: #REF!
Name D1SR_F: #REF!
Name D5NR_D: #REF!
Name D5NR_F: #REF!
Name D5SR_D: #REF!
Name D5SR_F: #REF!
Name D7_D: #REF!
Name D7_F: #REF!
Name D8CR_D: #REF!
Name D8CR_F: #REF!
Name D8ER_D: #REF!
Name D8ER_F: #REF!
Name D8WR_D: #REF!
Name D8WR_F: #REF!
Name D9CR_D: #REF!
Name D9CR_F: #REF!
Name D9ER_D: #REF!
Name D9ER_F: #REF!
Name D9WR_D: #REF!
Name D9WR_F: #REF!
Name Districts: #REF!
Name Divisions: #REF!
Name Flotillas: #REF!
Name OtherDist7: #REF!

Sheet ALL_AUX
C3: ALL AUXILIARY | K3: AUXWATCH
C6: =CONCATENATE(Date_Control!C3," ",Date_Control!C6) -> October 2026 | K6: EXECUTIVE SUMMARY
C8: Bar tops in past years denote full year values
C9: Darker bars denote year to date values
C11: For each year to date, all work in AUXDATA II
C12: =CONCATENATE("is shown if performed before the first day of ",Date_Control!$C$3) -> is shown if performed before the first day of October
C13: and approved.
C15: =CONCATENATE("Membership numbers are as of the first day of ", Date_Control!$C$3) -> Membership numbers are as of the first day of October
C16: for each reported year.
C18: =CONCATENATE("Facility numbers are as of the first day of ", Date_Control!$C$1) -> Facility numbers are as of the first day of
C19: for the current year, and End-of-Year for previous years.
C26: ALL AUXILIARY
C30: RECREATIONAL
C32: BOATING
C34: SAFETY
C49: ALL AUXILIARY
C53: RESPONSE
C55: &
C57: PREVENTION
C72: ALL AUXILIARY
C76: MISSION
C78: SUPPORT
... C124: FACILITIES
A200: v2.3

Sheet 013 NE-NR
C3: =Data_Membership!C$2 -> NORTHEAST DISTRICT - NORTHERN REGION | E3: 13 | K3: AUXWATCH
C6: =CONCATENATE(Date_Control!C3," ",Date_Control!C6) -> October 2026 | K6: EXECUTIVE SUMMARY
C9: Bar tops in past years denote full year values
C10: Darker bars denote year to date values
C12: For each year to date, all work in AUXDATA II
C13: =CONCATENATE("is shown if performed before the first day of ",Date_Control!$C$3) -> is shown if performed before the first day of October
C14: and approved.
C16: =CONCATENATE("Membership numbers are as of the first day of ", Date_Control!$C$1) -> Membership numbers are as of the first day of
C17: for each reported year.
C19: =CONCATENATE("Facility numbers are as of the first day of ", Date_Control!$C$1) -> Facility numbers are as of the first day of
C20: for the current year, and End-of-Year for previous years.
C26: =Data_Membership!C$2 -> NORTHEAST DISTRICT - NORTHERN REGION
C30: RECREATIONAL
C32: BOATING
C34: SAFETY
C49: =Data_Membership!C$2 -> NORTHEAST DISTRICT - NORTHERN REGION
C53: RESPONSE
C55: &
C57: PREVENTION
C72: =Data_Membership!C$2 -> NORTHEAST DISTRICT - NORTHERN REGION
C76: MISSION
C78: SUPPORT
C95: =Data_Membership!C$2 -> NORTHEAST DISTRICT - NORTHERN REGION
C99: COAST GUARD
C101: AUGMENTATION
C118: =Data_Membership!C$2 -> NORTHEAST DISTRICT - NORTHERN REGION
C122: OPERATIONAL
C124: FACILITIES

Sheet 014 NE-SR
C3: =Data_Membership!C$3 -> NORTHEAST DISTRICT - SOUTHERN REGION | K3: AUXWATCH
C6: =CONCATENATE(Date_Control!C3," ",Date_Control!C6) -> October 2026 | K6: EXECUTIVE SUMMARY
C9: Bar tops in past years denote full year values
C10: Darker bars denote year to date values
C12: For each year to date, all work in AUXDATA II
C13: =CONCATENATE("is shown if performed before the first day of ",Date_Control!$C$3) -> is shown if performed before the first day of October
C14: and approved.
C16: =CONCATENATE("Membership numbers areas of the first day of ", Date_Control!$C$1) -> Membership numbers areas of the first day of
C17: for each reported year.
C19: =CONCATENATE("Facility numbers are as of the first day of ", Date_Control!$C$1) -> Facility numbers are as of the first day of
C20: for the current year, and End-of-Year for previous years.
C26: =Data_Membership!C$3 -> NORTHEAST DISTRICT - SOUTHERN REGION
C30: RECREATIONAL
C32: BOATING
C34: SAFETY
C49: =Data_Membership!C$3 -> NORTHEAST DISTRICT - SOUTHERN REGION
C53: RESPONSE
C55: &
C57: PREVENTION
C72: =Data_Membership!C$3 -> NORTHEAST DISTRICT - SOUTHERN REGION
C76: MISSION
C78: SUPPORT
C95: =Data_Membership!C$3 -> NORTHEAST DISTRICT - SOUTHERN REGION
C99: COAST GUARD
C101: AUGMENTATION
C118: =Data_Membership!C$3 -> NORTHEAST DISTRICT - SOUTHERN REGION
C122: OPERATIONAL
C124: FACILITIES

Sheet 053 E-NR
C3: =Data_Membership!C$4 -> EAST DISTRICT - NORTHERN REGION | K3: AUXWATCH
C6: =CONCATENATE(Date_Control!C3," ",Date_Control!C6) -> October 2026 | K6: EXECUTIVE SUMMARY
C9: Bar tops in past years denote full year values
C10: Darker bars denote year to date values
C12: For each year to date, all work in AUXDATA II
C13: =CONCATENATE("is shown if performed before the first day of ",Date_Control!$C$3) -> is shown if performed before the first day of October
C14: and approved.
C16: =CONCATENATE("Membership numbers areas of the first day of ", Date_Control!$C$1) -> Membership numbers areas of the first day of
C17: for each reported year.
C19: =CONCATENATE("Facility numbers are as of the first day of ", Date_Control!$C$1) -> Facility numbers are as of the first day of
C20: for the current year, and End-of-Year for previous years.
C26: =Data_Membership!C$4 -> EAST DISTRICT - NORTHERN REGION
C30: RECREATIONAL
C32: BOATING
C34: SAFETY
C49: =Data_Membership!C$4 -> EAST DISTRICT - NORTHERN REGION
C53: RESPONSE
C55: &
C57: PREVENTION
C72: =Data_Membership!C$4 -> EAST DISTRICT - NORTHERN REGION
C76: MISSION
C78: SUPPORT
C95: =Data_Membership!C$4 -> EAST DISTRICT - NORTHERN REGION
C99: COAST GUARD
C101: AUGMENTATION
C120: =Data_Membership!C$4 -> EAST DISTRICT - NORTHERN REGION
C124: OPERATIONAL
C126: FACILITIES

Sheet 054 E-SR
C3: =Data_Membership!C$5 -> EAST DISTRICT - SOUTHERN REGION | K3: AUXWATCH
C6: =CONCATENATE(Date_Control!C3," ",Date_Control!C6) -> October 2026 | K6: EXECUTIVE SUMMARY
C9: Bar tops in past years denote full year values
C10: Darker bars denote year to date values
C12: For each year to date, all work in AUXDATA II
C13: =CONCATENATE("is shown if performed before the first day of ",Date_Control!$C$3) -> is shown if performed before the first day of October
C14: and approved.
C16: =CONCATENATE("Membership numbers areas of the first day of ", Date_Control!$C$3) -> Membership numbers areas of the first day of October
C17: for each reported year.
C19: =CONCATENATE("Facility numbers are as of the first day of ", Date_Control!$C$1) -> Facility numbers are as of the first day of
C20: for the current year, and End-of-Year for previous years.
C26: =Data_Membership!C$5 -> EAST DISTRICT - SOUTHERN REGION
C30: RECREATIONAL
C32: BOATING
C34: SAFETY
C49: =Data_Membership!C$5 -> EAST DISTRICT - SOUTHERN REGION
C53: RESPONSE
C55: &
C57: PREVENTION
C72: =Data_Membership!C$5 -> EAST DISTRICT - SOUTHERN REGION
C76: MISSION
C78: SUPPORT
C95: =Data_Membership!C$5 -> EAST DISTRICT - SOUTHERN REGION
C99: COAST GUARD
C101: AUGMENTATION
C118: =Data_Membership!C$5 -> EAST DISTRICT - SOUTHERN REGION
C122: OPERATIONAL
C124: FACILITIES

Sheet 070 SE
C3: =Data_Membership!C$6 -> SOUTHEAST DISTRICT | K3: AUXWATCH
C6: =CONCATENATE(Date_Control!C3," ",Date_Control!C6) -> October 2026 | K6: EXECUTIVE SUMMARY
C9: Darker bars denote year to date values
C10: Bar tops in past years denote full year values
C12: For each year to date, all work in AUXDATA II
C13: =CONCATENATE("is shown if performed before the first day of ",Date_Control!$C$3) -> is shown if performed before the first day of October
C14: and approved.
C16: =CONCATENATE("Membership numbers areas of the first day of ", Date_Control!$C$1) -> Membership numbers areas of the first day of
C17: for each reported year.
C19: =CONCATENATE("Facility numbers are as of the first day of ", Date_Control!$C$1) -> Facility numbers are as of the first day of
C20: for the current year, and End-of-Year for previous years.
C26: =Data_Membership!C$6 -> SOUTHEAST DISTRICT
C30: RECREATIONAL
C32: BOATING
C34: SAFETY
C49: =Data_Membership!C$6 -> SOUTHEAST DISTRICT
C53: RESPONSE
C55: &
C57: PREVENTION
C72: =Data_Membership!C$6 -> SOUTHEAST DISTRICT
C76: MISSION
C78: SUPPORT
C95: =Data_Membership!C$6 -> SOUTHEAST DISTRICT
C99: COAST GUARD
C101: AUGMENTATION
C118: =Data_Membership!C$6 -> SOUTHEAST DISTRICT
C122: OPERATIONAL
C124: FACILITIES

Sheet 081 H-CR
C3: =Data_Membership!C$7 -> HEARTLAND DISTRICT - COASTAL REGION | K3: AUXWATCH
C6: =CONCATENATE(Date_Control!C3," ",Date_Control!C6) -> October 2026 | K6: EXECUTIVE SUMMARY
C9: Bar tops in past years denote full year values
C10: Darker bars denote year to date values
C12: For each year to date, all work in AUXDATA II
C13: =CONCATENATE("is shown if performed before the first day of ",Date_Control!$C$3) -> is shown if performed before the first day of October
C14: and approved.
C16: =CONCATENATE("Membership numbers areas of the first day of ", Date_Control!$C$1) -> Membership numbers areas of the first day of
C17: for each reported year.
C19: =CONCATENATE("Facility numbers are as of the first day of ", Date_Control!$C$1) -> Facility numbers are as of the first day of
C20: for the current year, and End-of-Year for previous years.
C26: =Data_Membership!C$7 -> HEARTLAND DISTRICT - COASTAL REGION
C30: RECREATIONAL
C32: BOATING
C34: SAFETY
C49: =Data_Membership!C$7 -> HEARTLAND DISTRICT - COASTAL REGION
C53: RESPONSE
C55: &
C57: PREVENTION
C72: =Data_Membership!C$7 -> HEARTLAND DISTRICT - COASTAL REGION
C76: MISSION
C78: SUPPORT
C95: =Data_Membership!C$7 -> HEARTLAND DISTRICT - COASTAL REGION
C99: COAST GUARD
C101: AUGMENTATION
C118: =Data_Membership!C$7 -> HEARTLAND DISTRICT - COASTAL REGION
C122: OPERATIONAL
C124: FACILITIES

Sheet 082 H-ER
C3: =Data_Membership!C$8 -> HEARTLAND DISTRICT - EASTERN REGION | K3: AUXWATCH
C6: =CONCATENATE(Date_Control!C3," ",Date_Control!C6) -> October 2026 | K6: EXECUTIVE SUMMARY
C9: Bar tops in past years denote full year values
C10: Darker bars denote year to date values
C12: For each year to date, all work in AUXDATA II
C13: =CONCATENATE("is shown if performed before the first day of ",Date_Control!$C$3) -> is shown if performed before the first day of October
C14: and approved.
C16: =CONCATENATE("Membership numbers areas of the first day of ", Date_Control!$C$1) -> Membership numbers areas of the first day of
C17: for each reported year.
C19: =CONCATENATE("Facility numbers are as of the first day of ", Date_Control!$C$1) -> Facility numbers are as of the first day of
C20: for the current year, and End-of-Year for previous years.
C26: =Data_Membership!C$8 -> HEARTLAND DISTRICT - EASTERN REGION
C30: RECREATIONAL
C32: BOATING
C34: SAFETY
C49: =Data_Membership!C$8 -> HEARTLAND DISTRICT - EASTERN REGION
C53: RESPONSE
C55: &
C57: PREVENTION
C72: =Data_Membership!C$8 -> HEARTLAND DISTRICT - EASTERN REGION
C76: MISSION
C78: SUPPORT
C97: =Data_Membership!C$8 -> HEARTLAND DISTRICT - EASTERN REGION
C101: COAST GUARD
C103: AUGMENTATION
C122: =Data_Membership!C$8 -> HEARTLAND DISTRICT - EASTERN REGION
C126: OPERATIONAL
C128: FACILITIES

Sheet 085 H-WR
C3: =Data_Membership!C$9 -> HEARTLAND DISTRICT - WESTERN REGION | K3: AUXWATCH
C6: =CONCATENATE(Date_Control!C3," ",Date_Control!C6) -> October 2026 | K6: EXECUTIVE SUMMARY
C9: Bar tops in past years denote full year values
C10: Darker bars denote year to date values
C12: For each year to date, all work in AUXDATA II
C13: =CONCATENATE("is shown if performed before the first day of ",Date_Control!$C$3) -> is shown if performed before the first day of October
C14: and approved.
C16: =CONCATENATE("Membership numbers areas of the first day of ", Date_Control!$C$1) -> Membership numbers areas of the first day of
C17: for each reported year.
C19: =CONCATENATE("Facility numbers are as of the first day of ", Date_Control!$C$1) -> Facility numbers are as of the first day of
C20: for the current year, and End-of-Year for previous years.
C26: =Data_Membership!C$9 -> HEARTLAND DISTRICT - WESTERN REGION
C30: RECREATIONAL
C32: BOATING
C34: SAFETY
C49: =Data_Membership!C$9 -> HEARTLAND DISTRICT - WESTERN REGION
C53: RESPONSE
C55: &
C57: PREVENTION
C72: =Data_Membership!C$9 -> HEARTLAND DISTRICT - WESTERN REGION
C76: MISSION
C78: SUPPORT
C95: =Data_Membership!C$9 -> HEARTLAND DISTRICT - WESTERN REGION
C99: COAST GUARD
C101: AUGMENTATION
C118: =Data_Membership!C$9 -> HEARTLAND DISTRICT - WESTERN REGION
C122: OPERATIONAL
C124: FACILITIES

Sheet 091 GL-CR
C3: =Data_Membership!C$10 -> GREAT LAKES DISTRICT - CENTRAL REGION | K3: AUXWATCH
C6: =CONCATENATE(Date_Control!C3," ",Date_Control!C6) -> October 2026 | K6: EXECUTIVE SUMMARY
C9: Bar tops in past years denote full year values
C10: Darker bars denote year to date values
C12: For each year to date, all work in AUXDATA II
C13: =CONCATENATE("is shown if performed before the first day of ",Date_Control!$C$3) -> is shown if performed before the first day of October
C14: and approved.
C16: =CONCATENATE("Membership numbers areas of the first day of ", Date_Control!$C$1) -> Membership numbers areas of the first day of
C17: for each reported year.
C19: =CONCATENATE("Facility numbers are as of the first day of ", Date_Control!$C$1) -> Facility numbers are as of the first day of
C20: for the current year, and End-of-Year for previous years.
C26: =Data_Membership!C$10 -> GREAT LAKES DISTRICT - CENTRAL REGION
C30: RECREATIONAL
C32: BOATING
C34: SAFETY
C49: =Data_Membership!C$10 -> GREAT LAKES DISTRICT - CENTRAL REGION
C53: RESPONSE
C55: &
C57: PREVENTION
C72: =Data_Membership!C$10 -> GREAT LAKES DISTRICT - CENTRAL REGION
C76: MISSION
C78: SUPPORT
C95: =Data_Membership!C$10 -> GREAT LAKES DISTRICT - CENTRAL REGION
C99: COAST GUARD
C101: AUGMENTATION
C118: =Data_Membership!C$10 -> GREAT LAKES DISTRICT - CENTRAL REGION
C122: OPERATIONAL
C124: FACILITIES

Sheet 092 GL-ER
C3: =Data_Membership!C$11 -> GREAT LAKES DISTRICT - EASTERN REGION | K3: AUXWATCH
C6: =CONCATENATE(Date_Control!C3," ",Date_Control!C6) -> October 2026 | K6: EXECUTIVE SUMMARY
C9: Bar tops in past years denote full year values
C10: Darker bars denote year to date values
C12: For each year to date, all work in AUXDATA II
C13: =CONCATENATE("is shown if performed before the first day of ",Date_Control!$C$3) -> is shown if performed before the first day of October
C14: and approved.
C16: =CONCATENATE("Membership numbers areas of the first day of ", Date_Control!$C$1) -> Membership numbers areas of the first day of
C17: for each reported year.
C19: =CONCATENATE("Facility numbers are as of the first day of ", Date_Control!$C$1) -> Facility numbers are as of the first day of
C20: for the current year, and End-of-Year for previous years.
C26: =Data_Membership!C$11 -> GREAT LAKES DISTRICT - EASTERN REGION
C30: RECREATIONAL
C32: BOATING
C34: SAFETY
C49: =Data_Membership!C$11 -> GREAT LAKES DISTRICT - EASTERN REGION
C53: RESPONSE
C55: &
C57: PREVENTION
C72: =Data_Membership!C$11 -> GREAT LAKES DISTRICT - EASTERN REGION
C76: MISSION
C78: SUPPORT
C95: =Data_Membership!C$11 -> GREAT LAKES DISTRICT - EASTERN REGION
C99: COAST GUARD
C101: AUGMENTATION
C118: =Data_Membership!C$11 -> GREAT LAKES DISTRICT - EASTERN REGION
C122: OPERATIONAL
C124: FACILITIES

Sheet 095 GL-WR
C3: =Data_Membership!C$12 -> GREAT LAKES DISTRICT - WESTERN REGION | K3: AUXWATCH
C6: =CONCATENATE(Date_Control!C3," ",Date_Control!C6) -> October 2026 | K6: EXECUTIVE SUMMARY
C9: Bar tops in past years denote full year values
C10: Darker bars denote year to date values
C12: For each year to date, all work in AUXDATA II
C13: =CONCATENATE("is shown if performed before the first day of ",Date_Control!$C$3) -> is shown if performed before the first day of October
C14: and approved.
C16: =CONCATENATE("Membership numbers areas of the first day of ", Date_Control!$C$1) -> Membership numbers areas of the first day of
C17: for each reported year.
C19: =CONCATENATE("Facility numbers are as of the first day of ", Date_Control!$C$1) -> Facility numbers are as of the first day of
C20: for the current year, and End-of-Year for previous years.
C26: =Data_Membership!C$12 -> GREAT LAKES DISTRICT - WESTERN REGION
C30: RECREATIONAL
C32: BOATING
C34: SAFETY
C49: =Data_Membership!C$12 -> GREAT LAKES DISTRICT - WESTERN REGION
C53: RESPONSE
C55: &
C57: PREVENTION
C72: =Data_Membership!C$12 -> GREAT LAKES DISTRICT - WESTERN REGION
C76: MISSION
C78: SUPPORT
C95: =Data_Membership!C$12 -> GREAT LAKES DISTRICT - WESTERN REGION
C99: COAST GUARD
C101: AUGMENTATION
C118: =Data_Membership!C$12 -> GREAT LAKES DISTRICT - WESTERN REGION
C122: OPERATIONAL
C124: FACILITIES

Sheet 113 SW-NR
C3: =Data_Membership!C$13 -> SOUTHWEST DISTRICT - NORTHERN REGION | K3: AUXWATCH
C6: =CONCATENATE(Date_Control!C3," ",Date_Control!C6) -> October 2026 | K6: EXECUTIVE SUMMARY
C9: Bar tops in past years denote full year values
C10: Darker bars denote year to date values
C12: For each year to date, all work in AUXDATA II
C13: =CONCATENATE("is shown if performed before the first day of ",Date_Control!$C$3) -> is shown if performed before the first day of October
C14: and approved.
C16: =CONCATENATE("Membership numbers areas of the first day of ", Date_Control!$C$1) -> Membership numbers areas of the first day of
C17: for each reported year.
C19: =CONCATENATE("Facility numbers are as of the first day of ", Date_Control!$C$1) -> Facility numbers are as of the first day of
C20: for the current year, and End-of-Year for previous years.
C26: =Data_Membership!C$13 -> SOUTHWEST DISTRICT - NORTHERN REGION
C30: RECREATIONAL
C32: BOATING
C34: SAFETY
C49: =Data_Membership!C$13 -> SOUTHWEST DISTRICT - NORTHERN REGION
C53: RESPONSE
C55: &
C57: PREVENTION
C72: =Data_Membership!C$13 -> SOUTHWEST DISTRICT - NORTHERN REGION
C76: MISSION
C78: SUPPORT
C95: =Data_Membership!C$13 -> SOUTHWEST DISTRICT - NORTHERN REGION
C99: COAST GUARD
C101: AUGMENTATION
C120: =Data_Membership!C$13 -> SOUTHWEST DISTRICT - NORTHERN REGION
C124: OPERATIONAL
C126: FACILITIES

Sheet 114 SW-SR
C3: =Data_Membership!C$14 -> SOUTHWEST DISTRICT - SOUTHERN REGION | K3: AUXWATCH
C6: =CONCATENATE(Date_Control!C3," ",Date_Control!C6) -> October 2026 | K6: EXECUTIVE SUMMARY
C9: Bar tops in past years denote full year values
C10: Darker bars denote year to date values
C12: For each year to date, all work in AUXDATA II
C13: =CONCATENATE("is shown if performed before the first day of ",Date_Control!$C$3) -> is shown if performed before the first day of October
C14: and approved.
C16: =CONCATENATE("Membership numbers areas of the first day of ", Date_Control!$C$3) -> Membership numbers areas of the first day of October
C17: for each reported year.
C19: =CONCATENATE("Facility numbers are as of the first day of ", Date_Control!$C$1) -> Facility numbers are as of the first day of
C20: for the current year, and End-of-Year for previous years.
C26: =Data_Membership!C$14 -> SOUTHWEST DISTRICT - SOUTHERN REGION
C30: RECREATIONAL
C32: BOATING
C34: SAFETY
C49: =Data_Membership!C$14 -> SOUTHWEST DISTRICT - SOUTHERN REGION
C53: RESPONSE
C55: &
C57: PREVENTION
C72: =Data_Membership!C$14 -> SOUTHWEST DISTRICT - SOUTHERN REGION
C76: MISSION
C78: SUPPORT
C95: =Data_Membership!C$14 -> SOUTHWEST DISTRICT - SOUTHERN REGION
C99: COAST GUARD
C101: AUGMENTATION
C118: =Data_Membership!C$14 -> SOUTHWEST DISTRICT - SOUTHERN REGION
C122: OPERATIONAL
C124: FACILITIES

Sheet 130 NW
C3: =Data_Membership!C$15 -> NORTHWEST DISTRICT | K3: AUXWATCH
C6: =CONCATENATE(Date_Control!C3," ",Date_Control!C6) -> October 2026 | K6: EXECUTIVE SUMMARY
C9: Bar tops in past years denote full year values
C10: Darker bars denote year to date values
C12: For each year to date, all work in AUXDATA II
C13: =CONCATENATE("is shown if performed before the first day of ",Date_Control!$C$3) -> is shown if performed before the first day of October
C14: and approved.
C16: =CONCATENATE("Membership numbers areas of the first day of ", Date_Control!$C$1) -> Membership numbers areas of the first day of
C17: for each reported year.
C19: =CONCATENATE("Facility numbers are as of the first day of ", Date_Control!$C$1) -> Facility numbers are as of the first day of
C20: for the current year, and End-of-Year for previous years.
C26: =Data_Membership!C$15 -> NORTHWEST DISTRICT
C30: RECREATIONAL
C32: BOATING
C34: SAFETY
C49: =Data_Membership!C$15 -> NORTHWEST DISTRICT
C53: RESPONSE
C55: &
C57: PREVENTION
C72: =Data_Membership!C$15 -> NORTHWEST DISTRICT
C76: MISSION
C78: SUPPORT
C95: =Data_Membership!C$15 -> NORTHWEST DISTRICT
C99: COAST GUARD
C101: AUGMENTATION
C118: =Data_Membership!C$15 -> NORTHWEST DISTRICT
C122: OPERATIONAL
C124: FACILITIES

Sheet 140 O
C3: =Data_Membership!C$16 -> OCEANIA DISTRICT | K3: AUXWATCH
C6: =CONCATENATE(Date_Control!C3," ",Date_Control!C6) -> October 2026 | K6: EXECUTIVE SUMMARY
C9: Bar tops in past years denote full year values
C10: Darker bars denote year to date values
C12: For each year to date, all work in AUXDATA II
C13: =CONCATENATE("is shown if performed before the first day of ",Date_Control!$C$3) -> is shown if performed before the first day of October
C14: and approved.
C16: =CONCATENATE("Membership numbers areas of the first day of ", Date_Control!$C$1) -> Membership numbers areas of the first day of
C17: for each reported year.
C19: =CONCATENATE("Facility numbers are as of the first day of ", Date_Control!$C$1) -> Facility numbers are as of the first day of
C20: for the current year, and End-of-Year for previous years.
C26: =Data_Membership!C$16 -> OCEANIA DISTRICT
C30: RECREATIONAL
C32: BOATING
C34: SAFETY
C49: =Data_Membership!C$16 -> OCEANIA DISTRICT
C53: RESPONSE
C55: &
C57: PREVENTION
C72: =Data_Membership!C$16 -> OCEANIA DISTRICT
C76: MISSION
C78: SUPPORT
C95: =Data_Membership!C$16 -> OCEANIA DISTRICT
C99: COAST GUARD
C101: AUGMENTATION
C118: =Data_Membership!C$16 -> OCEANIA DISTRICT
C122: OPERATIONAL
C124: FACILITIES

Sheet 170 A
A1: `
C3: =Data_Membership!C$17 -> ARCTIC DISTRICT | K3: AUXWATCH
C6: =CONCATENATE(Date_Control!C3," ",Date_Control!C6) -> October 2026 | K6: EXECUTIVE SUMMARY
C9: Bar tops in past years denote full year values
C10: Darker bars denote year to date values
C12: For each year to date, all work in AUXDATA II
C13: =CONCATENATE("is shown if performed before the first day of ",Date_Control!$C$3) -> is shown if performed before the first day of October
C14: and approved.
C16: =CONCATENATE("Membership numbers areas of the first day of ", Date_Control!$C$1) -> Membership numbers areas of the first day of
C17: for each reported year.
C19: =CONCATENATE("Facility numbers are as of the first day of ", Date_Control!$C$1) -> Facility numbers are as of the first day of
C20: for the current year, and End-of-Year for previous years.
C26: =Data_Membership!C$17 -> ARCTIC DISTRICT
C30: RECREATIONAL
C32: BOATING
C34: SAFETY
C49: =Data_Membership!C$17 -> ARCTIC DISTRICT
C53: RESPONSE
C55: &
C57: PREVENTION
C72: =Data_Membership!C$17 -> ARCTIC DISTRICT
C76: MISSION
C78: SUPPORT
C95: =Data_Membership!C$17 -> ARCTIC DISTRICT
C99: COAST GUARD
C101: AUGMENTATION
C118: =Data_Membership!C$17 -> ARCTIC DISTRICT
C122: OPERATIONAL
C124: FACILITIES

Sheet Data_Boat
B1: Unit # | C1: District | D1: 2021 | E1: 2022 | F1: 2023 | G1: 2024 | H1: 2025 | I1: 2026 | K1: Unit # | L1: District | M1: 2021 | N1: 2022 | O1: 2023 | P1: 2024 | Q1: 2025 | R1: 2026
B2: 013 | C2: FIRST NORTHERN | D2: 1926.2 | E2: 1946.83 | F2: 2114.1 | G2: 2049.65 | H2: 1694.07 | I2: 2047.27 | K2: 013 | L2: FIRST NORTHERN | M2: 1832.6 | N2: 1882.99 | O2: 1945.7 | P2: 1883.9 | Q2: 1694.07 | R2: 2047.27 | T2: =MAX(D2:I2)*$V$2+1 -> 2136.241 | V2: 1.01
B3: 014 | C3: FIRST SOUTHERN | D3: 3371.11 | E3: 3490.91 | F3: 3560.71 | G3: 3098.33 | H3: 2115.65 | I3: 2176.86 | K3: 014 | L3: FIRST SOUTHERN | M3: 3283.91 | N3: 3362.66 | O3: 3549.71 | P3: 2979.49 | Q3: 2115.65 | R3: 2176.86 | T3: =MAX(D3:I3)*$V$2+1 -> 3597.3171
B4: 053 | C4: FIFTH NORTHERN | D4: 1563.75 | E4: 1674.3 | F4: 1604.24 | G4: 1595.62 | H4: 1461.21 | I4: 1121.26 | K4: 053 | L4: FIFTH NORTHERN | M4: 1419.5 | N4: 1577.85 | O4: 1457.04 | P4: 1483.17 | Q4: 1370.37 | R4: 1121.26 | T4: =MAX(D4:I4)*$V$2+1 -> 1692.043
B5: 054 | C5: FIFTH SOUTHERN | D5: 4246.53 | E5: 4428.85 | F5: 3813.41 | G5: 3722.86 | H5: 2970.63 | I5: 2314.52 | K5: 054 | L5: FIFTH SOUTHERN | M5: 4012.65 | N5: 4058.9 | O5: 3314.38 | P5: 3339.98 | Q5: 2941.29 | R5: 2314.52 | T5: =MAX(D5:I5)*$V$2+1 -> 4474.1385
B6: 070 | C6: SEVENTH | D6: 4844.61 | E6: 4158.61 | F6: 4508.31 | G6: 4558.43 | H6: 4046.06 | I6: 3699.55 | K6: 070 | L6: SEVENTH | M6: 4309.33 | N6: 3308.44 | O6: 3529.32 | P6: 3781.86 | Q6: 3441.38 | R6: 3699.55 | T6: =MAX(D6:I6)*$V$2+1 -> 4894.0561
B7: 081 | C7: EIGHTH COASTAL | D7: 1634.38 | E7: 1591.66 | F7: 1641.45 | G7: 1298.79 | H7: 1271.76 | I7: 1262.74 | K7: 081 | L7: EIGHTH COASTAL | M7: 1321.8 | N7: 1215.32 | O7: 1315.52 | P7: 1016.71 | Q7: 1090.26 | R7: 1262.74 | T7: =MAX(D7:I7)*$V$2+1 -> 1658.8645
B8: 082 | C8: EIGHTH EASTERN | D8: 1285.47 | E8: 1239.48 | F8: 1367.6 | G8: 1317.73 | H8: 1538.34 | I8: 1151.14 | K8: 082 | L8: EIGHTH EASTERN | M8: 1187.52 | N8: 1067.67 | O8: 1198.49 | P8: 1089.42 | Q8: 1181.25 | R8: 1151.14 | T8: =MAX(D8:I8)*$V$2+1 -> 1554.7234
B9: 085 | C9: EIGHTH WESTERN RIVERS | D9: 1312.17 | E9: 1112.73 | F9: 1217.33 | G9: 1186.37 | H9: 1043.07 | I9: 1143.81 | K9: 085 | L9: EIGHTH WESTERN RIVERS | M9: 1255.49 | N9: 1050.54 | O9: 1183.91 | P9: 1141.56 | Q9: 1017.09 | R9: 1143.81 | T9: =MAX(D9:I9)*$V$2+1 -> 1326.2917
B10: 091 | C10: NINTH CENTRAL | D10: 1121.1 | E10: 866.25 | F10: 1004.36 | G10: 1134.59 | H10: 1058.19 | I10: 792.06 | K10: 091 | L10: NINTH CENTRAL | M10: 1116.09 | N10: 866.25 | O10: 985.36 | P10: 1122.09 | Q10: 1058.19 | R10: 792.06 | T10: =MAX(D10:I10)*$V$2+1 -> 1146.9359
B11: 092 | C11: NINTH EASTERN | D11: 757.72 | E11: 747.03 | F11: 695.06 | G11: 939.63 | H11: 759.78 | I11: 799.27 | K11: 092 | L11: NINTH EASTERN | M11: 757.72 | N11: 747.03 | O11: 692.3 | P11: 935.3 | Q11: 759.78 | R11: 799.27 | T11: =MAX(D11:I11)*$V$2+1 -> 950.0263
B12: 095 | C12: NINTH WESTERN | D12: 2089.92 | E12: 2384.5 | F12: 2717.72 | G12: 2522.86 | H12: 1953.43 | I12: 1882.99 | K12: 095 | L12: NINTH WESTERN | M12: 2085.41 | N12: 2366.54 | O12: 2672.85 | P12: 2490.19 | Q12: 1953.43 | R12: 1882.99 | T12: =MAX(D12:I12)*$V$2+1 -> 2745.8972
B13: 113 | C13: ELEVEN NORTH | D13: 2998.26 | E13: 2295.18 | F13: 2191.87 | G13: 1720.86 | H13: 1578.81 | I13: 1343.12 | K13: 113 | L13: ELEVEN NORTH | M13: 2725.27 | N13: 1993.56 | O13: 1845.52 | P13: 1394.6 | Q13: 1296.16 | R13: 1343.12 | T13: =MAX(D13:I13)*$V$2+1 -> 3029.2426
B14: 114 | C14: ELEVEN SOUTH | D14: 768.85 | E14: 1365.99 | F14: 1387.63 | G14: 1490.27 | H14: 968.28 | I14: 834.47 | K14: 114 | L14: ELEVEN SOUTH | M14: 739.35 | N14: 1133.89 | O14: 1200.34 | P14: 1252.83 | Q14: 859.56 | R14: 834.47 | T14: =MAX(D14:I14)*$V$2+1 -> 1506.1727
... B17: 170 | C17: SEVENTEENTH | D17: 111.32 | E17: 223.15 | F17: 169.63 | G17: 105.95 | H17: 177.37 | I17: 74.89 | K17: 170 | L17: SEVENTEENTH | M17: 111.32 | N17: 210.15 | O17: 169.63 | P17: 99.45 | Q17: 177.37 | R17: 74.89 | T17: =MAX(D17:I17)*$V$2+1 -> 226.3815
D18: 29614.79 | E18: 29427.03 | F18: 30100.45 | G18: 28586.28 | H18: 24453.54 | I18: 22138.04 | M18: 27541.62 | N18: 26528.32 | O18: 26857.2 | P18: 25640.96 | Q18: 22718.49 | R18: 22138.04 | T18: =MAX(D18:I18)*$V$2+1 -> 30402.455

Sheet Data_Visits
B1: Unit # | C1: District | D1: 2021 | E1: 2022 | F1: 2023 | G1: 2024 | H1: 2025 | I1: 2026 | K1: Unit # | L1: District | M1: 2021 | N1: 2022 | O1: 2023 | P1: 2024 | Q1: 2025 | R1: 2026
B2: 013 | C2: FIRST NORTHERN | D2: 1004 | E2: 1723 | F2: 2151 | G2: 2077 | H2: 1604 | I2: 1315 | K2: 013 | L2: FIRST NORTHERN | M2: 779 | N2: 1429 | O2: 1700 | P2: 1784 | Q2: 1353 | R2: 1315 | T2: =MAX(D2:I2)*$V$2+1 -> 2173.51 | V2: 1.01
B3: 014 | C3: FIRST SOUTHERN | D3: 12756 | E3: 13976 | F3: 11874 | G3: 12291 | H3: 12768 | I3: 8456 | K3: 014 | L3: FIRST SOUTHERN | M3: 10294 | N3: 12008 | O3: 9953 | P3: 10252 | Q3: 10531 | R3: 8456 | T3: =MAX(D3:I3)*$V$2+1 -> 14116.76
B4: 053 | C4: FIFTH NORTHERN | D4: 2959 | E4: 3669 | F4: 3562 | G4: 4288 | H4: 5685 | I4: 3753 | K4: 053 | L4: FIFTH NORTHERN | M4: 2398 | N4: 2903 | O4: 3010 | P4: 3377 | Q4: 4527 | R4: 3753 | T4: =MAX(D4:I4)*$V$2+1 -> 5742.85
B5: 054 | C5: FIFTH SOUTHERN | D5: 4924 | E5: 5882 | F5: 6327 | G5: 4969 | H5: 5066 | I5: 3312 | K5: 054 | L5: FIFTH SOUTHERN | M5: 3680 | N5: 4702 | O5: 4907 | P5: 4196 | Q5: 4233 | R5: 3312 | T5: =MAX(D5:I5)*$V$2+1 -> 6391.27
B6: 070 | C6: SEVENTH | D6: 17604 | E6: 17109 | F6: 16273 | G6: 16678 | H6: 14874 | I6: 10282 | K6: 070 | L6: SEVENTH | M6: 13282 | N6: 13445 | O6: 12856 | P6: 12758 | Q6: 11685 | R6: 10282 | T6: =MAX(D6:I6)*$V$2+1 -> 17781.04
B7: 081 | C7: EIGHTH COASTAL | D7: 3530 | E7: 3406 | F7: 4400 | G7: 4427 | H7: 4786 | I7: 3662 | K7: 081 | L7: EIGHTH COASTAL | M7: 2856 | N7: 2524 | O7: 3645 | P7: 3246 | Q7: 3907 | R7: 3662 | T7: =MAX(D7:I7)*$V$2+1 -> 4834.86
B8: 082 | C8: EIGHTH EASTERN | D8: 1970 | E8: 2705 | F8: 5671 | G8: 7202 | H8: 7370 | I8: 4373 | K8: 082 | L8: EIGHTH EASTERN | M8: 1556 | N8: 2072 | O8: 4324 | P8: 6100 | Q8: 6232 | R8: 4373 | T8: =MAX(D8:I8)*$V$2+1 -> 7444.7
B9: 085 | C9: EIGHTH WESTERN RIVERS | D9: 1000 | E9: 1691 | F9: 2261 | G9: 2637 | H9: 2599 | I9: 1457 | K9: 085 | L9: EIGHTH WESTERN RIVERS | M9: 695 | N9: 1404 | O9: 1805 | P9: 1842 | Q9: 2274 | R9: 1457 | T9: =MAX(D9:I9)*$V$2+1 -> 2664.37
B10: 091 | C10: NINTH CENTRAL | D10: 1852 | E10: 1501 | F10: 1772 | G10: 2120 | H10: 1877 | I10: 1403 | K10: 091 | L10: NINTH CENTRAL | M10: 1652 | N10: 1317 | O10: 1423 | P10: 1816 | Q10: 1641 | R10: 1403 | T10: =MAX(D10:I10)*$V$2+1 -> 2142.2
B11: 092 | C11: NINTH EASTERN | D11: 300 | E11: 498 | F11: 463 | G11: 490 | H11: 704 | I11: 1021 | K11: 092 | L11: NINTH EASTERN | M11: 258 | N11: 475 | O11: 459 | P11: 447 | Q11: 594 | R11: 1021 | T11: =MAX(D11:I11)*$V$2+1 -> 1032.21
B12: 095 | C12: NINTH WESTERN | D12: 1490 | E12: 1624 | F12: 2360 | G12: 2822 | H12: 2581 | I12: 1564 | K12: 095 | L12: NINTH WESTERN | M12: 1251 | N12: 1411 | O12: 2071 | P12: 2345 | Q12: 2204 | R12: 1564 | T12: =MAX(D12:I12)*$V$2+1 -> 2851.22
B13: 113 | C13: ELEVEN NORTH | D13: 1406 | E13: 2278 | F13: 2881 | G13: 2665 | H13: 2451 | I13: 1648 | K13: 113 | L13: ELEVEN NORTH | M13: 1117 | N13: 1903 | O13: 2352 | P13: 2151 | Q13: 2052 | R13: 1648 | T13: =MAX(D13:I13)*$V$2+1 -> 2910.81
B14: 114 | C14: ELEVEN SOUTH | D14: 1126 | E14: 2275 | F14: 2858 | G14: 5281 | H14: 5494 | I14: 4077 | K14: 114 | L14: ELEVEN SOUTH | M14: 767 | N14: 1816 | O14: 2175 | P14: 3282 | Q14: 4168 | R14: 4077 | T14: =MAX(D14:I14)*$V$2+1 -> 5549.94
... B17: 170 | C17: SEVENTEENTH | D17: 779 | E17: 532 | F17: 462 | G17: 504 | H17: 667 | I17: 241 | K17: 170 | L17: SEVENTEENTH | M17: 689 | N17: 492 | O17: 368 | P17: 422 | Q17: 556 | R17: 241 | T17: =MAX(D17:I17)*$V$2+1 -> 787.79
D18: 57063 | E18: 64068 | F18: 69903 | G18: 74144 | H18: 73096 | I18: 48520 | M18: 44504 | N18: 52152 | O18: 56829 | P18: 58612 | Q18: 59805 | R18: 48520 | T18: =MAX(D18:I18)*$V$2+1 -> 74886.44

Sheet Data_VSC_Boat
B1: Unit # | C1: District | D1: 2021 | E1: 2022 | F1: 2023 | G1: 2024 | H1: 2025 | I1: 2026 | K1: Unit # | L1: District | M1: 2021 | N1: 2022 | O1: 2023 | P1: 2024 | Q1: 2025 | R1: 2026
B2: 013 | C2: FIRST NORTHERN | D2: 2656 | E2: 3194 | F2: 2730 | G2: 2890 | H2: 2878 | I2: 2562 | K2: 013 | L2: FIRST NORTHERN | M2: 2471 | N2: 3094 | O2: 2614 | P2: 2795 | Q2: 2812 | R2: 2562 | T2: =MAX(D2:I2)*$V$2+1 -> 3226.94 | V2: 1.01
B3: 014 | C3: FIRST SOUTHERN | D3: 4208 | E3: 4510 | F3: 4851 | G3: 5145 | H3: 5771 | I3: 3993 | K3: 014 | L3: FIRST SOUTHERN | M3: 3908 | N3: 4193 | O3: 4626 | P3: 4970 | Q3: 5674 | R3: 3993 | T3: =MAX(D3:I3)*$V$2+1 -> 5829.71
B4: 053 | C4: FIFTH NORTHERN | D4: 4615 | E4: 4886 | F4: 5291 | G4: 4238 | H4: 4312 | I4: 3649 | K4: 053 | L4: FIFTH NORTHERN | M4: 4433 | N4: 4756 | O4: 5172 | P4: 4179 | Q4: 4236 | R4: 3649 | T4: =MAX(D4:I4)*$V$2+1 -> 5344.91
B5: 054 | C5: FIFTH SOUTHERN | D5: 5211 | E5: 5136 | F5: 5059 | G5: 4910 | H5: 4410 | I5: 3972 | K5: 054 | L5: FIFTH SOUTHERN | M5: 4984 | N5: 4933 | O5: 4876 | P5: 4728 | Q5: 4246 | R5: 3972 | T5: =MAX(D5:I5)*$V$2+1 -> 5264.11
B6: 070 | C6: SEVENTH | D6: 10037 | E6: 11502 | F6: 12886 | G6: 12346 | H6: 11895 | I6: 9972 | K6: 070 | L6: SEVENTH | M6: 8932 | N6: 10523 | O6: 11891 | P6: 11545 | Q6: 11063 | R6: 9972 | T6: =MAX(D6:I6)*$V$2+1 -> 13015.86
B7: 081 | C7: EIGHTH COASTAL | D7: 3028 | E7: 2703 | F7: 2747 | G7: 2986 | H7: 3111 | I7: 2591 | K7: 081 | L7: EIGHTH COASTAL | M7: 2772 | N7: 2462 | O7: 2564 | P7: 2724 | Q7: 2929 | R7: 2591 | T7: =MAX(D7:I7)*$V$2+1 -> 3143.11
B8: 082 | C8: EIGHTH EASTERN | D8: 2597 | E8: 2338 | F8: 2705 | G8: 2833 | H8: 2261 | I8: 1504 | K8: 082 | L8: EIGHTH EASTERN | M8: 2357 | N8: 2042 | O8: 2383 | P8: 2581 | Q8: 2149 | R8: 1504 | T8: =MAX(D8:I8)*$V$2+1 -> 2862.33
B9: 085 | C9: EIGHTH WESTERN RIVERS | D9: 1497 | E9: 1992 | F9: 1682 | G9: 1562 | H9: 1441 | I9: 1061 | K9: 085 | L9: EIGHTH WESTERN RIVERS | M9: 1360 | N9: 1850 | O9: 1585 | P9: 1452 | Q9: 1380 | R9: 1061 | T9: =MAX(D9:I9)*$V$2+1 -> 2012.92
B10: 091 | C10: NINTH CENTRAL | D10: 2182 | E10: 2552 | F10: 1914 | G10: 2237 | H10: 2247 | I10: 2057 | K10: 091 | L10: NINTH CENTRAL | M10: 2022 | N10: 2488 | O10: 1866 | P10: 2140 | Q10: 2127 | R10: 2057 | T10: =MAX(D10:I10)*$V$2+1 -> 2578.52
B11: 092 | C11: NINTH EASTERN | D11: 1192 | E11: 1358 | F11: 1443 | G11: 1383 | H11: 1293 | I11: 1027 | K11: 092 | L11: NINTH EASTERN | M11: 1104 | N11: 1326 | O11: 1410 | P11: 1358 | Q11: 1266 | R11: 1027 | T11: =MAX(D11:I11)*$V$2+1 -> 1458.43
B12: 095 | C12: NINTH WESTERN | D12: 2466 | E12: 2448 | F12: 2948 | G12: 3034 | H12: 2555 | I12: 2421 | K12: 095 | L12: NINTH WESTERN | M12: 2404 | N12: 2374 | O12: 2867 | P12: 2923 | Q12: 2526 | R12: 2421 | T12: =MAX(D12:I12)*$V$2+1 -> 3065.34
B13: 113 | C13: ELEVEN NORTH | D13: 1085 | E13: 1823 | F13: 1728 | G13: 2142 | H13: 2255 | I13: 1283 | K13: 113 | L13: ELEVEN NORTH | M13: 963 | N13: 1678 | O13: 1656 | P13: 1899 | Q13: 2161 | R13: 1283 | T13: =MAX(D13:I13)*$V$2+1 -> 2278.55
B14: 114 | C14: ELEVEN SOUTH | D14: 2121 | E14: 1811 | F14: 2631 | G14: 2861 | H14: 3167 | I14: 2242 | K14: 114 | L14: ELEVEN SOUTH | M14: 1891 | N14: 1514 | O14: 2166 | P14: 2606 | Q14: 2712 | R14: 2242 | T14: =MAX(D14:I14)*$V$2+1 -> 3199.67
... B17: 170 | C17: SEVENTEENTH | D17: 355 | E17: 294 | F17: 267 | G17: 248 | H17: 245 | I17: 118 | K17: 170 | L17: SEVENTEENTH | M17: 308 | N17: 255 | O17: 229 | P17: 222 | Q17: 236 | R17: 118 | T17: =MAX(D17:I17)*$V$2+1 -> 359.55
D18: 45684 | E18: 49315 | F18: 52206 | G18: 52025 | H18: 50814 | I18: 40733 | M18: 42009 | N18: 45993 | O18: 49039 | P18: 49114 | Q18: 48266 | R18: 40733 | T18: =MAX(D18:I18)*$V$2+1 -> 52729.06

Sheet Data_VSC_Paddlecraft
B1: Unit # | C1: District | D1: 2021 | E1: 2022 | F1: 2023 | G1: 2024 | H1: 2025 | I1: 2026 | K1: Unit # | L1: District | M1: 2021 | N1: 2022 | O1: 2023 | P1: 2024 | Q1: 2025 | R1: 2026
B2: 013 | C2: FIRST NORTHERN | D2: 469 | E2: 744 | F2: 810 | G2: 837 | H2: 884 | I2: 578 | K2: 013 | L2: FIRST NORTHERN | M2: 411 | N2: 713 | O2: 780 | P2: 790 | Q2: 818 | R2: 578 | T2: =MAX(D2:I2)*$V$2+1 -> 893.84 | V2: 1.01
B3: 014 | C3: FIRST SOUTHERN | D3: 3751 | E3: 4102 | F3: 4795 | G3: 4443 | H3: 4437 | I3: 3380 | K3: 014 | L3: FIRST SOUTHERN | M3: 3557 | N3: 3979 | O3: 4607 | P3: 4172 | Q3: 4228 | R3: 3380 | T3: =MAX(D3:I3)*$V$2+1 -> 4843.95
B4: 053 | C4: FIFTH NORTHERN | D4: 328 | E4: 843 | F4: 858 | G4: 1051 | H4: 1182 | I4: 876 | K4: 053 | L4: FIFTH NORTHERN | M4: 302 | N4: 781 | O4: 772 | P4: 913 | Q4: 1141 | R4: 876 | T4: =MAX(D4:I4)*$V$2+1 -> 1194.82
B5: 054 | C5: FIFTH SOUTHERN | D5: 1498 | E5: 1708 | F5: 2294 | G5: 2440 | H5: 1633 | I5: 1513 | K5: 054 | L5: FIFTH SOUTHERN | M5: 1313 | N5: 1596 | O5: 2211 | P5: 2350 | Q5: 1517 | R5: 1513 | T5: =MAX(D5:I5)*$V$2+1 -> 2465.4
B6: 070 | C6: SEVENTH | D6: 5278 | E6: 6994 | F6: 7298 | G6: 6533 | H6: 7255 | I6: 5301 | K6: 070 | L6: SEVENTH | M6: 4361 | N6: 6482 | O6: 6776 | P6: 5775 | Q6: 6880 | R6: 5301 | T6: =MAX(D6:I6)*$V$2+1 -> 7371.98
B7: 081 | C7: EIGHTH COASTAL | D7: 1100 | E7: 803 | F7: 1005 | G7: 723 | H7: 873 | I7: 870 | K7: 081 | L7: EIGHTH COASTAL | M7: 929 | N7: 738 | O7: 930 | P7: 666 | Q7: 857 | R7: 870 | T7: =MAX(D7:I7)*$V$2+1 -> 1112
B8: 082 | C8: EIGHTH EASTERN | D8: 1021 | E8: 1451 | F8: 2394 | G8: 4495 | H8: 6785 | I8: 1003 | K8: 082 | L8: EIGHTH EASTERN | M8: 933 | N8: 1320 | O8: 1686 | P8: 4252 | Q8: 6606 | R8: 1003 | T8: =MAX(D8:I8)*$V$2+1 -> 6853.85
B9: 085 | C9: EIGHTH WESTERN RIVERS | D9: 792 | E9: 1500 | F9: 929 | G9: 1073 | H9: 709 | I9: 867 | K9: 085 | L9: EIGHTH WESTERN RIVERS | M9: 742 | N9: 1445 | O9: 852 | P9: 975 | Q9: 583 | R9: 867 | T9: =MAX(D9:I9)*$V$2+1 -> 1516
B10: 091 | C10: NINTH CENTRAL | D10: 737 | E10: 1089 | F10: 1643 | G10: 1535 | H10: 1948 | I10: 1195 | K10: 091 | L10: NINTH CENTRAL | M10: 722 | N10: 1070 | O10: 1611 | P10: 1535 | Q10: 1944 | R10: 1195 | T10: =MAX(D10:I10)*$V$2+1 -> 1968.48
B11: 092 | C11: NINTH EASTERN | D11: 142 | E11: 202 | F11: 212 | G11: 227 | H11: 335 | I11: 349 | K11: 092 | L11: NINTH EASTERN | M11: 138 | N11: 194 | O11: 211 | P11: 215 | Q11: 314 | R11: 349 | T11: =MAX(D11:I11)*$V$2+1 -> 353.49
B12: 095 | C12: NINTH WESTERN | D12: 1151 | E12: 1430 | F12: 1621 | G12: 1929 | H12: 2484 | I12: 2055 | K12: 095 | L12: NINTH WESTERN | M12: 1100 | N12: 1426 | O12: 1575 | P12: 1912 | Q12: 2450 | R12: 2055 | T12: =MAX(D12:I12)*$V$2+1 -> 2509.84
B13: 113 | C13: ELEVEN NORTH | D13: 293 | E13: 349 | F13: 745 | G13: 424 | H13: 1318 | I13: 1328 | K13: 113 | L13: ELEVEN NORTH | M13: 291 | N13: 308 | O13: 707 | P13: 382 | Q13: 1094 | R13: 1328 | T13: =MAX(D13:I13)*$V$2+1 -> 1342.28
B14: 114 | C14: ELEVEN SOUTH | D14: 562 | E14: 1802 | F14: 1133 | G14: 1274 | H14: 982 | I14: 760 | K14: 114 | L14: ELEVEN SOUTH | M14: 477 | N14: 1225 | O14: 1072 | P14: 1194 | Q14: 851 | R14: 760 | T14: =MAX(D14:I14)*$V$2+1 -> 1821.02
... B17: 170 | C17: SEVENTEENTH | D17: 2 | E17: 23 | F17: 45 | G17: 27 | H17: 30 | I17: 21 | K17: 170 | L17: SEVENTEENTH | M17: 0 | N17: 18 | O17: 39 | P17: 15 | Q17: 26 | R17: 21 | T17: =MAX(D17:I17)*$V$2+1 -> 46.45
D18: 18438 | E18: 24152 | F18: 27328 | G18: 28486 | H18: 32363 | I18: 20534 | M18: 16543 | N18: 22399 | O18: 25354 | P18: 26588 | Q18: 30793 | R18: 20534 | T18: =MAX(D18:I18)*$V$2+1 -> 32687.63

Sheet Data_PE
B1: Unit # | C1: District | D1: 2021 | E1: 2022 | F1: 2023 | G1: 2024 | H1: 2025 | I1: 2026 | K1: Unit # | L1: District | M1: 2021 | N1: 2022 | O1: 2023 | P1: 2024 | Q1: 2025 | R1: 2026
B2: 013 | C2: FIRST NORTHERN | D2: 2044 | E2: 1920 | F2: 2009 | G2: 2011 | H2: 2285 | I2: 1915 | K2: 013 | L2: FIRST NORTHERN | M2: 1814 | N2: 1592 | O2: 1848 | P2: 1809 | Q2: 1945 | R2: 1915 | T2: =MAX(D2:I2)*$V$2+1 -> 2308.85 | V2: 1.01
B3: 014 | C3: FIRST SOUTHERN | D3: 1466 | E3: 2482 | F3: 2784 | G3: 3194 | H3: 4114 | I3: 3166 | K3: 014 | L3: FIRST SOUTHERN | M3: 1214 | N3: 2299 | O3: 2447 | P3: 2800 | Q3: 3789 | R3: 3166 | T3: =MAX(D3:I3)*$V$2+1 -> 4156.14
B4: 053 | C4: FIFTH NORTHERN | D4: 1269 | E4: 3059 | F4: 3404 | G4: 3477 | H4: 4079 | I4: 2429 | K4: 053 | L4: FIFTH NORTHERN | M4: 1190 | N4: 2864 | O4: 3280 | P4: 2866 | Q4: 3235 | R4: 2429 | T4: =MAX(D4:I4)*$V$2+1 -> 4120.79
B5: 054 | C5: FIFTH SOUTHERN | D5: 2999 | E5: 4952 | F5: 1815 | G5: 3345 | H5: 3108 | I5: 2852 | K5: 054 | L5: FIFTH SOUTHERN | M5: 2674 | N5: 4807 | O5: 1751 | P5: 3067 | Q5: 2936 | R5: 2852 | T5: =MAX(D5:I5)*$V$2+1 -> 5002.52
B6: 070 | C6: SEVENTH | D6: 5742 | E6: 6543 | F6: 8291 | G6: 9511 | H6: 8745 | I6: 6126 | K6: 070 | L6: SEVENTH | M6: 4439 | N6: 5559 | O6: 6793 | P6: 8128 | Q6: 7016 | R6: 6126 | T6: =MAX(D6:I6)*$V$2+1 -> 9607.11
B7: 081 | C7: EIGHTH COASTAL | D7: 746 | E7: 1220 | F7: 1402 | G7: 1591 | H7: 1660 | I7: 2841 | K7: 081 | L7: EIGHTH COASTAL | M7: 606 | N7: 1097 | O7: 1326 | P7: 1526 | Q7: 1468 | R7: 2841 | T7: =MAX(D7:I7)*$V$2+1 -> 2870.41
B8: 082 | C8: EIGHTH EASTERN | D8: 630 | E8: 1031 | F8: 668 | G8: 1222 | H8: 1767 | I8: 801 | K8: 082 | L8: EIGHTH EASTERN | M8: 562 | N8: 909 | O8: 650 | P8: 989 | Q8: 1727 | R8: 801 | T8: =MAX(D8:I8)*$V$2+1 -> 1785.67
B9: 085 | C9: EIGHTH WESTERN RIVERS | D9: 412 | E9: 1043 | F9: 998 | G9: 1612 | H9: 1238 | I9: 650 | K9: 085 | L9: EIGHTH WESTERN RIVERS | M9: 345 | N9: 970 | O9: 970 | P9: 1252 | Q9: 1230 | R9: 650 | T9: =MAX(D9:I9)*$V$2+1 -> 1629.12
B10: 091 | C10: NINTH CENTRAL | D10: 273 | E10: 511 | F10: 732 | G10: 864 | H10: 1094 | I10: 1160 | K10: 091 | L10: NINTH CENTRAL | M10: 240 | N10: 488 | O10: 702 | P10: 685 | Q10: 1081 | R10: 1160 | T10: =MAX(D10:I10)*$V$2+1 -> 1172.6
B11: 092 | C11: NINTH EASTERN | D11: 505 | E11: 679 | F11: 962 | G11: 1687 | H11: 2049 | I11: 685 | K11: 092 | L11: NINTH EASTERN | M11: 442 | N11: 623 | O11: 921 | P11: 1590 | Q11: 2024 | R11: 685 | T11: =MAX(D11:I11)*$V$2+1 -> 2070.49
B12: 095 | C12: NINTH WESTERN | D12: 874 | E12: 1068 | F12: 1578 | G12: 733 | H12: 1329 | I12: 609 | K12: 095 | L12: NINTH WESTERN | M12: 794 | N12: 1038 | O12: 1498 | P12: 680 | Q12: 1310 | R12: 609 | T12: =MAX(D12:I12)*$V$2+1 -> 1594.78
B13: 113 | C13: ELEVEN NORTH | D13: 346 | E13: 479 | F13: 2562 | G13: 3571 | H13: 2486 | I13: 2077 | K13: 113 | L13: ELEVEN NORTH | M13: 202 | N13: 392 | O13: 2409 | P13: 3485 | Q13: 2403 | R13: 2077 | T13: =MAX(D13:I13)*$V$2+1 -> 3607.71
B14: 114 | C14: ELEVEN SOUTH | D14: 403 | E14: 770 | F14: 871 | G14: 872 | H14: 1070 | I14: 851 | K14: 114 | L14: ELEVEN SOUTH | M14: 323 | N14: 611 | O14: 743 | P14: 734 | Q14: 770 | R14: 851 | T14: =MAX(D14:I14)*$V$2+1 -> 1081.7
... B17: 170 | C17: SEVENTEENTH | D17: 141 | E17: 570 | F17: 1550 | G17: 1384 | H17: 327 | I17: 51 | K17: 170 | L17: SEVENTEENTH | M17: 118 | N17: 434 | O17: 1440 | P17: 1059 | Q17: 311 | R17: 51 | T17: =MAX(D17:I17)*$V$2+1 -> 1566.5
D18: 18439 | E18: 27237 | F18: 31173 | G18: 36709 | H18: 37255 | I18: 27177 | M18: 15481 | N18: 24431 | O18: 28165 | P18: 32101 | Q18: 32971 | R18: 27177 | T18: =MAX(D18:I18)*$V$2+1 -> 37628.55

Sheet Data_MT
B1: Unit # | C1: District | D1: 2021 | E1: 2022 | F1: 2023 | G1: 2024 | H1: 2025 | I1: 2026 | K1: Unit # | L1: District | M1: 2021 | N1: 2022 | O1: 2023 | P1: 2024 | Q1: 2025 | R1: 2026
B2: 013 | C2: FIRST NORTHERN | D2: 962.56 | E2: 1094.57 | F2: 1129.86 | G2: 1046.97 | H2: 1301.66 | I2: 797.14 | K2: 013 | L2: FIRST NORTHERN | M2: 774.22 | N2: 892.57 | O2: 965.76 | P2: 972.87 | Q2: 1061.38 | R2: 797.14 | T2: =MAX(D2:I2)*$V$2+1 -> 1315.6766 | V2: 1.01
B3: 014 | C3: FIRST SOUTHERN | D3: 2512.68 | E3: 2536.18 | F3: 2686.25 | G3: 2501.5 | H3: 2413.37 | I3: 1786.34 | K3: 014 | L3: FIRST SOUTHERN | M3: 1982.79 | N3: 2059.04 | O3: 2282.09 | P3: 2116.79 | Q3: 1965.56 | R3: 1786.34 | T3: =MAX(D3:I3)*$V$2+1 -> 2714.1125
B4: 053 | C4: FIFTH NORTHERN | D4: 1310.18 | E4: 1226.52 | F4: 1365.48 | G4: 1524.41 | H4: 2001.14 | I4: 1356.61 | K4: 053 | L4: FIFTH NORTHERN | M4: 1184.93 | N4: 1034.51 | O4: 1217.23 | P4: 1283.33 | Q4: 1708.56 | R4: 1356.61 | T4: =MAX(D4:I4)*$V$2+1 -> 2022.1514
B5: 054 | C5: FIFTH SOUTHERN | D5: 1914.11 | E5: 1920.31 | F5: 2099.69 | G5: 1857.56 | H5: 2262.37 | I5: 1127.61 | K5: 054 | L5: FIFTH SOUTHERN | M5: 1667.16 | N5: 1695.26 | O5: 1855.14 | P5: 1689.38 | Q5: 1968.69 | R5: 1127.61 | T5: =MAX(D5:I5)*$V$2+1 -> 2285.9937
B6: 070 | C6: SEVENTH | D6: 3859.34 | E6: 3469.44 | F6: 3906.78 | G6: 3915.34 | H6: 3722.08 | I6: 2817.54 | K6: 070 | L6: SEVENTH | M6: 3167.82 | N6: 2875.8 | O6: 3138.96 | P6: 3378.63 | Q6: 3079.95 | R6: 2817.54 | T6: =MAX(D6:I6)*$V$2+1 -> 3955.4934
B7: 081 | C7: EIGHTH COASTAL | D7: 1104.16 | E7: 1121.97 | F7: 1311.32 | G7: 1000.09 | H7: 945.46 | I7: 571.94 | K7: 081 | L7: EIGHTH COASTAL | M7: 1004.24 | N7: 977.79 | O7: 1041.77 | P7: 871.09 | Q7: 865.81 | R7: 571.94 | T7: =MAX(D7:I7)*$V$2+1 -> 1325.4332
B8: 082 | C8: EIGHTH EASTERN | D8: 806.65 | E8: 1050.02 | F8: 929.9 | G8: 1028.64 | H8: 1103.74 | I8: 602.08 | K8: 082 | L8: EIGHTH EASTERN | M8: 708.51 | N8: 976.52 | O8: 784.67 | P8: 874.84 | Q8: 937.16 | R8: 602.08 | T8: =MAX(D8:I8)*$V$2+1 -> 1115.7774
B9: 085 | C9: EIGHTH WESTERN RIVERS | D9: 1108.18 | E9: 1071.97 | F9: 1139.69 | G9: 1147.69 | H9: 1147.25 | I9: 780.3 | K9: 085 | L9: EIGHTH WESTERN RIVERS | M9: 808.43 | N9: 1010.52 | O9: 983.31 | P9: 941.56 | Q9: 986.67 | R9: 780.3 | T9: =MAX(D9:I9)*$V$2+1 -> 1160.1669
B10: 091 | C10: NINTH CENTRAL | D10: 949.23 | E10: 763.29 | F10: 707.42 | G10: 1186.09 | H10: 990.21 | I10: 657.42 | K10: 091 | L10: NINTH CENTRAL | M10: 873.23 | N10: 671.89 | O10: 648.87 | P10: 967.54 | Q10: 823.91 | R10: 657.42 | T10: =MAX(D10:I10)*$V$2+1 -> 1198.9509
B11: 092 | C11: NINTH EASTERN | D11: 598.79 | E11: 401.26 | F11: 352.99 | G11: 298.95 | H11: 382.82 | I11: 378.03 | K11: 092 | L11: NINTH EASTERN | M11: 508.29 | N11: 371.26 | O11: 333.04 | P11: 281.45 | Q11: 367.52 | R11: 378.03 | T11: =MAX(D11:I11)*$V$2+1 -> 605.7779
B12: 095 | C12: NINTH WESTERN | D12: 1701.55 | E12: 1008.92 | F12: 1354.19 | G12: 880.68 | H12: 1338.75 | I12: 985.94 | K12: 095 | L12: NINTH WESTERN | M12: 1417.1 | N12: 796.82 | O12: 1184.34 | P12: 775.18 | Q12: 1209.83 | R12: 985.94 | T12: =MAX(D12:I12)*$V$2+1 -> 1719.5655
B13: 113 | C13: ELEVEN NORTH | D13: 1047.56 | E13: 1172.16 | F13: 1318.34 | G13: 1338.65 | H13: 1253.55 | I13: 894.46 | K13: 113 | L13: ELEVEN NORTH | M13: 818.9 | N13: 1026.24 | O13: 1105.54 | P13: 1138.77 | Q13: 1029.1 | R13: 894.46 | T13: =MAX(D13:I13)*$V$2+1 -> 1353.0365
B14: 114 | C14: ELEVEN SOUTH | D14: 1104.29 | E14: 1091.92 | F14: 1460.45 | G14: 1598.54 | H14: 1551.97 | I14: 681.17 | K14: 114 | L14: ELEVEN SOUTH | M14: 857.89 | N14: 940.92 | O14: 1140.8 | P14: 1360.77 | Q14: 1399.55 | R14: 681.17 | T14: =MAX(D14:I14)*$V$2+1 -> 1615.5254
... B17: 170 | C17: SEVENTEENTH | D17: 244.44 | E17: 264.55 | F17: 252.77 | G17: 309.42 | H17: 347.5 | I17: 120.3 | K17: 170 | L17: SEVENTEENTH | M17: 168.37 | N17: 199.55 | O17: 188.8 | P17: 253.42 | Q17: 311.5 | R17: 120.3 | T17: =MAX(D17:I17)*$V$2+1 -> 351.975
D18: 20529.92 | E18: 19445.55 | F18: 21182.44 | G18: 20805.25 | H18: 21855.99 | I18: 14330.59 | M18: 16994.33 | N18: 16595.96 | O18: 17867.63 | P18: 17885.19 | Q18: 18661.16 | R18: 14330.59 | T18: =MAX(D18:I18)*$V$2+1 -> 22075.55

Sheet Data_Misc
B1: Unit # | C1: District | D1: 2021 | E1: 2022 | F1: 2023 | G1: 2024 | H1: 2025 | I1: 2026 | K1: Unit # | L1: District | M1: 2021 | N1: 2022 | O1: 2023 | P1: 2024 | Q1: 2025 | R1: 2026
A2: AuxAir | B2: 013 | C2: FIRST NORTHERN | D2: 105.08 | E2: 307.09 | F2: 185.66 | G2: 221.24 | H2: 16.95 | I2: 20 | K2: 013 | L2: FIRST NORTHERN | M2: 96.25 | N2: 222.19 | O2: 157.18 | P2: 149.14 | Q2: 14.95 | R2: 20 | T2: =MAX(D2:I2)*$V$2+1 -> 311.1609 | V2: 1.01
B3: 014 | C3: FIRST SOUTHERN | D3: 434.22 | E3: 677.05 | F3: 439.26 | G3: 634.72 | H3: 205.65 | I3: 228.05 | K3: 014 | L3: FIRST SOUTHERN | M3: 416.92 | N3: 532.75 | O3: 302.11 | P3: 454.37 | Q3: 177.55 | R3: 228.05 | T3: =MAX(D3:I3)*$V$2+1 -> 684.8205
B4: 053 | C4: FIFTH NORTHERN | D4: 0 | E4: 0 | F4: 0 | G4: 0 | H4: 72.5 | I4: 73.3 | K4: 053 | L4: FIFTH NORTHERN | M4: 0 | N4: 0 | O4: 0 | P4: 0 | Q4: 70.5 | R4: 73.3 | T4: =MAX(D4:I4)*$V$2+1 -> 75.033
B5: 054 | C5: FIFTH SOUTHERN | D5: 350.07 | E5: 264.11 | F5: 327.6 | G5: 335.44 | H5: 213.21 | I5: 144.36 | K5: 054 | L5: FIFTH SOUTHERN | M5: 316.92 | N5: 185.31 | O5: 243.73 | P5: 250.71 | Q5: 199.52 | R5: 144.36 | T5: =MAX(D5:I5)*$V$2+1 -> 354.5707
B6: 070 | C6: SEVENTH | D6: 1184.7 | E6: 1065.27 | F6: 1104.42 | G6: 843.47 | H6: 615.85 | I6: 567.23 | K6: 070 | L6: SEVENTH | M6: 981.78 | N6: 832.39 | O6: 980.08 | P6: 643.98 | Q6: 541.92 | R6: 567.23 | T6: =MAX(D6:I6)*$V$2+1 -> 1197.547
B7: 081 | C7: EIGHTH COASTAL | D7: 412.72 | E7: 242.24 | F7: 255.31 | G7: 222.21 | H7: 210.76 | I7: 128.24 | K7: 081 | L7: EIGHTH COASTAL | M7: 375.3 | N7: 198.34 | O7: 226.11 | P7: 160.78 | Q7: 168.3 | R7: 128.24 | T7: =MAX(D7:I7)*$V$2+1 -> 417.8472
B8: 082 | C8: EIGHTH EASTERN | D8: 6.3 | E8: 12.3 | F8: 12 | G8: 23.3 | H8: 23.88 | I8: 10.69 | K8: 082 | L8: EIGHTH EASTERN | M8: 6.3 | N8: 0 | O8: 12 | P8: 19.3 | Q8: 23.88 | R8: 10.69 | T8: =MAX(D8:I8)*$V$2+1 -> 25.1188
B9: 085 | C9: EIGHTH WESTERN RIVERS | D9: 75.8 | E9: 29.7 | F9: 46.4 | G9: 20.59 | H9: 65.55 | I9: 45.2 | K9: 085 | L9: EIGHTH WESTERN RIVERS | M9: 71.8 | N9: 19.7 | O9: 46.4 | P9: 20.59 | Q9: 65.55 | R9: 45.2 | T9: =MAX(D9:I9)*$V$2+1 -> 77.558
B10: 091 | C10: NINTH CENTRAL | D10: 646.12 | E10: 474.58 | F10: 454.83 | G10: 372.72 | H10: 266.13 | I10: 200.1 | K10: 091 | L10: NINTH CENTRAL | M10: 646.12 | N10: 408.13 | O10: 434.49 | P10: 344.32 | Q10: 248.28 | R10: 200.1 | T10: =MAX(D10:I10)*$V$2+1 -> 653.5812
B11: 092 | C11: NINTH EASTERN | D11: 263.18 | E11: 91.37 | F11: 203.68 | G11: 251.56 | H11: 213.79 | I11: 123.72 | K11: 092 | L11: NINTH EASTERN | M11: 257.18 | N11: 70.89 | O11: 201.88 | P11: 221.02 | Q11: 213.79 | R11: 123.72 | T11: =MAX(D11:I11)*$V$2+1 -> 266.8118
B12: 095 | C12: NINTH WESTERN | D12: 156.2 | E12: 134.08 | F12: 77.4 | G12: 142.61 | H12: 110.25 | I12: 51.76 | K12: 095 | L12: NINTH WESTERN | M12: 152.2 | N12: 112.58 | O12: 71.4 | P12: 123.11 | Q12: 110.25 | R12: 51.76 | T12: =MAX(D12:I12)*$V$2+1 -> 158.762
B13: 113 | C13: ELEVEN NORTH | D13: 193.16 | E13: 187.46 | F13: 201.81 | G13: 283.74 | H13: 314.42 | I13: 170.93 | K13: 113 | L13: ELEVEN NORTH | M13: 189.42 | N13: 155.84 | O13: 173.49 | P13: 233.5 | Q13: 293.44 | R13: 170.93 | T13: =MAX(D13:I13)*$V$2+1 -> 318.5642
B14: 114 | C14: ELEVEN SOUTH | D14: 0 | E14: 0 | F14: 0 | G14: 0 | H14: 0 | I14: 0 | K14: 114 | L14: ELEVEN SOUTH | M14: 0 | N14: 0 | O14: 0 | P14: 0 | Q14: 0 | R14: 0 | T14: =MAX(D14:I14)*$V$2+1 -> 1
... B17: 170 | C17: SEVENTEENTH | D17: 0 | E17: 0 | F17: 0 | G17: 0 | H17: 0 | I17: 0 | K17: 170 | L17: SEVENTEENTH | M17: 0 | N17: 0 | O17: 0 | P17: 0 | Q17: 0 | R17: 0 | T17: =MAX(D17:I17)*$V$2+1 -> 1
D18: 4223.68 | E18: 3767.05 | F18: 3570.5 | G18: 3621.6 | H18: 2510.74 | I18: 1831.68 | M18: 3852.52 | N18: 2972.02 | O18: 3058.8 | P18: 2816.42 | Q18: 2306.33 | R18: 1831.68 | T18: =MAX(D18:I18)*$V$2+1 -> 4266.9168
B21: Unit # | C21: District | D21: 2021 | E21: 2022 | F21: 2023 | G21: 2024 | H21: 2025 | I21: 2026 | K21: Unit # | L21: District | M21: 2021 | N21: 2022 | O21: 2023 | P21: 2024 | Q21: 2025 | R21: 2026
A22: Navaids | B22: 013 | C22: FIRST NORTHERN | D22: 663 | E22: 586 | F22: 566 | G22: 573 | H22: 784 | I22: 472 | K22: 013 | L22: FIRST NORTHERN | M22: 589 | N22: 493 | O22: 529 | P22: 542 | Q22: 758 | R22: 472 | T22: =MAX(D22:I22)*$V$2+1 -> 792.84
B23: 014 | C23: FIRST SOUTHERN | D23: 894 | E23: 763 | F23: 916 | G23: 1034 | H23: 720 | I23: 717 | K23: 014 | L23: FIRST SOUTHERN | M23: 880 | N23: 728 | O23: 898 | P23: 982 | Q23: 678 | R23: 717 | T23: =MAX(D23:I23)*$V$2+1 -> 1045.34
B24: 053 | C24: FIFTH NORTHERN | D24: 137 | E24: 181 | F24: 186 | G24: 119 | H24: 178 | I24: 140 | K24: 053 | L24: FIFTH NORTHERN | M24: 114 | N24: 166 | O24: 177 | P24: 119 | Q24: 178 | R24: 140 | T24: =MAX(D24:I24)*$V$2+1 -> 188.86
B25: 054 | C25: FIFTH SOUTHERN | D25: 1040 | E25: 991 | F25: 527 | G25: 598 | H25: 392 | I25: 425 | K25: 054 | L25: FIFTH SOUTHERN | M25: 986 | N25: 565 | O25: 478 | P25: 459 | Q25: 354 | R25: 425 | T25: =MAX(D25:I25)*$V$2+1 -> 1051.4
B26: 070 | C26: SEVENTH | D26: 1005 | E26: 383 | F26: 439 | G26: 932 | H26: 369 | I26: 1311 | K26: 070 | L26: SEVENTH | M26: 992 | N26: 300 | O26: 321 | P26: 637 | Q26: 268 | R26: 1311 | T26: =MAX(D26:I26)*$V$2+1 -> 1325.11
B27: 081 | C27: EIGHTH COASTAL | D27: 246 | E27: 516 | F27: 561 | G27: 226 | H27: 76 | I27: 238 | K27: 081 | L27: EIGHTH COASTAL | M27: 214 | N27: 422 | O27: 551 | P27: 211 | Q27: 63 | R27: 238 | T27: =MAX(D27:I27)*$V$2+1 -> 567.61
B28: 082 | C28: EIGHTH EASTERN | D28: 234 | E28: 497 | F28: 818 | G28: 1296 | H28: 1097 | I28: 961 | K28: 082 | L28: EIGHTH EASTERN | M28: 172 | N28: 440 | O28: 768 | P28: 1079 | Q28: 1035 | R28: 961 | T28: =MAX(D28:I28)*$V$2+1 -> 1309.96
B29: 085 | C29: EIGHTH WESTERN RIVERS | D29: 145 | E29: 173 | F29: 213 | G29: 114 | H29: 110 | I29: 66 | K29: 085 | L29: EIGHTH WESTERN RIVERS | M29: 136 | N29: 155 | O29: 195 | P29: 99 | Q29: 75 | R29: 66 | T29: =MAX(D29:I29)*$V$2+1 -> 216.13
B30: 091 | C30: NINTH CENTRAL | D30: 423 | E30: 451 | F30: 224 | G30: 260 | H30: 55 | I30: 116 | K30: 091 | L30: NINTH CENTRAL | M30: 393 | N30: 451 | O30: 224 | P30: 260 | Q30: 55 | R30: 116 | T30: =MAX(D30:I30)*$V$2+1 -> 456.51
B31: 092 | C31: NINTH EASTERN | D31: 71 | E31: 114 | F31: 447 | G31: 331 | H31: 48 | I31: 103 | K31: 092 | L31: NINTH EASTERN | M31: 58 | N31: 109 | O31: 438 | P31: 331 | Q31: 48 | R31: 103 | T31: =MAX(D31:I31)*$V$2+1 -> 452.47
B32: 095 | C32: NINTH WESTERN | D32: 350 | E32: 247 | F32: 264 | G32: 320 | H32: 213 | I32: 385 | K32: 095 | L32: NINTH WESTERN | M32: 328 | N32: 243 | O32: 254 | P32: 254 | Q32: 212 | R32: 385 | T32: =MAX(D32:I32)*$V$2+1 -> 389.85
B33: 113 | C33: ELEVEN NORTH | D33: 760 | E33: 495 | F33: 625 | G33: 624 | H33: 636 | I33: 482 | K33: 113 | L33: ELEVEN NORTH | M33: 750 | N33: 457 | O33: 575 | P33: 583 | Q33: 606 | R33: 482 | T33: =MAX(D33:I33)*$V$2+1 -> 768.6
B34: 114 | C34: ELEVEN SOUTH | D34: 263 | E34: 327 | F34: 514 | G34: 842 | H34: 789 | I34: 596 | K34: 114 | L34: ELEVEN SOUTH | M34: 222 | N34: 305 | O34: 449 | P34: 607 | Q34: 770 | R34: 596 | T34: =MAX(D34:I34)*$V$2+1 -> 851.42
... B37: 170 | C37: SEVENTEENTH | D37: 0 | E37: 3 | F37: 0 | G37: 37 | H37: 1 | I37: 0 | K37: 170 | L37: SEVENTEENTH | M37: 0 | N37: 0 | O37: 0 | P37: 37 | Q37: 1 | R37: 0 | T37: =MAX(D37:I37)*$V$2+1 -> 38.37
D38: 6416 | E38: 5916 | F38: 6542 | G38: 7560 | H38: 5701 | I38: 6147 | M38: 5957 | N38: 4943 | O38: 5958 | P38: 6342 | Q38: 5265 | R38: 6147 | T38: =MAX(D38:I38)*$V$2+1 -> 7636.6
B41: Unit # | C41: District | D41: 2021 | E41: 2022 | F41: 2023 | G41: 2024 | H41: 2025 | I41: 2026 | K41: Unit # | L41: District | M41: 2021 | N41: 2022 | O41: 2023 | P41: 2024 | Q41: 2025 | R41: 2026
A42: Marine Safety | B42: 013 | C42: FIRST NORTHERN | D42: 1104.26 | E42: 885.94 | F42: 1100.82 | G42: 1881.77 | H42: 1877.33 | I42: 1126.43 | K42: 013 | L42: FIRST NORTHERN | M42: 689.79 | N42: 747.69 | O42: 895.42 | P42: 1559.42 | Q42: 1461.33 | R42: 1126.43 | T42: =MAX(D42:I42)*$V$2+1 -> 1901.5877
B43: 014 | C43: FIRST SOUTHERN | D43: 3635.05 | E43: 2067.55 | F43: 2987.16 | G43: 2476.43 | H43: 3304.1 | I43: 2001.5 | K43: 014 | L43: FIRST SOUTHERN | M43: 2812.15 | N43: 1752.9 | O43: 2573.63 | P43: 2170.85 | Q43: 2709.9 | R43: 2001.5 | T43: =MAX(D43:I43)*$V$2+1 -> 3672.4005
B44: 053 | C44: FIFTH NORTHERN | D44: 2563.73 | E44: 2635.57 | F44: 2897.14 | G44: 1808.1 | H44: 3072.36 | I44: 1841.01 | K44: 053 | L44: FIFTH NORTHERN | M44: 2246.88 | N44: 2246.18 | O44: 2354.6 | P44: 1391.83 | Q44: 1827.28 | R44: 1841.01 | T44: =MAX(D44:I44)*$V$2+1 -> 3104.0836
B45: 054 | C45: FIFTH SOUTHERN | D45: 5706.89 | E45: 4871.91 | F45: 3240.85 | G45: 3523.29 | H45: 2239.19 | I45: 1640.85 | K45: 054 | L45: FIFTH SOUTHERN | M45: 4928.29 | N45: 4375.31 | O45: 2774.7 | P45: 2838.18 | Q45: 1828.11 | R45: 1640.85 | T45: =MAX(D45:I45)*$V$2+1 -> 5764.9589
B46: 070 | C46: SEVENTH | D46: 10492.44 | E46: 13279.13 | F46: 10591.08 | G46: 9259.68 | H46: 6314.74 | I46: 3876.15 | K46: 070 | L46: SEVENTH | M46: 8306.56 | N46: 10966.96 | O46: 8421.59 | P46: 7739.16 | Q46: 5202.7 | R46: 3876.15 | T46: =MAX(D46:I46)*$V$2+1 -> 13412.921
B47: 081 | C47: EIGHTH COASTAL | D47: 5098 | E47: 5267.61 | F47: 6617.33 | G47: 4393.92 | H47: 3432.94 | I47: 1523.48 | K47: 081 | L47: EIGHTH COASTAL | M47: 4122.6 | N47: 3970.49 | O47: 5136.08 | P47: 3782.63 | Q47: 3132.52 | R47: 1523.48 | T47: =MAX(D47:I47)*$V$2+1 -> 6684.5033
B48: 082 | C48: EIGHTH EASTERN | D48: 1997.77 | E48: 2256.8 | F48: 2146.3 | G48: 2083.98 | H48: 2702.76 | I48: 1249.4 | K48: 082 | L48: EIGHTH EASTERN | M48: 1595.75 | N48: 1748.91 | O48: 1705.5 | P48: 1481.24 | Q48: 1591.51 | R48: 1249.4 | T48: =MAX(D48:I48)*$V$2+1 -> 2730.7876
...

Sheet Data_Facilities
A1: AIRCRAFT FACILITIES | B1: Unit # | C1: District | D1: 2021 | E1: 2022 | F1: 2023 | G1: 2024 | H1: 2025 | I1: 2026
B2: 013 | C2: NORTHEAST NORTHERN | D2: 7 | E2: 8 | F2: 8 | G2: 5 | H2: 3 | I2: 4
B3: 014 | C3: NORTHEAST SOUTHERN | D3: 22 | E3: 18 | F3: 17 | G3: 14 | H3: 14 | I3: 10
B4: 053 | C4: EAST NORTHERN | D4: 2 | E4: 0 | F4: 0 | G4: 0 | H4: 1 | I4: 2
B5: 054 | C5: EAST SOUTHERN | D5: 9 | E5: 7 | F5: 8 | G5: 8 | H5: 6 | I5: 6
B6: 070 | C6: SOUTHEAST | D6: 32 | E6: 32 | F6: 33 | G6: 34 | H6: 29 | I6: 27
B7: 081 | C7: HEARTLAND COASTAL | D7: 10 | E7: 5 | F7: 5 | G7: 6 | H7: 9 | I7: 6
B8: 082 | C8: HEARTLAND EASTERN | D8: 4 | E8: 1 | F8: 2 | G8: 3 | H8: 0 | I8: 3
B9: 085 | C9: HEARTLAND WESTERN RIVERS | D9: 3 | E9: 9 | F9: 2 | G9: 6 | H9: 6 | I9: 4
B10: 091 | C10: GREAT LAKES CENTRAL | D10: 10 | E10: 11 | F10: 9 | G10: 9 | H10: 7 | I10: 10
B11: 092 | C11: GREAT LAKES EASTERN | D11: 8 | E11: 5 | F11: 7 | G11: 6 | H11: 5 | I11: 6
B12: 095 | C12: GREAT LAKES WESTERN | D12: 6 | E12: 6 | F12: 4 | G12: 4 | H12: 7 | I12: 5
B13: 113 | C13: SOUTHWEST NORTHERN | D13: 9 | E13: 6 | F13: 4 | G13: 5 | H13: 7 | I13: 6
... B17: 170 | C17: ARCTIC | D17: 0 | E17: 0 | F17: 0 | G17: 0 | H17: 0 | I17: 0
C18: ALL AUXILIARY | D18: 129 | E18: 114 | F18: 104 | G18: 105 | H18: 97 | I18: 92
A21: BOAT FACILITIES | B21: Unit # | C21: District | D21: 2021 | E21: 2022 | F21: 2023 | G21: 2024 | H21: 2025 | I21: 2026
B22: 013 | C22: NORTHEAST NORTHERN | D22: 69 | E22: 58 | F22: 54 | G22: 53 | H22: 61 | I22: 58
B23: 014 | C23: NORTHEAST SOUTHERN | D23: 90 | E23: 88 | F23: 80 | G23: 65 | H23: 65 | I23: 73
B24: 053 | C24: EAST NORTHERN | D24: 56 | E24: 52 | F24: 49 | G24: 44 | H24: 42 | I24: 39
B25: 054 | C25: EAST SOUTHERN | D25: 144 | E25: 118 | F25: 123 | G25: 111 | H25: 98 | I25: 100
B26: 070 | C26: SOUTHEAST | D26: 140 | E26: 114 | F26: 120 | G26: 116 | H26: 113 | I26: 108
B27: 081 | C27: HEARTLAND COASTAL | D27: 72 | E27: 57 | F27: 61 | G27: 53 | H27: 45 | I27: 47
B28: 082 | C28: HEARTLAND EASTERN | D28: 52 | E28: 48 | F28: 48 | G28: 42 | H28: 45 | I28: 42
B29: 085 | C29: HEARTLAND WESTERN RIVERS | D29: 49 | E29: 51 | F29: 49 | G29: 39 | H29: 35 | I29: 36
B30: 091 | C30: GREAT LAKES CENTRAL | D30: 39 | E30: 38 | F30: 39 | G30: 38 | H30: 38 | I30: 43
B31: 092 | C31: GREAT LAKES EASTERN | D31: 23 | E31: 19 | F31: 24 | G31: 25 | H31: 20 | I31: 27
B32: 095 | C32: GREAT LAKES WESTERN | D32: 40 | E32: 36 | F32: 27 | G32: 28 | H32: 23 | I32: 22
B33: 113 | C33: SOUTHWEST NORTHERN | D33: 54 | E33: 47 | F33: 45 | G33: 31 | H33: 28 | I33: 27
... B37: 170 | C37: ARCTIC | D37: 15 | E37: 9 | F37: 9 | G37: 5 | H37: 9 | I37: 7
C38: ALL AUXILIARY | D38: 932 | E38: 812 | F38: 807 | G38: 722 | H38: 696 | I38: 701
A41: RADIO FACILITIES | B41: Unit # | C41: District | D41: 2021 | E41: 2022 | F41: 2023 | G41: 2024 | H41: 2025 | I41: 2026
B42: 013 | C42: NORTHEAST NORTHERN | D42: 36 | E42: 29 | F42: 33 | G42: 33 | H42: 29 | I42: 30
B43: 014 | C43: NORTHEAST SOUTHERN | D43: 70 | E43: 54 | F43: 48 | G43: 39 | H43: 36 | I43: 40
B44: 053 | C44: EAST NORTHERN | D44: 102 | E44: 82 | F44: 82 | G44: 66 | H44: 35 | I44: 31
B45: 054 | C45: EAST SOUTHERN | D45: 66 | E45: 50 | F45: 36 | G45: 42 | H45: 38 | I45: 44
B46: 070 | C46: SOUTHEAST | D46: 163 | E46: 128 | F46: 137 | G46: 118 | H46: 126 | I46: 114
B47: 081 | C47: HEARTLAND COASTAL | D47: 23 | E47: 17 | F47: 17 | G47: 27 | H47: 23 | I47: 24
B48: 082 | C48: HEARTLAND EASTERN | D48: 21 | E48: 12 | F48: 21 | G48: 31 | H48: 33 | I48: 30
B49: 085 | C49: HEARTLAND WESTERN RIVERS | D49: 29 | E49: 33 | F49: 34 | G49: 20 | H49: 13 | I49: 9
B50: 091 | C50: GREAT LAKES CENTRAL | D50: 35 | E50: 31 | F50: 40 | G50: 30 | H50: 26 | I50: 29
...

Sheet Data_Newbs
B1: Unit # | C1: District | D1: 2021 | E1: 2022 | F1: 2023 | G1: 2024 | H1: 2025 | I1: 2026 | K1: Unit # | L1: District | M1: 2021 | N1: 2022 | O1: 2023 | P1: 2024 | Q1: 2025 | R1: 2026
B2: 013 | C2: NORTHEAST DISTRICT - NORTHERN REGION | D2: 132 | E2: 133 | F2: 127 | G2: 136 | H2: 122 | I2: 87 | K2: 013 | L2: NORTHEAST DISTRICT - NORTHERN REGION | M2: 96 | N2: 96 | O2: 101 | P2: 94 | Q2: 107 | R2: 87 | T2: =MAX(Data_Newbs!D2:'Data_Newbs'!I2, Data_Misc!D262:'Data_Misc'!I262)*Data_Newbs!$V$2+1 -> 138.36 | V2: 1.01
